Workbook

Sheet Instructions
A1: MONTHLY REIMBURSEMENT CLAIM INSTRUCTIONS
A4: ENTER INFORMATION IN YELLOW CELLS ONLY
A5: Please do not make any changes to the workbook. Submit it as it is.
A7: 1. | B7: The Invoice Sheet (linked to EXP Summary Sheet):
A8: ● | B8: Enter your Organization Name, Contract Number, Contract Year, Invoice Number, Period From
B9: and To in the appropriate fields. Note: invoice numbers must be unique and cannot have been
B10: used previously.
A11: ● | B11: Enter your Budgets and Expenditures in the appropriate columns for each classification.
A12: ● | B12: Section A (S&B): Work Experience column should be used for activities that support WEX.
A13: ● | B13: Section O (W&B) - 100% to Work Experience.
A14: ● | B14: Enter your adjustment items in the Adjustments block.
A15: ● | B15: Enter your accrual repayment on the Accrual Repayment field.
A16: ● | B16: Print & sign your name with BLUE INK, and submit to WDD by the 10th of each month.
A17: ● | B17: Do not type manually in EXP Summary Sheet! It will autofill from the invoice and monthly
B18: tracking sheets. Please submit EXP Summary sheet with your invoice sheet.
A20: 2. | B20: The Monthly Tracking:
A21: ● | B21: Enter all yellow highlighted fields for the appropriate month. This sheet is the tool to calculate
B22: year-to-date information on the EXP Summary Sheet.
A23: ● | B23: Keep this sheet for your own reference - not required to be submitted with your claims.
A25: 3. | B25: Payroll Summary Sheet:
A26: ● | B26: Please enter all the program related employees' salary or hourly paid information clearly.
A27: ● | B27: Submit this sheet with all your program claims, as necessary.
A29: 4. | B29: Other Forms:
A30: ● | B30: Submit any other forms if needed.
B31: (Example: Accrual, Inventory, or Supportive Services forms)
A33: 5. | B33: Supporting Documents:
A34: ● | B34: Highlight all the dollar amounts you are requesting for reimbursement on the receipts or invoices.
A35: ● | B35: Separate with color paper and label each section by it's classification - A, B, C, D, etc.
A36: ● | B36: Complete a calculator tape run on each expenditure classification showing the breakdown.
A37: ● | B37: Attach the calculator tape run to each section cover page, with tape.
A38: ● | B38: Attach the supporting documents (including invoices, receipts, etc.) to each section in the same
B39: order as your calculator tape. If the supporting document is insufficient or missing,
B40: the claim may be disallowed, delayed or returned.
A41: ● | B41: Copy of General Ledger showing costs that are being claimed.
A43: 6. | B43: Please submit a zero invoice if you have no claims for that month.
A45: 7. | B45: Customer Information
A46: ● | B46: Provide customer information on the enrollment information tab. This will be an ongoing list of enrollees (those provided with program elements) throughout the duration of the program year. ** Therefore, keep adding to the list with each successive month. **

Sheet Invoice
A1: WIOA MONTHLY EXPENDITURE CLAIM
A2: REIMBURSEMENT INVOICE
B4: CONTRACTOR NAME | C4: Ajax Corp | J4: Invoice Number: | K4: 500
B5: CONTRACT # | C5: XX | J5: (INVOICE DATE) / Period From: | K5: 45566
B6: CONTRACT YEAR | C6: 2024 - 2025 | J6: Period To: | K6: 45596
A7: EXPENDITURE CLASSIFICATION | E7: PLANNING ESTIMATE | G7: CURRENT MONTHLY EXPENDITURES
E8: ADMIN | F8: PROGRAM | G8: ADMIN | H8: WORK EXPERIENCE | I8: PROGRAM | J8: IN SCHOOL | K8: TOTAL
A9: A | B9: Staff Salaries and Benefits | K9: =SUM(G9:J9) -> 0
A10: B | B10: Staff Travel/Training/Meetings | K10: =SUM(G10:J10) -> 0
A11: C | B11: Office Supplies/Postage | K11: =SUM(G11:J11) -> 0
A12: D | B12: Telephone /Internet | K12: =SUM(G12:J12) -> 0
A13: E | B13: Rent | K13: =SUM(G13:J13) -> 0
A14: F | B14: Utilities | K14: =SUM(G14:J14) -> 0
A15: G | B15: Insurance | K15: =SUM(G15:J15) -> 0
A16: H | B16: Acctg, Audit or Annual Statements | K16: =SUM(G16:J16) -> 0
A17: I | B17: Equipment Purchases | K17: =SUM(G17:J17) -> 0
A18: J | B18: Equipment Rent/Lease | K18: =SUM(G18:J18) -> 0
A19: K | B19: Equipment Maintenance | K19: =SUM(G19:J19) -> 0
A20: L | B20: Printing, Reproduction (Instruction Mtrl) | K20: =SUM(G20:J20) -> 0
... A31: V | B31: Prepaid Cards - Not Reimbursable | K31: =SUM(G31:J31) -> 0
D33: TOTAL EXPENDITURES | E33: =SUM(E9:E30) -> 0 | F33: =SUM(F9:F30) -> 0 | G33: =SUM(G9:G30) -> 0 | H33: =SUM(H9:H30) -> 0 | I33: =SUM(I9:I30) -> 0 | J33: =SUM(J9:J30) -> 0 | K33: =SUM(K9:K30) -> 0
B35: ADJUSTMENTS (Please Specify below):
G36: 0 | H36: 0 | I36: 0 | J36: 0 | K36: =SUM(G36:J36) -> 0
G39: Less: | J39: Program Income | K39: =SUM('EXP Summary'!G34:I34) -> 0
G40: Less: | J40: Prev Month Accrual Reversal
G41: Add: | J41: Requested Monthly Accrual | K41: =+Accrual!H33 -> 0
I43: Net Reimbursable Amount | K43: =SUM(K33:K36)-K39-K40+IF(K41>0,+K41,K41*-1) -> 0
A45: NOTE:
A46: ● | B46: SUBCONTRACTS MUST BE PRE-APPROVED BY WDD PROGRAM ANALYSTS
A47: ● | B47: ANY PURCHASES OR LEASES OVER $500 MUST HAVE PRIOR APPROVAL FROM WDD PROGRAM ANALYSTS
A48: ● | B48: ADMIN EXPENSES MUST BE LESS THAN 8%
A50: By signing this report, I certify to the best of my knowledge and belief that the report is true, complete, and accurate and the expenditures, disbursements and cash receipts are for the purposes and objectives set forth in the terms and conditions of the Federal award. I am aware that any false, fictitious, or fraudulent information, or the omission of any material fact, may subject me to criminal, civil or administrative penalties for fraud, false statements, false claims or otherwise (U.S. Code Title 18, Section 1001 and Title 31, Sections 3729-3730 and 3801-3912.
A54: Prepared By (Print & Sign) | H54: PHONE | J54: DATE
H55: 909.555.1233 | J55: 43322
B56: JANE DOE, Program Coordinator | G56: EMAIL
A57: Approved By (Print & Sign) | H57: PHONE | J57: DATE
H58: 909.555.1234 | J58: 43322
B59: SUSAN Q, Student Services Director | G59: EMAIL
C61: SUBMIT INVOICE TO: | D61: County of San Bernardin, WDD - Fiscal Unit
D62: 290 North D Street 6TH Floor, San Bernardino, CA 92415-0046
...

Sheet Monthly Tracking
A1: WIOA MONTHLY EXPENDITURE CLAIM
A2: MONTHLY TRACKING
B4: CONTRACTOR NAME | C4: =+Invoice!C4 -> Ajax Corp
B5: CONTRACT # | C5: =+Invoice!C5 -> XX | H5: PERIOD ENDING: | I5: =+Invoice!K6 -> 45596
B6: CONTRACT YEAR | C6: =+Invoice!C6 -> 2024 - 2025
E7: Budget | G7: YTD Expenditure | L7: 45474 | P7: 45505 | T7: 45536 | X7: 45566 | AB7: 45597 | AF7: 45627 | AJ7: 45658 | AN7: 45689 | AR7: 45717 | AV7: 45748 | AZ7: 45778 | BD7: 45809 | BH7: 45474
A8: EXPENDITURE CLASSIFICATION | E8: Admin | F8: Program | G8: ADMIN | H8: WORK EXPERIENCE | I8: PROG | J8: IN SCHOOL | K8: TOTAL | L8: ADMIN | M8: WORK EXPERIENCE | N8: PROG | O8: IN SCHOOL | P8: ADMIN | Q8: WORK EXPERIENCE | R8: PROG | S8: IN SCHOOL | T8: ADMIN | U8: WORK EXPERIENCE | V8: PROG | W8: IN SCHOOL | X8: ADMIN | Y8: WORK EXPERIENCE | Z8: PROG | AA8: IN SCHOOL | AB8: ADMIN | AC8: WORK EXPERIENCE | AD8: PROG | AE8: IN SCHOOL | AF8: ADMIN | AG8: WORK EXPERIENCE | AH8: PROG | AI8: IN SCHOOL | AJ8: ADMIN | AK8: WORK EXPERIENCE | AL8: PROG | AM8: IN SCHOOL | AN8: ADMIN | AO8: WORK EXPERIENCE | AP8: PROG | AQ8: IN SCHOOL | AR8: ADMIN | AS8: WORK EXPERIENCE | AT8: PROG | AU8: IN SCHOOL | AV8: ADMIN | AW8: WORK EXPERIENCE | AX8: PROG | AY8: IN SCHOOL | AZ8: ADMIN | BA8: WORK EXPERIENCE | BB8: PROG | BC8: IN SCHOOL | BD8: ADMIN | BE8: WORK EXPERIENCE | BF8: PROG | BG8: IN SCHOOL | BH8: ADMIN | BI8: WORK EXPERIENCE | BJ8: PROG | BK8: IN SCHOOL
A9: A. | B9: Staff Salaries and Benefits | E9: =+Invoice!E9 -> 0 | F9: =+Invoice!F9 -> 0 | G9: =SUM(L9,P9,T9,X9,AB9,AF9,AJ9,AN9,AR9,AV9,AZ9,BD9,BH9) -> 0 | H9: =SUM(M9,Q9,U9,Y9,AC9,AG9,AK9,AO9,AS9,BA9,AW9,BE9,BI9) -> 0 | I9: =SUM(N9,R9,V9,Z9,AD9,AH9,AL9,AP9,AT9,AX9,BB9,BF9,BJ9) -> 0 | J9: =SUM(O9,S9,W9,AA9,AE9,AI9,AM9,AQ9,AU9,AY9,BC9,BG9,BK9) -> 0 | K9: =SUM(G9:J9) -> 0
A10: B. | B10: Staff Travel/Training/Meetings | E10: =+Invoice!E10 -> 0 | F10: =+Invoice!F10 -> 0 | G10: =SUM(L10,P10,T10,X10,AB10,AF10,AJ10,AN10,AR10,AV10,AZ10,BD10,BH10) -> 0 | H10: =SUM(M10,Q10,U10,Y10,AC10,AG10,AK10,AO10,AS10,BA10,AW10,BE10,BI10) -> 0 | I10: =SUM(N10,R10,V10,Z10,AD10,AH10,AL10,AP10,AT10,AX10,BB10,BF10,BJ10) -> 0 | J10: =SUM(O10,S10,W10,AA10,AE10,AI10,AM10,AQ10,AU10,AY10,BC10,BG10,BK10) -> 0 | K10: =SUM(G10:J10) -> 0
A11: C. | B11: Office Supplies/Postage | E11: =+Invoice!E11 -> 0 | F11: =+Invoice!F11 -> 0 | G11: =SUM(L11,P11,T11,X11,AB11,AF11,AJ11,AN11,AR11,AV11,AZ11,BD11,BH11) -> 0 | H11: =SUM(M11,Q11,U11,Y11,AC11,AG11,AK11,AO11,AS11,BA11,AW11,BE11,BI11) -> 0 | I11: =SUM(N11,R11,V11,Z11,AD11,AH11,AL11,AP11,AT11,AX11,BB11,BF11,BJ11) -> 0 | J11: =SUM(O11,S11,W11,AA11,AE11,AI11,AM11,AQ11,AU11,AY11,BC11,BG11,BK11) -> 0 | K11: =SUM(G11:J11) -> 0
A12: D. | B12: Telephone /Internet | E12: =+Invoice!E12 -> 0 | F12: =+Invoice!F12 -> 0 | G12: =SUM(L12,P12,T12,X12,AB12,AF12,AJ12,AN12,AR12,AV12,AZ12,BD12,BH12) -> 0 | H12: =SUM(M12,Q12,U12,Y12,AC12,AG12,AK12,AO12,AS12,BA12,AW12,BE12,BI12) -> 0 | I12: =SUM(N12,R12,V12,Z12,AD12,AH12,AL12,AP12,AT12,AX12,BB12,BF12,BJ12) -> 0 | J12: =SUM(O12,S12,W12,AA12,AE12,AI12,AM12,AQ12,AU12,AY12,BC12,BG12,BK12) -> 0 | K12: =SUM(G12:J12) -> 0
A13: E. | B13: Rent | E13: =+Invoice!E13 -> 0 | F13: =+Invoice!F13 -> 0 | G13: =SUM(L13,P13,T13,X13,AB13,AF13,AJ13,AN13,AR13,AV13,AZ13,BD13,BH13) -> 0 | H13: =SUM(M13,Q13,U13,Y13,AC13,AG13,AK13,AO13,AS13,BA13,AW13,BE13,BI13) -> 0 | I13: =SUM(N13,R13,V13,Z13,AD13,AH13,AL13,AP13,AT13,AX13,BB13,BF13,BJ13) -> 0 | J13: =SUM(O13,S13,W13,AA13,AE13,AI13,AM13,AQ13,AU13,AY13,BC13,BG13,BK13) -> 0 | K13: =SUM(G13:J13) -> 0
A14: F. | B14: Utilities | E14: =+Invoice!E14 -> 0 | F14: =+Invoice!F14 -> 0 | G14: =SUM(L14,P14,T14,X14,AB14,AF14,AJ14,AN14,AR14,AV14,AZ14,BD14,BH14) -> 0 | H14: =SUM(M14,Q14,U14,Y14,AC14,AG14,AK14,AO14,AS14,BA14,AW14,BE14,BI14) -> 0 | I14: =SUM(N14,R14,V14,Z14,AD14,AH14,AL14,AP14,AT14,AX14,BB14,BF14,BJ14) -> 0 | J14: =SUM(O14,S14,W14,AA14,AE14,AI14,AM14,AQ14,AU14,AY14,BC14,BG14,BK14) -> 0 | K14: =SUM(G14:J14) -> 0
A15: G. | B15: Insurance | E15: =+Invoice!E15 -> 0 | F15: =+Invoice!F15 -> 0 | G15: =SUM(L15,P15,T15,X15,AB15,AF15,AJ15,AN15,AR15,AV15,AZ15,BD15,BH15) -> 0 | H15: =SUM(M15,Q15,U15,Y15,AC15,AG15,AK15,AO15,AS15,BA15,AW15,BE15,BI15) -> 0 | I15: =SUM(N15,R15,V15,Z15,AD15,AH15,AL15,AP15,AT15,AX15,BB15,BF15,BJ15) -> 0 | J15: =SUM(O15,S15,W15,AA15,AE15,AI15,AM15,AQ15,AU15,AY15,BC15,BG15,BK15) -> 0 | K15: =SUM(G15:J15) -> 0
A16: H. | B16: Acctg, Audit or Annual Statements | E16: =+Invoice!E16 -> 0 | F16: =+Invoice!F16 -> 0 | G16: =SUM(L16,P16,T16,X16,AB16,AF16,AJ16,AN16,AR16,AV16,AZ16,BD16,BH16) -> 0 | H16: =SUM(M16,Q16,U16,Y16,AC16,AG16,AK16,AO16,AS16,BA16,AW16,BE16,BI16) -> 0 | I16: =SUM(N16,R16,V16,Z16,AD16,AH16,AL16,AP16,AT16,AX16,BB16,BF16,BJ16) -> 0 | J16: =SUM(O16,S16,W16,AA16,AE16,AI16,AM16,AQ16,AU16,AY16,BC16,BG16,BK16) -> 0 | K16: =SUM(G16:J16) -> 0
A17: I. | B17: Equipment Purchases | E17: =+Invoice!E17 -> 0 | F17: =+Invoice!F17 -> 0 | G17: =SUM(L17,P17,T17,X17,AB17,AF17,AJ17,AN17,AR17,AV17,AZ17,BD17,BH17) -> 0 | H17: =SUM(M17,Q17,U17,Y17,AC17,AG17,AK17,AO17,AS17,BA17,AW17,BE17,BI17) -> 0 | I17: =SUM(N17,R17,V17,Z17,AD17,AH17,AL17,AP17,AT17,AX17,BB17,BF17,BJ17) -> 0 | J17: =SUM(O17,S17,W17,AA17,AE17,AI17,AM17,AQ17,AU17,AY17,BC17,BG17,BK17) -> 0 | K17: =SUM(G17:J17) -> 0
A18: J. | B18: Equipment Rent/Lease | E18: =+Invoice!E18 -> 0 | F18: =+Invoice!F18 -> 0 | G18: =SUM(L18,P18,T18,X18,AB18,AF18,AJ18,AN18,AR18,AV18,AZ18,BD18,BH18) -> 0 | H18: =SUM(M18,Q18,U18,Y18,AC18,AG18,AK18,AO18,AS18,BA18,AW18,BE18,BI18) -> 0 | I18: =SUM(N18,R18,V18,Z18,AD18,AH18,AL18,AP18,AT18,AX18,BB18,BF18,BJ18) -> 0 | J18: =SUM(O18,S18,W18,AA18,AE18,AI18,AM18,AQ18,AU18,AY18,BC18,BG18,BK18) -> 0 | K18: =SUM(G18:J18) -> 0
A19: K. | B19: Equipment Maintenance | E19: =+Invoice!E19 -> 0 | F19: =+Invoice!F19 -> 0 | G19: =SUM(L19,P19,T19,X19,AB19,AF19,AJ19,AN19,AR19,AV19,AZ19,BD19,BH19) -> 0 | H19: =SUM(M19,Q19,U19,Y19,AC19,AG19,AK19,AO19,AS19,BA19,AW19,BE19,BI19) -> 0 | I19: =SUM(N19,R19,V19,Z19,AD19,AH19,AL19,AP19,AT19,AX19,BB19,BF19,BJ19) -> 0 | J19: =SUM(O19,S19,W19,AA19,AE19,AI19,AM19,AQ19,AU19,AY19,BC19,BG19,BK19) -> 0 | K19: =SUM(G19:J19) -> 0
A20: L. | B20: Printing, Reproduction (Instruction Mtrl) | E20: =+Invoice!E20 -> 0 | F20: =+Invoice!F20 -> 0 | G20: =SUM(L20,P20,T20,X20,AB20,AF20,AJ20,AN20,AR20,AV20,AZ20,BD20,BH20) -> 0 | H20: =SUM(M20,Q20,U20,Y20,AC20,AG20,AK20,AO20,AS20,BA20,AW20,BE20,BI20) -> 0 | I20: =SUM(N20,R20,V20,Z20,AD20,AH20,AL20,AP20,AT20,AX20,BB20,BF20,BJ20) -> 0 | J20: =SUM(O20,S20,W20,AA20,AE20,AI20,AM20,AQ20,AU20,AY20,BC20,BG20,BK20) -> 0 | K20: =SUM(G20:J20) -> 0
... A31: V. | B31: Prepaid Cards - Not Reimbursable | E31: =+Invoice!E31 -> 0 | F31: =+Invoice!F31 -> 0 | G31: =SUM(L31,P31,T31,X31,AB31,AF31,AJ31,AN31,AR31,AV31,AZ31,BD31,BH31) -> 0 | H31: =SUM(M31,Q31,U31,Y31,AC31,AG31,AK31,AO31,AS31,BA31,AW31,BE31,BI31) -> 0 | I31: =SUM(N31,R31,V31,Z31,AD31,AH31,AL31,AP31,AT31,AX31,BB31,BF31,BJ31) -> 0 | J31: =SUM(O31,S31,W31,AA31,AE31,AI31,AM31,AQ31,AU31,AY31,BC31,BG31,BK31) -> 0 | K31: =SUM(G31:J31) -> 0
G32: =SUM(L32,P32,T32,X32,AB32,AF32,AJ32,AN32,AR32,AV32,AZ32,BD32,BH32) -> 0 | H32: =SUM(M32,Q32,U32,Y32,AC32,AG32,AK32,AO32,AS32,BA32,AW32,BE32,BI32) -> 0 | I32: =SUM(N32,R32,V32,Z32,AD32,AH32,AL32,AP32,AT32,AX32,BB32,BF32,BJ32) -> 0 | J32: =SUM(O32,S32,W32,AA32,AE32,AI32,AM32,AQ32,AU32,AY32,BC32,BG32,BK32) -> 0 | K32: =SUM(G32:J32) -> 0
E33: =SUM(E9:E30) -> 0 | F33: =SUM(F9:F30) -> 0 | G33: =SUM(G9:G30) -> 0 | H33: =SUM(H9:H30) -> 0 | I33: =SUM(I9:I30) -> 0 | J33: =SUM(J9:J30) -> 0 | K33: =SUM(K9:K30) -> 0 | L33: =SUM(L9:L30) -> 0 | ... BK33: =SUM(BK9:BK30) -> 0
E34: TOTAL BUDGET | F34: =+F33+E33 -> 0
H36: YTD WEXP | I36: YTD WEXP
B37: 1. Require 20% Work Experience | H37: =+H33 -> 0 | I37: =IFERROR(H37/K33,0) -> 0
B38: 2. Require 100% to Work Experience on Section O (S&B): | H38: =H23 -> 0 | I38: =IFERROR(H38/K23,0) -> 0
B40: All Work Exp. Need to code SAC-JOB-YTH-200-3918

Sheet EXP Summary
A1: WIOA MONTHLY EXPENDITURE CLAIM
A2: EXPENDITURE SUMMARY
B4: Contractor Name: | C4: =+Invoice!C4 -> Ajax Corp | L4: Invoice Number: | M4: =+Invoice!K4 -> 500
B5: Contract #: | C5: =+Invoice!C5 -> XX | L5: Period Ended By: | M5: =Invoice!K6 -> 45596
B6: Contract Year: | C6: =+Invoice!C6 -> 2024 - 2025
E7: Budget | G7: Cumulative Expenditures | M7: Admin Budget Remaining | N7: Program Budget Remaining
B8: Expenditure Classification | E8: Admin | F8: Program | G8: ADMIN | H8: WORK EXPERIENCE | I8: PROG | J8: IN SCHOOL | K8: Sub-Total Program | L8: YTD Expenditure
A9: A. | B9: Staff Salaries and Benefits | E9: =+Invoice!E9 -> 0 | F9: =+Invoice!F9 -> 0 | G9: ='Monthly Tracking'!G9 -> 0 | H9: ='Monthly Tracking'!H9 -> 0 | I9: ='Monthly Tracking'!I9 -> 0 | J9: ='Monthly Tracking'!J9 -> 0 | K9: =SUM(H9:J9) -> 0 | L9: =+K9+G9 -> 0 | M9: =+E9-G9 -> 0 | N9: =+F9-K9 -> 0
A10: B. | B10: Staff Travel/Training/Meetings | E10: =+Invoice!E10 -> 0 | F10: =+Invoice!F10 -> 0 | G10: ='Monthly Tracking'!G10 -> 0 | H10: ='Monthly Tracking'!H10 -> 0 | I10: ='Monthly Tracking'!I10 -> 0 | J10: ='Monthly Tracking'!J10 -> 0 | K10: =SUM(H10:J10) -> 0 | L10: =+K10+G10 -> 0 | M10: =+E10-G10 -> 0 | N10: =+F10-K10 -> 0
A11: C. | B11: Office Supplies/Postage | E11: =+Invoice!E11 -> 0 | F11: =+Invoice!F11 -> 0 | G11: ='Monthly Tracking'!G11 -> 0 | H11: ='Monthly Tracking'!H11 -> 0 | I11: ='Monthly Tracking'!I11 -> 0 | J11: ='Monthly Tracking'!J11 -> 0 | K11: =SUM(H11:J11) -> 0 | L11: =+K11+G11 -> 0 | M11: =+E11-G11 -> 0 | N11: =+F11-K11 -> 0
A12: D. | B12: Telephone /Internet | E12: =+Invoice!E12 -> 0 | F12: =+Invoice!F12 -> 0 | G12: ='Monthly Tracking'!G12 -> 0 | H12: ='Monthly Tracking'!H12 -> 0 | I12: ='Monthly Tracking'!I12 -> 0 | J12: ='Monthly Tracking'!J12 -> 0 | K12: =SUM(H12:J12) -> 0 | L12: =+K12+G12 -> 0 | M12: =+E12-G12 -> 0 | N12: =+F12-K12 -> 0
A13: E. | B13: Rent | E13: =+Invoice!E13 -> 0 | F13: =+Invoice!F13 -> 0 | G13: ='Monthly Tracking'!G13 -> 0 | H13: ='Monthly Tracking'!H13 -> 0 | I13: ='Monthly Tracking'!I13 -> 0 | J13: ='Monthly Tracking'!J13 -> 0 | K13: =SUM(H13:J13) -> 0 | L13: =+K13+G13 -> 0 | M13: =+E13-G13 -> 0 | N13: =+F13-K13 -> 0
A14: F. | B14: Utilities | E14: =+Invoice!E14 -> 0 | F14: =+Invoice!F14 -> 0 | G14: ='Monthly Tracking'!G14 -> 0 | H14: ='Monthly Tracking'!H14 -> 0 | I14: ='Monthly Tracking'!I14 -> 0 | J14: ='Monthly Tracking'!J14 -> 0 | K14: =SUM(H14:J14) -> 0 | L14: =+K14+G14 -> 0 | M14: =+E14-G14 -> 0 | N14: =+F14-K14 -> 0
A15: G. | B15: Insurance | E15: =+Invoice!E15 -> 0 | F15: =+Invoice!F15 -> 0 | G15: ='Monthly Tracking'!G15 -> 0 | H15: ='Monthly Tracking'!H15 -> 0 | I15: ='Monthly Tracking'!I15 -> 0 | J15: ='Monthly Tracking'!J15 -> 0 | K15: =SUM(H15:J15) -> 0 | L15: =+K15+G15 -> 0 | M15: =+E15-G15 -> 0 | N15: =+F15-K15 -> 0
A16: H. | B16: Acctg, Audit or Annual Statements | E16: =+Invoice!E16 -> 0 | F16: =+Invoice!F16 -> 0 | G16: ='Monthly Tracking'!G16 -> 0 | H16: ='Monthly Tracking'!H16 -> 0 | I16: ='Monthly Tracking'!I16 -> 0 | J16: ='Monthly Tracking'!J16 -> 0 | K16: =SUM(H16:J16) -> 0 | L16: =+K16+G16 -> 0 | M16: =+E16-G16 -> 0 | N16: =+F16-K16 -> 0
A17: I. | B17: Equipment Purchases | E17: =+Invoice!E17 -> 0 | F17: =+Invoice!F17 -> 0 | G17: ='Monthly Tracking'!G17 -> 0 | H17: ='Monthly Tracking'!H17 -> 0 | I17: ='Monthly Tracking'!I17 -> 0 | J17: ='Monthly Tracking'!J17 -> 0 | K17: =SUM(H17:J17) -> 0 | L17: =+K17+G17 -> 0 | M17: =+E17-G17 -> 0 | N17: =+F17-K17 -> 0
A18: J. | B18: Equipment Rent/Lease | E18: =+Invoice!E18 -> 0 | F18: =+Invoice!F18 -> 0 | G18: ='Monthly Tracking'!G18 -> 0 | H18: ='Monthly Tracking'!H18 -> 0 | I18: ='Monthly Tracking'!I18 -> 0 | J18: ='Monthly Tracking'!J18 -> 0 | K18: =SUM(H18:J18) -> 0 | L18: =+K18+G18 -> 0 | M18: =+E18-G18 -> 0 | N18: =+F18-K18 -> 0
A19: K. | B19: Equipment Maintenance | E19: =+Invoice!E19 -> 0 | F19: =+Invoice!F19 -> 0 | G19: ='Monthly Tracking'!G19 -> 0 | H19: ='Monthly Tracking'!H19 -> 0 | I19: ='Monthly Tracking'!I19 -> 0 | J19: ='Monthly Tracking'!J19 -> 0 | K19: =SUM(H19:J19) -> 0 | L19: =+K19+G19 -> 0 | M19: =+E19-G19 -> 0 | N19: =+F19-K19 -> 0
A20: L. | B20: Printing, Reproduction (Instruction Mtrl) | E20: =+Invoice!E20 -> 0 | F20: =+Invoice!F20 -> 0 | G20: ='Monthly Tracking'!G20 -> 0 | H20: ='Monthly Tracking'!H20 -> 0 | I20: ='Monthly Tracking'!I20 -> 0 | J20: ='Monthly Tracking'!J20 -> 0 | K20: =SUM(H20:J20) -> 0 | L20: =+K20+G20 -> 0 | M20: =+E20-G20 -> 0 | N20: =+F20-K20 -> 0
... A31: V. | B31: Prepaid Cards - Not Reimbursable | E31: =+Invoice!E31 -> 0 | F31: =+Invoice!F31 -> 0 | G31: ='Monthly Tracking'!G31 -> 0 | H31: ='Monthly Tracking'!H31 -> 0 | I31: ='Monthly Tracking'!I31 -> 0 | J31: ='Monthly Tracking'!J31 -> 0 | K31: =SUM(H31:J31) -> 0 | L31: =+K31+G31 -> 0 | M31: =+E31-G31 -> 0 | N31: =+F31-K31 -> 0
C32: Total: | E32: =SUM(E9:E29) -> 0 | F32: =SUM(F9:F29) -> 0 | G32: =SUM(G9:G29) -> 0 | H32: =SUM(H9:H29) -> 0 | I32: =SUM(I9:I29) -> 0 | J32: =SUM(J9:J29) -> 0 | K32: =SUM(K9:K29) -> 0 | L32: =SUM(L9:L29) -> 0 | ... N32: =SUM(N9:N29) -> 0
B34: Less: YTD Program Income (Please Detail below)------------------------------------ | G34: 0 | H34: 0 | I34: 0 | J34: 0 | K34: =SUM(H34:J34) -> 0 | L34: =SUM(G34:J34) -> 0
F35: Grant Total | G35: =+G32-G34 -> 0 | H35: =+H32-H34 -> 0 | I35: =+I32-I34 -> 0 | J35: =+J32-J34 -> 0 | K35: =+K32-K34 -> 0 | L35: =+L32-L34 -> 0 | M35: =+E32-G35 -> 0 | N35: =+F32-K35 -> 0
K37: Total Program & Admin. Budget: | L37: =+F32+E32 -> 0
K38: Total Program & Admin. Expenditures: | L38: =+L35 -> 0
K39: Budget Remaining: | L39: =+L37-L38 -> 0
K41: % of Total Exp vs. Budget | L41: =IFERROR(L38/L37,0) -> 0
K42: % of Remaining Budget | L42: =IFERROR(L39/L37,0) -> 0
M43: REQUIRED
K44: Cum. Admin + Indir Exp vs. Total Expense | L44: =IFERROR((G35+L27)/L35,0) -> 0 | M44: <= 15%
K45: Cum. Admin Exp vs. Total Expense | L45: =IFERROR(G35/L35,0) -> 0 | M45: <= 8%
K46: Cum. Program Exp vs. Total Expense | L46: =IFERROR(K35/L35,0) -> 0
K47: Work Experience vs. Total Expense | L47: =IFERROR(H35/L35,0) -> 0 | M47: >= 20%
K48: Program Exp vs. Total Expense | L48: =IFERROR((L22+L23+L24)/L35,0) -> 0 | M48: >= 35%

Sheet Payroll Summary
A1: Staff S & B Payroll Summary Sheet
B2: Contractor: | C2: =+Invoice!C4 -> Ajax Corp | O2: Period From: | P2: =Invoice!K5 -> 45566
B3: Contract #: | C3: =+Invoice!C5 -> XX | O3: Period To: | P3: =Invoice!K6 -> 45596
B4: Hourly Based Staff | E4: # HOURS | J4: EMPLOYEE Monthly Wage Amount (GROSS) | K4: EMPLOYER'S Monthly Benefit Amount
A5: # | B5: Last Name | C5: First Name | D5: Position | E5: WDD WIOA | H5: Non WDD Program | I5: Total Hours | L5: Total S & B | M5: =E5 -> WDD WIOA | P5: =H5 -> Non WDD Program | Q5: Total Paid | R5: Benefit Rate
A6: 1 | I6: =SUM(E6:H6) -> 0 | L6: =+K6+J6 -> 0 | M6: =IFERROR(+E6/$I6*$L6,0) -> 0 | N6: =IFERROR(+F6/$I6*$L6,0) -> 0 | O6: =IFERROR(+G6/$I6*$L6,0) -> 0 | P6: =IFERROR(+H6/$I6*$L6,0) -> 0 | Q6: =SUM(M6:P6) -> 0 | R6: =IFERROR(+K6/J6,0) -> 0
A7: 2 | I7: =SUM(E7:H7) -> 0 | L7: =+K7+J7 -> 0 | M7: =IFERROR(+E7/$I7*$L7,0) -> 0 | N7: =IFERROR(+F7/$I7*$L7,0) -> 0 | O7: =IFERROR(+G7/$I7*$L7,0) -> 0 | P7: =IFERROR(+H7/$I7*$L7,0) -> 0 | Q7: =SUM(M7:P7) -> 0 | R7: =IFERROR(+K7/J7,0) -> 0
A8: 3 | I8: =SUM(E8:H8) -> 0 | L8: =+J8+K8 -> 0 | M8: =IFERROR(+E8/$I8*$L8,0) -> 0 | N8: =IFERROR(+F8/$I8*$L8,0) -> 0 | O8: =IFERROR(+G8/$I8*$L8,0) -> 0 | P8: =IFERROR(+H8/$I8*$L8,0) -> 0 | Q8: =SUM(M8:P8) -> 0 | R8: =IFERROR(+K8/J8,0) -> 0
A9: 4 | I9: =SUM(E9:H9) -> 0 | L9: =+J9+K9 -> 0 | M9: =IFERROR(+E9/$I9*$L9,0) -> 0 | N9: =IFERROR(+F9/$I9*$L9,0) -> 0 | O9: =IFERROR(+G9/$I9*$L9,0) -> 0 | P9: =IFERROR(+H9/$I9*$L9,0) -> 0 | Q9: =SUM(M9:P9) -> 0 | R9: =IFERROR(+K9/J9,0) -> 0
A10: 5 | I10: =SUM(E10:H10) -> 0 | L10: =+J10+K10 -> 0 | M10: =IFERROR(+E10/$I10*$L10,0) -> 0 | N10: =IFERROR(+F10/$I10*$L10,0) -> 0 | O10: =IFERROR(+G10/$I10*$L10,0) -> 0 | P10: =IFERROR(+H10/$I10*$L10,0) -> 0 | Q10: =SUM(M10:P10) -> 0 | R10: =IFERROR(+K10/J10,0) -> 0
A11: 6 | I11: =SUM(E11:H11) -> 0 | L11: =+J11+K11 -> 0 | M11: =IFERROR(+E11/$I11*$L11,0) -> 0 | N11: =IFERROR(+F11/$I11*$L11,0) -> 0 | O11: =IFERROR(+G11/$I11*$L11,0) -> 0 | P11: =IFERROR(+H11/$I11*$L11,0) -> 0 | Q11: =SUM(M11:P11) -> 0 | R11: =IFERROR(+K11/J11,0) -> 0
A12: 7 | I12: =SUM(E12:H12) -> 0 | L12: =+J12+K12 -> 0 | M12: =IFERROR(+E12/$I12*$L12,0) -> 0 | N12: =IFERROR(+F12/$I12*$L12,0) -> 0 | O12: =IFERROR(+G12/$I12*$L12,0) -> 0 | P12: =IFERROR(+H12/$I12*$L12,0) -> 0 | Q12: =SUM(M12:P12) -> 0 | R12: =IFERROR(+K12/J12,0) -> 0
A13: 8 | I13: =SUM(E13:H13) -> 0 | L13: =+J13+K13 -> 0 | M13: =IFERROR(+E13/$I13*$L13,0) -> 0 | N13: =IFERROR(+F13/$I13*$L13,0) -> 0 | O13: =IFERROR(+G13/$I13*$L13,0) -> 0 | P13: =IFERROR(+H13/$I13*$L13,0) -> 0 | Q13: =SUM(M13:P13) -> 0 | R13: =IFERROR(+K13/J13,0) -> 0
A14: 9 | I14: =SUM(E14:H14) -> 0 | L14: =+J14+K14 -> 0 | M14: =IFERROR(+E14/$I14*$L14,0) -> 0 | N14: =IFERROR(+F14/$I14*$L14,0) -> 0 | O14: =IFERROR(+G14/$I14*$L14,0) -> 0 | P14: =IFERROR(+H14/$I14*$L14,0) -> 0 | Q14: =SUM(M14:P14) -> 0 | R14: =IFERROR(+K14/J14,0) -> 0
A15: 10 | I15: =SUM(E15:H15) -> 0 | L15: =+J15+K15 -> 0 | M15: =IFERROR(+E15/$I15*$L15,0) -> 0 | N15: =IFERROR(+F15/$I15*$L15,0) -> 0 | O15: =IFERROR(+G15/$I15*$L15,0) -> 0 | P15: =IFERROR(+H15/$I15*$L15,0) -> 0 | Q15: =SUM(M15:P15) -> 0 | R15: =IFERROR(+K15/J15,0) -> 0
A16: 11 | I16: =SUM(E16:H16) -> 0 | L16: =+J16+K16 -> 0 | M16: =IFERROR(+E16/$I16*$L16,0) -> 0 | N16: =IFERROR(+F16/$I16*$L16,0) -> 0 | O16: =IFERROR(+G16/$I16*$L16,0) -> 0 | P16: =IFERROR(+H16/$I16*$L16,0) -> 0 | Q16: =SUM(M16:P16) -> 0 | R16: =IFERROR(+K16/J16,0) -> 0
A17: 12 | I17: =SUM(E17:H17) -> 0 | L17: =+J17+K17 -> 0 | M17: =IFERROR(+E17/$I17*$L17,0) -> 0 | N17: =IFERROR(+F17/$I17*$L17,0) -> 0 | O17: =IFERROR(+G17/$I17*$L17,0) -> 0 | P17: =IFERROR(+H17/$I17*$L17,0) -> 0 | Q17: =SUM(M17:P17) -> 0 | R17: =IFERROR(+K17/J17,0) -> 0
A18: 13 | I18: =SUM(E18:H18) -> 0 | L18: =+J18+K18 -> 0 | M18: =IFERROR(+E18/$I18*$L18,0) -> 0 | N18: =IFERROR(+F18/$I18*$L18,0) -> 0 | O18: =IFERROR(+G18/$I18*$L18,0) -> 0 | P18: =IFERROR(+H18/$I18*$L18,0) -> 0 | Q18: =SUM(M18:P18) -> 0 | R18: =IFERROR(+K18/J18,0) -> 0
A19: 14 | I19: =SUM(E19:H19) -> 0 | L19: =+J19+K19 -> 0 | M19: =IFERROR(+E19/$I19*$L19,0) -> 0 | N19: =IFERROR(+F19/$I19*$L19,0) -> 0 | O19: =IFERROR(+G19/$I19*$L19,0) -> 0 | P19: =IFERROR(+H19/$I19*$L19,0) -> 0 | Q19: =SUM(M19:P19) -> 0 | R19: =IFERROR(+K19/J19,0) -> 0
... A30: 25 | I30: =SUM(E30:H30) -> 0 | L30: =+J30+K30 -> 0 | M30: =IFERROR(+E30/$I30*$L30,0) -> 0 | N30: =IFERROR(+F30/$I30*$L30,0) -> 0 | O30: =IFERROR(+G30/$I30*$L30,0) -> 0 | P30: =IFERROR(+H30/$I30*$L30,0) -> 0 | Q30: =SUM(M30:P30) -> 0 | R30: =IFERROR(+K30/J30,0) -> 0
D31: Total: | E31: =SUM(E6:E30) -> 0 | F31: =SUM(F6:F30) -> 0 | G31: =SUM(G6:G30) -> 0 | H31: =SUM(H6:H30) -> 0 | I31: =SUM(I6:I30) -> 0 | J31: =SUM(J6:J30) -> 0 | K31: =SUM(K6:K30) -> 0 | L31: =SUM(L6:L30) -> 0 | ... Q31: =SUM(Q6:Q30) -> 0 | R31: =IFERROR(+K31/J31,0) -> 0
B34: Salary Based Staff | E34: PERCENTAGE TIME | J34: EMPLOYEE Monthly Salary Amount (GROSS) | K34: =+K4 -> EMPLOYER'S Monthly Benefit Amount
A35: # | B35: Last Name | C35: First Name | D35: Position | E35: =E5 -> WDD WIOA | H35: =H5 -> Non WDD Program | I35: Total = 100% | L35: Total S & B | M35: =E35 -> WDD WIOA | P35: =H35 -> Non WDD Program | Q35: Total Paid | R35: Benefit Rate
A36: 1 | I36: =SUM(E36:H36)/100 -> 0 | L36: =+K36+J36 -> 0 | M36: =IFERROR(+E36/$I36*$L36,0)/100 -> 0 | N36: =IFERROR(+F36/$I36*$L36,0)/100 -> 0 | O36: =IFERROR(+G36/$I36*$L36,0)/100 -> 0 | P36: =IFERROR(+H36/$I36*$L36,0)/100 -> 0 | Q36: =SUM(M36:P36) -> 0 | R36: =IFERROR(+K36/J36,0) -> 0
A37: =+A36+1 -> 2 | I37: =SUM(E37:H37)/100 -> 0 | L37: =+K37+J37 -> 0 | M37: =IFERROR(+E37/$I37*$L37,0)/100 -> 0 | N37: =IFERROR(+F37/$I37*$L37,0)/100 -> 0 | O37: =IFERROR(+G37/$I37*$L37,0)/100 -> 0 | P37: =IFERROR(+H37/$I37*$L37,0)/100 -> 0 | Q37: =SUM(M37:P37) -> 0 | R37: =IFERROR(+K37/J37,0) -> 0
A38: =+A37+1 -> 3 | I38: =SUM(E38:H38)/100 -> 0 | L38: =+K38+J38 -> 0 | M38: =IFERROR(+E38/$I38*$L38,0)/100 -> 0 | N38: =IFERROR(+F38/$I38*$L38,0)/100 -> 0 | O38: =IFERROR(+G38/$I38*$L38,0)/100 -> 0 | P38: =IFERROR(+H38/$I38*$L38,0)/100 -> 0 | Q38: =SUM(M38:P38) -> 0 | R38: =IFERROR(+K38/J38,0) -> 0
A39: =+A38+1 -> 4 | I39: =SUM(E39:H39)/100 -> 0 | L39: =+K39+J39 -> 0 | M39: =IFERROR(+E39/$I39*$L39,0)/100 -> 0 | N39: =IFERROR(+F39/$I39*$L39,0)/100 -> 0 | O39: =IFERROR(+G39/$I39*$L39,0)/100 -> 0 | P39: =IFERROR(+H39/$I39*$L39,0)/100 -> 0 | Q39: =SUM(M39:P39) -> 0 | R39: =IFERROR(+K39/J39,0) -> 0
A40: =+A39+1 -> 5 | I40: =SUM(E40:H40)/100 -> 0 | L40: =+K40+J40 -> 0 | M40: =IFERROR(+E40/$I40*$L40,0)/100 -> 0 | N40: =IFERROR(+F40/$I40*$L40,0)/100 -> 0 | O40: =IFERROR(+G40/$I40*$L40,0)/100 -> 0 | P40: =IFERROR(+H40/$I40*$L40,0)/100 -> 0 | Q40: =SUM(M40:P40) -> 0 | R40: =IFERROR(+K40/J40,0) -> 0
A41: =+A40+1 -> 6 | I41: =SUM(E41:H41)/100 -> 0 | L41: =+K41+J41 -> 0 | M41: =IFERROR(+E41/$I41*$L41,0)/100 -> 0 | N41: =IFERROR(+F41/$I41*$L41,0)/100 -> 0 | O41: =IFERROR(+G41/$I41*$L41,0)/100 -> 0 | P41: =IFERROR(+H41/$I41*$L41,0)/100 -> 0 | Q41: =SUM(M41:P41) -> 0 | R41: =IFERROR(+K41/J41,0) -> 0
A42: =+A41+1 -> 7 | I42: =SUM(E42:H42)/100 -> 0 | L42: =+K42+J42 -> 0 | M42: =IFERROR(+E42/$I42*$L42,0)/100 -> 0 | N42: =IFERROR(+F42/$I42*$L42,0)/100 -> 0 | O42: =IFERROR(+G42/$I42*$L42,0)/100 -> 0 | P42: =IFERROR(+H42/$I42*$L42,0)/100 -> 0 | Q42: =SUM(M42:P42) -> 0 | R42: =IFERROR(+K42/J42,0) -> 0
A43: =+A42+1 -> 8 | I43: =SUM(E43:H43)/100 -> 0 | L43: =+K43+J43 -> 0 | M43: =IFERROR(+E43/$I43*$L43,0)/100 -> 0 | N43: =IFERROR(+F43/$I43*$L43,0)/100 -> 0 | O43: =IFERROR(+G43/$I43*$L43,0)/100 -> 0 | P43: =IFERROR(+H43/$I43*$L43,0)/100 -> 0 | Q43: =SUM(M43:P43) -> 0 | R43: =IFERROR(+K43/J43,0) -> 0
A44: =+A43+1 -> 9 | I44: =SUM(E44:H44)/100 -> 0 | L44: =+K44+J44 -> 0 | M44: =IFERROR(+E44/$I44*$L44,0)/100 -> 0 | N44: =IFERROR(+F44/$I44*$L44,0)/100 -> 0 | O44: =IFERROR(+G44/$I44*$L44,0)/100 -> 0 | P44: =IFERROR(+H44/$I44*$L44,0)/100 -> 0 | Q44: =SUM(M44:P44) -> 0 | R44: =IFERROR(+K44/J44,0) -> 0
A45: =+A44+1 -> 10 | I45: =SUM(E45:H45)/100 -> 0 | L45: =+K45+J45 -> 0 | M45: =IFERROR(+E45/$I45*$L45,0)/100 -> 0 | N45: =IFERROR(+F45/$I45*$L45,0)/100 -> 0 | O45: =IFERROR(+G45/$I45*$L45,0)/100 -> 0 | P45: =IFERROR(+H45/$I45*$L45,0)/100 -> 0 | Q45: =SUM(M45:P45) -> 0 | R45: =IFERROR(+K45/J45,0) -> 0
A46: =+A45+1 -> 11 | I46: =SUM(E46:H46)/100 -> 0 | L46: =+K46+J46 -> 0 | M46: =IFERROR(+E46/$I46*$L46,0)/100 -> 0 | N46: =IFERROR(+F46/$I46*$L46,0)/100 -> 0 | O46: =IFERROR(+G46/$I46*$L46,0)/100 -> 0 | P46: =IFERROR(+H46/$I46*$L46,0)/100 -> 0 | Q46: =SUM(M46:P46) -> 0 | R46: =IFERROR(+K46/J46,0) -> 0
A47: =+A46+1 -> 12 | I47: =SUM(E47:H47)/100 -> 0 | L47: =+K47+J47 -> 0 | M47: =IFERROR(+E47/$I47*$L47,0)/100 -> 0 | N47: =IFERROR(+F47/$I47*$L47,0)/100 -> 0 | O47: =IFERROR(+G47/$I47*$L47,0)/100 -> 0 | P47: =IFERROR(+H47/$I47*$L47,0)/100 -> 0 | Q47: =SUM(M47:P47) -> 0 | R47: =IFERROR(+K47/J47,0) -> 0
A48: =+A47+1 -> 13 | I48: =SUM(E48:H48)/100 -> 0 | L48: =+K48+J48 -> 0 | M48: =IFERROR(+E48/$I48*$L48,0)/100 -> 0 | N48: =IFERROR(+F48/$I48*$L48,0)/100 -> 0 | O48: =IFERROR(+G48/$I48*$L48,0)/100 -> 0 | P48: =IFERROR(+H48/$I48*$L48,0)/100 -> 0 | Q48: =SUM(M48:P48) -> 0 | R48: =IFERROR(+K48/J48,0) -> 0
A49: =+A48+1 -> 14 | I49: =SUM(E49:H49)/100 -> 0 | L49: =+K49+J49 -> 0 | M49: =IFERROR(+E49/$I49*$L49,0)/100 -> 0 | N49: =IFERROR(+F49/$I49*$L49,0)/100 -> 0 | O49: =IFERROR(+G49/$I49*$L49,0)/100 -> 0 | P49: =IFERROR(+H49/$I49*$L49,0)/100 -> 0 | Q49: =SUM(M49:P49) -> 0 | R49: =IFERROR(+K49/J49,0) -> 0
A50: 15 | I50: =SUM(E50:H50)/100 -> 0 | L50: =+K50+J50 -> 0 | M50: =IFERROR(+E50/$I50*$L50,0)/100 -> 0 | N50: =IFERROR(+F50/$I50*$L50,0)/100 -> 0 | O50: =IFERROR(+G50/$I50*$L50,0)/100 -> 0 | P50: =IFERROR(+H50/$I50*$L50,0)/100 -> 0 | Q50: =SUM(M50:P50) -> 0 | R50: =IFERROR(+K50/J50,0) -> 0
D51: Total: | E51: =SUM(E36:E50) -> 0 | F51: =SUM(F36:F50) -> 0 | G51: =SUM(G36:G50) -> 0 | H51: =SUM(H36:H50) -> 0 | J51: =SUM(J36:J50) -> 0 | K51: =SUM(K36:K50) -> 0 | L51: =SUM(L36:L50) -> 0 | M51: =SUM(M36:M50) -> 0 | N51: =SUM(N36:N50) -> 0 | O51: =SUM(O36:O50) -> 0 | P51: =SUM(P36:P50) -> 0 | Q51: =SUM(Q36:Q50) -> 0 | R51: =IFERROR(+K51/J51,0) -> 0
K53: Grant Total: | L53: =+L51+L31 -> 0 | M53: =+M51+M31 -> 0 | N53: =+N51+N31 -> 0 | O53: =+O51+O31 -> 0 | P53: =+P51+P31 -> 0 | Q53: =+Q51+Q31 -> 0 | R53: =+R51+R31 -> 0
...

Sheet Accrual
A1: WIOA MONTHLY EXPENDITURE CLAIM
A2: ACCRUAL REQUEST FORM
B3: Contractor Name: | C3: =+Invoice!C4 -> Ajax Corp | K3: Ref. Inv. : | L3: =+Invoice!K4 -> 500
B4: Contract #: | C4: =+Invoice!C5 -> XX | K4: Period From: | L4: =+Invoice!K5 -> 45566
B5: Contract Year: | C5: =+Invoice!C6 -> 2024 - 2025 | K5: Period To: | L5: =+Invoice!K6 -> 45596
E8: Monthly Accrual 1 | H8: Total Accrual | I8: Calculations 2 | J8: Basis/Assumptions 2
B9: Expenditure Classification | E9: ADMIN | F9: WORK EXPERIENCE | G9: PROGRAM
A10: A. | B10: Staff Salaries and Benefits | H10: =SUM(E10:G10) -> 0
A11: B. | B11: Staff Travel/Training/Meetings | H11: =SUM(E11:G11) -> 0
A12: C. | B12: Office Supplies/Postage | H12: =SUM(E12:G12) -> 0
A13: D. | B13: Telephone /Internet | H13: =SUM(E13:G13) -> 0
A14: E. | B14: Rent | H14: =SUM(E14:G14) -> 0
A15: F. | B15: Utilities | H15: =SUM(E15:G15) -> 0
A16: G. | B16: Insurance | H16: =SUM(E16:G16) -> 0
A17: H. | B17: Acctg, Audit or Annual Statements | H17: =SUM(E17:G17) -> 0
A18: I. | B18: Equipment Purchases | H18: =SUM(E18:G18) -> 0
A19: J. | B19: Equipment Rent/Lease | H19: =SUM(E19:G19) -> 0
A20: K. | B20: Equipment Maintenance | H20: =SUM(E20:G20) -> 0
A21: L. | B21: Printing, Reproduction (Instruction Mtrl) | H21: =SUM(E21:G21) -> 0
... A32: V. | B32: Prepaid Cards - Not Reimbursable | H32: =SUM(E32:G32) -> 0
D33: Total Accrual or Advance: | E33: =SUM(E10:E30) -> 0 | F33: =SUM(F10:F30) -> 0 | G33: =SUM(G10:G30) -> 0 | H33: =SUM(H10:H30) -> 0
C35: % of Admin | E35: =IFERROR(E33/H33,0) -> 0
C36: % of Program | E36: =IFERROR(SUM(F33:G33)/H33,0) -> 0
A37: Note:
B38: 1. The monthly accrual amount should not be greater than the average monthly expenditures
B39: 2. Please indicate how you derive the numbers (Calculations) and the basis or assumptions used in the calculations of the monthly accrual
B42: 3. Requested accrual amount must be reversed in the following monthly claim on the "Reimbursement Invoice"

Sheet Prepaid Cards Log
A1: PREPAID CARDS LOG
A3: AMAZON GIFT CARD SUMMARY | E3: TARGET GIFT CARD SUMMARY
A4: Denomination | B4: # of Cards Issued | C4: Expenditures to Date | E4: Denomination | F4: # of Cards Issued | G4: Expenditures to Date
A5: Amazon $25 | B5: =COUNTIFS($E$11:$E$1048576,"Amazon",$F$11:$F$1048576,25) -> 0 | C5: =+B5*25 -> 0 | E5: Target $25 | F5: =COUNTIFS($E$11:$E$1048576,"Target",$F$11:$F$1048576,25) -> 0 | G5: =+F5*25 -> 0
A6: Amazon $50 | B6: =COUNTIFS($E$11:$E$1048576,"Amazon",$F$11:$F$1048576,50) -> 0 | C6: =+B6*50 -> 0 | E6: Target $50 | F6: =COUNTIFS($E$11:$E$1048576,"Target",$F$11:$F$1048576,50) -> 0 | G6: =+F6*50 -> 0
A7: Amazon $100 | B7: =COUNTIFS($E$11:$E$1048576,"Amazon",$F$11:$F$1048576,100) -> 0 | C7: =+B7*100 -> 0 | E7: Target $100 | F7: =COUNTIFS($E$11:$E$1048576,"Target",$F$11:$F$1048576,100) -> 0 | G7: =+F7*100 -> 0
A8: Total | B8: =SUM(B5:B7) -> 0 | C8: =SUM(C5:C7) -> 0 | E8: Total | F8: =SUM(F5:F7) -> 0 | G8: =SUM(G5:G7) -> 0
A11: Issuance Date | B11: State ID | C11: First Name | D11: Last Name | E11: Gift Card Type | F11: Denomination | G11: Serial Number | H11: Incentive for:

Sheet Enrollment Info - Continuous
A1: State ID | B1: Date of First Program Element | C1: First Name | D1: Last Name | E1: PUMA # | F1: City of Residence | G1: OSY or ISY | H1: Barrier Used for Eligibility | I1: Name of Occupational Training Program | J1: Industry Sector for Occupational Training | K1: Work Experience Job Title | L1: Industry Sector for Work Experience | BI1: 1 | BJ1: BSD & Low Income | BK1: Construction | BL1: Out-of-School Youth
BI2: 2 | BJ2: Other | BK2: Government/Education | BL2: In-School Youth
BI3: 3 | BK3: Healthcare
BI4: 4 | BK4: Logistics
BI5: 5 | BK5: Manufacturing
BI6: 6 | BK6: Mining
BI7: 7 | BK7: Professional, Scientific, and Technical Services
BI8: 8 | BK8: Other
BI9: 9
BI10: 10
BI11: 11
BI12: 12

Sheet DROPDOWN MENUS
A1: Gift Card Type | C1: Denomination
A2: Amazon | C2: 25
A3: Target | C3: 50
C4: 100
