BEGIN:VCALENDAR
VERSION:2.0
PRODID:-//Workforce Development - ECPv6.15.14//NONSGML v1.0//EN
CALSCALE:GREGORIAN
METHOD:PUBLISH
X-WR-CALNAME:Workforce Development
X-ORIGINAL-URL:https://workforce.sbcounty.gov
X-WR-CALDESC:Events for Workforce Development
REFRESH-INTERVAL;VALUE=DURATION:PT1H
X-Robots-Tag:noindex
X-PUBLISHED-TTL:PT1H
BEGIN:VTIMEZONE
TZID:America/Denver
BEGIN:DAYLIGHT
TZOFFSETFROM:-0700
TZOFFSETTO:-0600
TZNAME:MDT
DTSTART:20180311T090000
END:DAYLIGHT
BEGIN:STANDARD
TZOFFSETFROM:-0600
TZOFFSETTO:-0700
TZNAME:MST
DTSTART:20181104T080000
END:STANDARD
BEGIN:DAYLIGHT
TZOFFSETFROM:-0700
TZOFFSETTO:-0600
TZNAME:MDT
DTSTART:20190310T090000
END:DAYLIGHT
BEGIN:STANDARD
TZOFFSETFROM:-0600
TZOFFSETTO:-0700
TZNAME:MST
DTSTART:20191103T080000
END:STANDARD
BEGIN:DAYLIGHT
TZOFFSETFROM:-0700
TZOFFSETTO:-0600
TZNAME:MDT
DTSTART:20200308T090000
END:DAYLIGHT
BEGIN:STANDARD
TZOFFSETFROM:-0600
TZOFFSETTO:-0700
TZNAME:MST
DTSTART:20201101T080000
END:STANDARD
END:VTIMEZONE
BEGIN:VEVENT
DTSTART;TZID=America/Denver:20191115T153000
DTEND;TZID=America/Denver:20191115T163000
DTSTAMP:20260423T202523
CREATED:20190725T212334Z
LAST-MODIFIED:20190725T212334Z
UID:10013514-1573831800-1573835400@workforce.sbcounty.gov
SUMMARY:Job Preparation for Youth
DESCRIPTION:See Reception to make an appointment. Please check in 15 minutes before the start of the workshop.
URL:https://workforce.sbcounty.gov/event/job-preparation-for-youth-12/2019-11-15/
LOCATION:West Valley America’s Job Center of California\, 9650 9th Street\, Suite B\, Rancho Cucamonga\, CA\, 91730\, United States
CATEGORIES:AJCC - West Valley,Job Seeker Workshops
GEO:34.0965707;-117.5949557
X-APPLE-STRUCTURED-LOCATION;VALUE=URI;X-ADDRESS=West Valley America’s Job Center of California 9650 9th Street Suite B Rancho Cucamonga CA 91730 United States;X-APPLE-RADIUS=500;X-TITLE=9650 9th Street\, Suite B:geo:-117.5949557,34.0965707
END:VEVENT
BEGIN:VEVENT
DTSTART;TZID=America/Denver:20191114T100000
DTEND;TZID=America/Denver:20191114T110000
DTSTAMP:20260423T202523
CREATED:20190725T211021Z
LAST-MODIFIED:20190725T211021Z
UID:10013382-1573725600-1573729200@workforce.sbcounty.gov
SUMMARY:Financial Literacy
DESCRIPTION:See Reception to make an appointment. Please check in 15 minutes before the start of the workshop.
URL:https://workforce.sbcounty.gov/event/financial-literacy/2019-11-14/
LOCATION:West Valley America’s Job Center of California\, 9650 9th Street\, Suite B\, Rancho Cucamonga\, CA\, 91730\, United States
CATEGORIES:AJCC - West Valley,Job Seeker Workshops
GEO:34.0965707;-117.5949557
X-APPLE-STRUCTURED-LOCATION;VALUE=URI;X-ADDRESS=West Valley America’s Job Center of California 9650 9th Street Suite B Rancho Cucamonga CA 91730 United States;X-APPLE-RADIUS=500;X-TITLE=9650 9th Street\, Suite B:geo:-117.5949557,34.0965707
END:VEVENT
BEGIN:VEVENT
DTSTART;TZID=America/Denver:20191113T133000
DTEND;TZID=America/Denver:20191113T153000
DTSTAMP:20260423T202523
CREATED:20190725T211459Z
LAST-MODIFIED:20190725T211459Z
UID:10013430-1573651800-1573659000@workforce.sbcounty.gov
SUMMARY:Labor Market Information
DESCRIPTION:See Reception to make an appointment. Please check in 15 minutes before the start of the workshop.
URL:https://workforce.sbcounty.gov/event/labor-market-information-8/2019-11-13/
LOCATION:West Valley America’s Job Center of California\, 9650 9th Street\, Suite B\, Rancho Cucamonga\, CA\, 91730\, United States
CATEGORIES:AJCC - West Valley,Job Seeker Workshops
GEO:34.0965707;-117.5949557
X-APPLE-STRUCTURED-LOCATION;VALUE=URI;X-ADDRESS=West Valley America’s Job Center of California 9650 9th Street Suite B Rancho Cucamonga CA 91730 United States;X-APPLE-RADIUS=500;X-TITLE=9650 9th Street\, Suite B:geo:-117.5949557,34.0965707
END:VEVENT
BEGIN:VEVENT
DTSTART;TZID=America/Denver:20191107T090000
DTEND;TZID=America/Denver:20191107T110000
DTSTAMP:20260423T202523
CREATED:20190626T222428Z
LAST-MODIFIED:20190626T222428Z
UID:10011744-1573117200-1573124400@workforce.sbcounty.gov
SUMMARY:Network Unlimited
DESCRIPTION:See Reception to make an appointment. Please check in 15 minutes before the start of the workshop.
URL:https://workforce.sbcounty.gov/event/network-unlimited-2/2019-11-07/
LOCATION:West Valley America’s Job Center of California\, 9650 9th Street\, Suite B\, Rancho Cucamonga\, CA\, 91730\, United States
CATEGORIES:AJCC - West Valley,Job Seeker Workshops
GEO:34.0965707;-117.5949557
X-APPLE-STRUCTURED-LOCATION;VALUE=URI;X-ADDRESS=West Valley America’s Job Center of California 9650 9th Street Suite B Rancho Cucamonga CA 91730 United States;X-APPLE-RADIUS=500;X-TITLE=9650 9th Street\, Suite B:geo:-117.5949557,34.0965707
END:VEVENT
BEGIN:VEVENT
DTSTART;TZID=America/Denver:20191105T090000
DTEND;TZID=America/Denver:20191105T120000
DTSTAMP:20260423T202523
CREATED:20190725T210624Z
LAST-MODIFIED:20190725T210624Z
UID:10013349-1572944400-1572955200@workforce.sbcounty.gov
SUMMARY:Hiring Event
DESCRIPTION:See Reception to make an appointment. Please check in 15 minutes before the start of the workshop.
URL:https://workforce.sbcounty.gov/event/hiring-event-19/2019-11-05/
LOCATION:West Valley America’s Job Center of California\, 9650 9th Street\, Suite B\, Rancho Cucamonga\, CA\, 91730\, United States
CATEGORIES:AJCC - West Valley,Recruitments/Job Fairs
GEO:34.0965707;-117.5949557
X-APPLE-STRUCTURED-LOCATION;VALUE=URI;X-ADDRESS=West Valley America’s Job Center of California 9650 9th Street Suite B Rancho Cucamonga CA 91730 United States;X-APPLE-RADIUS=500;X-TITLE=9650 9th Street\, Suite B:geo:-117.5949557,34.0965707
END:VEVENT
BEGIN:VEVENT
DTSTART;TZID=America/Denver:20191104T133000
DTEND;TZID=America/Denver:20191104T153000
DTSTAMP:20260423T202523
CREATED:20190725T211755Z
LAST-MODIFIED:20190725T211755Z
UID:10013451-1572874200-1572881400@workforce.sbcounty.gov
SUMMARY:Interview Strategies
DESCRIPTION:See Reception to make an appointment. Please check in 15 minutes before the start of the workshop.
URL:https://workforce.sbcounty.gov/event/interview-strategies-3/2019-11-04/
LOCATION:West Valley America’s Job Center of California\, 9650 9th Street\, Suite B\, Rancho Cucamonga\, CA\, 91730\, United States
CATEGORIES:AJCC - West Valley,Job Seeker Workshops
GEO:34.0965707;-117.5949557
X-APPLE-STRUCTURED-LOCATION;VALUE=URI;X-ADDRESS=West Valley America’s Job Center of California 9650 9th Street Suite B Rancho Cucamonga CA 91730 United States;X-APPLE-RADIUS=500;X-TITLE=9650 9th Street\, Suite B:geo:-117.5949557,34.0965707
END:VEVENT
BEGIN:VEVENT
DTSTART;TZID=America/Denver:20191003T090000
DTEND;TZID=America/Denver:20191003T110000
DTSTAMP:20260423T202523
CREATED:20190626T222428Z
LAST-MODIFIED:20190626T222428Z
UID:10011741-1570093200-1570100400@workforce.sbcounty.gov
SUMMARY:Network Unlimited
DESCRIPTION:See Reception to make an appointment. Please check in 15 minutes before the start of the workshop.
URL:https://workforce.sbcounty.gov/event/network-unlimited-2/2019-10-03/
LOCATION:West Valley America’s Job Center of California\, 9650 9th Street\, Suite B\, Rancho Cucamonga\, CA\, 91730\, United States
CATEGORIES:AJCC - West Valley,Job Seeker Workshops
GEO:34.0965707;-117.5949557
X-APPLE-STRUCTURED-LOCATION;VALUE=URI;X-ADDRESS=West Valley America’s Job Center of California 9650 9th Street Suite B Rancho Cucamonga CA 91730 United States;X-APPLE-RADIUS=500;X-TITLE=9650 9th Street\, Suite B:geo:-117.5949557,34.0965707
END:VEVENT
BEGIN:VEVENT
DTSTART;TZID=America/Denver:20191001T090000
DTEND;TZID=America/Denver:20191001T120000
DTSTAMP:20260423T202523
CREATED:20190725T210624Z
LAST-MODIFIED:20190725T210624Z
UID:10013346-1569920400-1569931200@workforce.sbcounty.gov
SUMMARY:Hiring Event
DESCRIPTION:See Reception to make an appointment. Please check in 15 minutes before the start of the workshop.
URL:https://workforce.sbcounty.gov/event/hiring-event-19/2019-10-01/
LOCATION:West Valley America’s Job Center of California\, 9650 9th Street\, Suite B\, Rancho Cucamonga\, CA\, 91730\, United States
CATEGORIES:AJCC - West Valley,Recruitments/Job Fairs
GEO:34.0965707;-117.5949557
X-APPLE-STRUCTURED-LOCATION;VALUE=URI;X-ADDRESS=West Valley America’s Job Center of California 9650 9th Street Suite B Rancho Cucamonga CA 91730 United States;X-APPLE-RADIUS=500;X-TITLE=9650 9th Street\, Suite B:geo:-117.5949557,34.0965707
END:VEVENT
BEGIN:VEVENT
DTSTART;TZID=America/Denver:20190930T133000
DTEND;TZID=America/Denver:20190930T153000
DTSTAMP:20260423T202523
CREATED:20190725T211151Z
LAST-MODIFIED:20190725T211151Z
UID:10013403-1569850200-1569857400@workforce.sbcounty.gov
SUMMARY:Job Search Strategies
DESCRIPTION:See Reception to make an appointment. Please check in 15 minutes before the start of the workshop.
URL:https://workforce.sbcounty.gov/event/job-search-strategies-3/2019-09-30/
LOCATION:West Valley America’s Job Center of California\, 9650 9th Street\, Suite B\, Rancho Cucamonga\, CA\, 91730\, United States
CATEGORIES:AJCC - West Valley,Job Seeker Workshops
GEO:34.0965707;-117.5949557
X-APPLE-STRUCTURED-LOCATION;VALUE=URI;X-ADDRESS=West Valley America’s Job Center of California 9650 9th Street Suite B Rancho Cucamonga CA 91730 United States;X-APPLE-RADIUS=500;X-TITLE=9650 9th Street\, Suite B:geo:-117.5949557,34.0965707
END:VEVENT
BEGIN:VEVENT
DTSTART;TZID=America/Denver:20190924T130000
DTEND;TZID=America/Denver:20190924T150000
DTSTAMP:20260423T202523
CREATED:20190725T212118Z
LAST-MODIFIED:20190725T212118Z
UID:10013484-1569330000-1569337200@workforce.sbcounty.gov
SUMMARY:Navigating CalJOBS
DESCRIPTION:See Reception to make an appointment. Please check in 15 minutes before the start of the workshop.
URL:https://workforce.sbcounty.gov/event/navigating-caljobs-10/2019-09-24/
LOCATION:West Valley America’s Job Center of California\, 9650 9th Street\, Suite B\, Rancho Cucamonga\, CA\, 91730\, United States
CATEGORIES:AJCC - West Valley,Job Seeker Workshops
GEO:34.0965707;-117.5949557
X-APPLE-STRUCTURED-LOCATION;VALUE=URI;X-ADDRESS=West Valley America’s Job Center of California 9650 9th Street Suite B Rancho Cucamonga CA 91730 United States;X-APPLE-RADIUS=500;X-TITLE=9650 9th Street\, Suite B:geo:-117.5949557,34.0965707
END:VEVENT
BEGIN:VEVENT
DTSTART;TZID=America/Denver:20190924T100000
DTEND;TZID=America/Denver:20190924T120000
DTSTAMP:20260423T202523
CREATED:20190830T232401Z
LAST-MODIFIED:20190830T232401Z
UID:10013901-1569319200-1569326400@workforce.sbcounty.gov
SUMMARY:Turn a Job Fair Into a Job Offer
DESCRIPTION:See Reception to make an appointment. Please check in 15 minutes before the start of the workshop.
URL:https://workforce.sbcounty.gov/event/turn-a-job-fair-into-a-job-offer/2019-09-24/
LOCATION:West Valley America’s Job Center of California\, 9650 9th Street\, Suite B\, Rancho Cucamonga\, CA\, 91730\, United States
CATEGORIES:AJCC - West Valley,Job Seeker Workshops
GEO:34.0965707;-117.5949557
X-APPLE-STRUCTURED-LOCATION;VALUE=URI;X-ADDRESS=West Valley America’s Job Center of California 9650 9th Street Suite B Rancho Cucamonga CA 91730 United States;X-APPLE-RADIUS=500;X-TITLE=9650 9th Street\, Suite B:geo:-117.5949557,34.0965707
END:VEVENT
BEGIN:VEVENT
DTSTART;TZID=America/Denver:20190920T153000
DTEND;TZID=America/Denver:20190920T163000
DTSTAMP:20260423T202523
CREATED:20190725T212334Z
LAST-MODIFIED:20190725T212334Z
UID:10013511-1568993400-1568997000@workforce.sbcounty.gov
SUMMARY:Job Preparation for Youth
DESCRIPTION:See Reception to make an appointment. Please check in 15 minutes before the start of the workshop.
URL:https://workforce.sbcounty.gov/event/job-preparation-for-youth-12/2019-09-20/
LOCATION:West Valley America’s Job Center of California\, 9650 9th Street\, Suite B\, Rancho Cucamonga\, CA\, 91730\, United States
CATEGORIES:AJCC - West Valley,Job Seeker Workshops
GEO:34.0965707;-117.5949557
X-APPLE-STRUCTURED-LOCATION;VALUE=URI;X-ADDRESS=West Valley America’s Job Center of California 9650 9th Street Suite B Rancho Cucamonga CA 91730 United States;X-APPLE-RADIUS=500;X-TITLE=9650 9th Street\, Suite B:geo:-117.5949557,34.0965707
END:VEVENT
BEGIN:VEVENT
DTSTART;TZID=America/Denver:20190920T083000
DTEND;TZID=America/Denver:20190920T120000
DTSTAMP:20260423T202523
CREATED:20190725T212234Z
LAST-MODIFIED:20190725T212234Z
UID:10013502-1568968200-1568980800@workforce.sbcounty.gov
SUMMARY:Veteran's Job Search
DESCRIPTION:See Reception to make an appointment. Please check in 15 minutes before the start of the workshop.
URL:https://workforce.sbcounty.gov/event/veterans-job-search-9/2019-09-20/
LOCATION:West Valley America’s Job Center of California\, 9650 9th Street\, Suite B\, Rancho Cucamonga\, CA\, 91730\, United States
CATEGORIES:AJCC - West Valley,Job Seeker Workshops
GEO:34.0965707;-117.5949557
X-APPLE-STRUCTURED-LOCATION;VALUE=URI;X-ADDRESS=West Valley America’s Job Center of California 9650 9th Street Suite B Rancho Cucamonga CA 91730 United States;X-APPLE-RADIUS=500;X-TITLE=9650 9th Street\, Suite B:geo:-117.5949557,34.0965707
END:VEVENT
BEGIN:VEVENT
DTSTART;TZID=America/Denver:20190919T090000
DTEND;TZID=America/Denver:20190919T110000
DTSTAMP:20260423T202523
CREATED:20190626T222428Z
LAST-MODIFIED:20190626T222428Z
UID:10011738-1568883600-1568890800@workforce.sbcounty.gov
SUMMARY:Network Unlimited
DESCRIPTION:See Reception to make an appointment. Please check in 15 minutes before the start of the workshop.
URL:https://workforce.sbcounty.gov/event/network-unlimited-2/2019-09-19/
LOCATION:West Valley America’s Job Center of California\, 9650 9th Street\, Suite B\, Rancho Cucamonga\, CA\, 91730\, United States
CATEGORIES:AJCC - West Valley,Job Seeker Workshops
GEO:34.0965707;-117.5949557
X-APPLE-STRUCTURED-LOCATION;VALUE=URI;X-ADDRESS=West Valley America’s Job Center of California 9650 9th Street Suite B Rancho Cucamonga CA 91730 United States;X-APPLE-RADIUS=500;X-TITLE=9650 9th Street\, Suite B:geo:-117.5949557,34.0965707
END:VEVENT
BEGIN:VEVENT
DTSTART;TZID=America/Denver:20190917T133000
DTEND;TZID=America/Denver:20190917T153000
DTSTAMP:20260423T202523
CREATED:20190725T212001Z
LAST-MODIFIED:20190725T212001Z
UID:10013466-1568727000-1568734200@workforce.sbcounty.gov
SUMMARY:Sugerencias para Empleo
DESCRIPTION:Consulte a la recepcionista para programar una cita. Por favor\, regístrese 15 minutos antes del inicio del taller. \nSee Reception to make an appointment. Please check in 15 minutes before the start of the workshop.
URL:https://workforce.sbcounty.gov/event/sugerencias-para-empleo-5/2019-09-17/
LOCATION:West Valley America’s Job Center of California\, 9650 9th Street\, Suite B\, Rancho Cucamonga\, CA\, 91730\, United States
CATEGORIES:AJCC - West Valley,Job Seeker Workshops
GEO:34.0965707;-117.5949557
X-APPLE-STRUCTURED-LOCATION;VALUE=URI;X-ADDRESS=West Valley America’s Job Center of California 9650 9th Street Suite B Rancho Cucamonga CA 91730 United States;X-APPLE-RADIUS=500;X-TITLE=9650 9th Street\, Suite B:geo:-117.5949557,34.0965707
END:VEVENT
BEGIN:VEVENT
DTSTART;TZID=America/Denver:20190917T090000
DTEND;TZID=America/Denver:20190917T120000
DTSTAMP:20260423T202523
CREATED:20190725T210624Z
LAST-MODIFIED:20190725T210624Z
UID:10013343-1568710800-1568721600@workforce.sbcounty.gov
SUMMARY:Hiring Event
DESCRIPTION:See Reception to make an appointment. Please check in 15 minutes before the start of the workshop.
URL:https://workforce.sbcounty.gov/event/hiring-event-19/2019-09-17/
LOCATION:West Valley America’s Job Center of California\, 9650 9th Street\, Suite B\, Rancho Cucamonga\, CA\, 91730\, United States
CATEGORIES:AJCC - West Valley,Recruitments/Job Fairs
GEO:34.0965707;-117.5949557
X-APPLE-STRUCTURED-LOCATION;VALUE=URI;X-ADDRESS=West Valley America’s Job Center of California 9650 9th Street Suite B Rancho Cucamonga CA 91730 United States;X-APPLE-RADIUS=500;X-TITLE=9650 9th Street\, Suite B:geo:-117.5949557,34.0965707
END:VEVENT
BEGIN:VEVENT
DTSTART;TZID=America/Denver:20190916T133000
DTEND;TZID=America/Denver:20190916T153000
DTSTAMP:20260423T202523
CREATED:20190725T211755Z
LAST-MODIFIED:20190725T211755Z
UID:10013448-1568640600-1568647800@workforce.sbcounty.gov
SUMMARY:Interview Strategies
DESCRIPTION:See Reception to make an appointment. Please check in 15 minutes before the start of the workshop.
URL:https://workforce.sbcounty.gov/event/interview-strategies-3/2019-09-16/
LOCATION:West Valley America’s Job Center of California\, 9650 9th Street\, Suite B\, Rancho Cucamonga\, CA\, 91730\, United States
CATEGORIES:AJCC - West Valley,Job Seeker Workshops
GEO:34.0965707;-117.5949557
X-APPLE-STRUCTURED-LOCATION;VALUE=URI;X-ADDRESS=West Valley America’s Job Center of California 9650 9th Street Suite B Rancho Cucamonga CA 91730 United States;X-APPLE-RADIUS=500;X-TITLE=9650 9th Street\, Suite B:geo:-117.5949557,34.0965707
END:VEVENT
BEGIN:VEVENT
DTSTART;TZID=America/Denver:20190912T100000
DTEND;TZID=America/Denver:20190912T110000
DTSTAMP:20260423T202523
CREATED:20190725T211021Z
LAST-MODIFIED:20190725T211021Z
UID:10013379-1568282400-1568286000@workforce.sbcounty.gov
SUMMARY:Financial Literacy
DESCRIPTION:See Reception to make an appointment. Please check in 15 minutes before the start of the workshop.
URL:https://workforce.sbcounty.gov/event/financial-literacy/2019-09-12/
LOCATION:West Valley America’s Job Center of California\, 9650 9th Street\, Suite B\, Rancho Cucamonga\, CA\, 91730\, United States
CATEGORIES:AJCC - West Valley,Job Seeker Workshops
GEO:34.0965707;-117.5949557
X-APPLE-STRUCTURED-LOCATION;VALUE=URI;X-ADDRESS=West Valley America’s Job Center of California 9650 9th Street Suite B Rancho Cucamonga CA 91730 United States;X-APPLE-RADIUS=500;X-TITLE=9650 9th Street\, Suite B:geo:-117.5949557,34.0965707
END:VEVENT
BEGIN:VEVENT
DTSTART;TZID=America/Denver:20190910T133000
DTEND;TZID=America/Denver:20190910T153000
DTSTAMP:20260423T202523
CREATED:20190725T211459Z
LAST-MODIFIED:20190725T211459Z
UID:10013427-1568122200-1568129400@workforce.sbcounty.gov
SUMMARY:Labor Market Information
DESCRIPTION:See Reception to make an appointment. Please check in 15 minutes before the start of the workshop.
URL:https://workforce.sbcounty.gov/event/labor-market-information-8/2019-09-10/
LOCATION:West Valley America’s Job Center of California\, 9650 9th Street\, Suite B\, Rancho Cucamonga\, CA\, 91730\, United States
CATEGORIES:AJCC - West Valley,Job Seeker Workshops
GEO:34.0965707;-117.5949557
X-APPLE-STRUCTURED-LOCATION;VALUE=URI;X-ADDRESS=West Valley America’s Job Center of California 9650 9th Street Suite B Rancho Cucamonga CA 91730 United States;X-APPLE-RADIUS=500;X-TITLE=9650 9th Street\, Suite B:geo:-117.5949557,34.0965707
END:VEVENT
BEGIN:VEVENT
DTSTART;TZID=America/Denver:20190910T100000
DTEND;TZID=America/Denver:20190910T120000
DTSTAMP:20260423T202523
CREATED:20190830T232401Z
LAST-MODIFIED:20190830T232401Z
UID:10013898-1568109600-1568116800@workforce.sbcounty.gov
SUMMARY:Turn a Job Fair Into a Job Offer
DESCRIPTION:See Reception to make an appointment. Please check in 15 minutes before the start of the workshop.
URL:https://workforce.sbcounty.gov/event/turn-a-job-fair-into-a-job-offer/2019-09-10/
LOCATION:West Valley America’s Job Center of California\, 9650 9th Street\, Suite B\, Rancho Cucamonga\, CA\, 91730\, United States
CATEGORIES:AJCC - West Valley,Job Seeker Workshops
GEO:34.0965707;-117.5949557
X-APPLE-STRUCTURED-LOCATION;VALUE=URI;X-ADDRESS=West Valley America’s Job Center of California 9650 9th Street Suite B Rancho Cucamonga CA 91730 United States;X-APPLE-RADIUS=500;X-TITLE=9650 9th Street\, Suite B:geo:-117.5949557,34.0965707
END:VEVENT
BEGIN:VEVENT
DTSTART;TZID=America/Denver:20190909T133000
DTEND;TZID=America/Denver:20190909T153000
DTSTAMP:20260423T202523
CREATED:20190725T211151Z
LAST-MODIFIED:20190725T211151Z
UID:10013400-1568035800-1568043000@workforce.sbcounty.gov
SUMMARY:Job Search Strategies
DESCRIPTION:See Reception to make an appointment. Please check in 15 minutes before the start of the workshop.
URL:https://workforce.sbcounty.gov/event/job-search-strategies-3/2019-09-09/
LOCATION:West Valley America’s Job Center of California\, 9650 9th Street\, Suite B\, Rancho Cucamonga\, CA\, 91730\, United States
CATEGORIES:AJCC - West Valley,Job Seeker Workshops
GEO:34.0965707;-117.5949557
X-APPLE-STRUCTURED-LOCATION;VALUE=URI;X-ADDRESS=West Valley America’s Job Center of California 9650 9th Street Suite B Rancho Cucamonga CA 91730 United States;X-APPLE-RADIUS=500;X-TITLE=9650 9th Street\, Suite B:geo:-117.5949557,34.0965707
END:VEVENT
BEGIN:VEVENT
DTSTART;TZID=America/Denver:20190905T090000
DTEND;TZID=America/Denver:20190905T110000
DTSTAMP:20260423T202523
CREATED:20190626T222428Z
LAST-MODIFIED:20190626T222428Z
UID:10011735-1567674000-1567681200@workforce.sbcounty.gov
SUMMARY:Network Unlimited
DESCRIPTION:See Reception to make an appointment. Please check in 15 minutes before the start of the workshop.
URL:https://workforce.sbcounty.gov/event/network-unlimited-2/2019-09-05/
LOCATION:West Valley America’s Job Center of California\, 9650 9th Street\, Suite B\, Rancho Cucamonga\, CA\, 91730\, United States
CATEGORIES:AJCC - West Valley,Job Seeker Workshops
GEO:34.0965707;-117.5949557
X-APPLE-STRUCTURED-LOCATION;VALUE=URI;X-ADDRESS=West Valley America’s Job Center of California 9650 9th Street Suite B Rancho Cucamonga CA 91730 United States;X-APPLE-RADIUS=500;X-TITLE=9650 9th Street\, Suite B:geo:-117.5949557,34.0965707
END:VEVENT
BEGIN:VEVENT
DTSTART;TZID=America/Denver:20190827T130000
DTEND;TZID=America/Denver:20190827T150000
DTSTAMP:20260423T202523
CREATED:20190725T212118Z
LAST-MODIFIED:20190725T212118Z
UID:10013481-1566910800-1566918000@workforce.sbcounty.gov
SUMMARY:Navigating CalJOBS
DESCRIPTION:See Reception to make an appointment. Please check in 15 minutes before the start of the workshop.
URL:https://workforce.sbcounty.gov/event/navigating-caljobs-10/2019-08-27/
LOCATION:West Valley America’s Job Center of California\, 9650 9th Street\, Suite B\, Rancho Cucamonga\, CA\, 91730\, United States
CATEGORIES:AJCC - West Valley,Job Seeker Workshops
GEO:34.0965707;-117.5949557
X-APPLE-STRUCTURED-LOCATION;VALUE=URI;X-ADDRESS=West Valley America’s Job Center of California 9650 9th Street Suite B Rancho Cucamonga CA 91730 United States;X-APPLE-RADIUS=500;X-TITLE=9650 9th Street\, Suite B:geo:-117.5949557,34.0965707
END:VEVENT
BEGIN:VEVENT
DTSTART;TZID=America/Denver:20190827T100000
DTEND;TZID=America/Denver:20190827T120000
DTSTAMP:20260423T202523
CREATED:20190725T211327Z
LAST-MODIFIED:20190725T211327Z
UID:10013421-1566900000-1566907200@workforce.sbcounty.gov
SUMMARY:Basic Computer & MS Word
DESCRIPTION:See Reception to make an appointment. Please check in 15 minutes before the start of the workshop.
URL:https://workforce.sbcounty.gov/event/basic-computer-ms-word-3/2019-08-27/
LOCATION:West Valley America’s Job Center of California\, 9650 9th Street\, Suite B\, Rancho Cucamonga\, CA\, 91730\, United States
CATEGORIES:AJCC - West Valley,Job Seeker Workshops
GEO:34.0965707;-117.5949557
X-APPLE-STRUCTURED-LOCATION;VALUE=URI;X-ADDRESS=West Valley America’s Job Center of California 9650 9th Street Suite B Rancho Cucamonga CA 91730 United States;X-APPLE-RADIUS=500;X-TITLE=9650 9th Street\, Suite B:geo:-117.5949557,34.0965707
END:VEVENT
BEGIN:VEVENT
DTSTART;TZID=America/Denver:20190826T133000
DTEND;TZID=America/Denver:20190826T153000
DTSTAMP:20260423T202523
CREATED:20190725T210300Z
LAST-MODIFIED:20190725T210300Z
UID:10013319-1566826200-1566833400@workforce.sbcounty.gov
SUMMARY:Resume Strategies
DESCRIPTION:See Reception to make an appointment. Please check in 15 minutes before the start of the workshop.
URL:https://workforce.sbcounty.gov/event/resume-strategies-2/2019-08-26/
LOCATION:West Valley America’s Job Center of California\, 9650 9th Street\, Suite B\, Rancho Cucamonga\, CA\, 91730\, United States
CATEGORIES:AJCC - West Valley,Job Seeker Workshops
GEO:34.0965707;-117.5949557
X-APPLE-STRUCTURED-LOCATION;VALUE=URI;X-ADDRESS=West Valley America’s Job Center of California 9650 9th Street Suite B Rancho Cucamonga CA 91730 United States;X-APPLE-RADIUS=500;X-TITLE=9650 9th Street\, Suite B:geo:-117.5949557,34.0965707
END:VEVENT
BEGIN:VEVENT
DTSTART;TZID=America/Denver:20190822T100000
DTEND;TZID=America/Denver:20190822T110000
DTSTAMP:20260423T202523
CREATED:20190725T211021Z
LAST-MODIFIED:20190725T211021Z
UID:10013376-1566468000-1566471600@workforce.sbcounty.gov
SUMMARY:Financial Literacy
DESCRIPTION:See Reception to make an appointment. Please check in 15 minutes before the start of the workshop.
URL:https://workforce.sbcounty.gov/event/financial-literacy/2019-08-22/
LOCATION:West Valley America’s Job Center of California\, 9650 9th Street\, Suite B\, Rancho Cucamonga\, CA\, 91730\, United States
CATEGORIES:AJCC - West Valley,Job Seeker Workshops
GEO:34.0965707;-117.5949557
X-APPLE-STRUCTURED-LOCATION;VALUE=URI;X-ADDRESS=West Valley America’s Job Center of California 9650 9th Street Suite B Rancho Cucamonga CA 91730 United States;X-APPLE-RADIUS=500;X-TITLE=9650 9th Street\, Suite B:geo:-117.5949557,34.0965707
END:VEVENT
BEGIN:VEVENT
DTSTART;TZID=America/Denver:20190820T133000
DTEND;TZID=America/Denver:20190820T153000
DTSTAMP:20260423T202523
CREATED:20190725T212001Z
LAST-MODIFIED:20190725T212001Z
UID:10013463-1566307800-1566315000@workforce.sbcounty.gov
SUMMARY:Sugerencias para Empleo
DESCRIPTION:Consulte a la recepcionista para programar una cita. Por favor\, regístrese 15 minutos antes del inicio del taller. \nSee Reception to make an appointment. Please check in 15 minutes before the start of the workshop.
URL:https://workforce.sbcounty.gov/event/sugerencias-para-empleo-5/2019-08-20/
LOCATION:West Valley America’s Job Center of California\, 9650 9th Street\, Suite B\, Rancho Cucamonga\, CA\, 91730\, United States
CATEGORIES:AJCC - West Valley,Job Seeker Workshops
GEO:34.0965707;-117.5949557
X-APPLE-STRUCTURED-LOCATION;VALUE=URI;X-ADDRESS=West Valley America’s Job Center of California 9650 9th Street Suite B Rancho Cucamonga CA 91730 United States;X-APPLE-RADIUS=500;X-TITLE=9650 9th Street\, Suite B:geo:-117.5949557,34.0965707
END:VEVENT
BEGIN:VEVENT
DTSTART;TZID=America/Denver:20190820T090000
DTEND;TZID=America/Denver:20190820T120000
DTSTAMP:20260423T202523
CREATED:20190725T210624Z
LAST-MODIFIED:20190725T210624Z
UID:10013340-1566291600-1566302400@workforce.sbcounty.gov
SUMMARY:Hiring Event
DESCRIPTION:See Reception to make an appointment. Please check in 15 minutes before the start of the workshop.
URL:https://workforce.sbcounty.gov/event/hiring-event-19/2019-08-20/
LOCATION:West Valley America’s Job Center of California\, 9650 9th Street\, Suite B\, Rancho Cucamonga\, CA\, 91730\, United States
CATEGORIES:AJCC - West Valley,Recruitments/Job Fairs
GEO:34.0965707;-117.5949557
X-APPLE-STRUCTURED-LOCATION;VALUE=URI;X-ADDRESS=West Valley America’s Job Center of California 9650 9th Street Suite B Rancho Cucamonga CA 91730 United States;X-APPLE-RADIUS=500;X-TITLE=9650 9th Street\, Suite B:geo:-117.5949557,34.0965707
END:VEVENT
BEGIN:VEVENT
DTSTART;TZID=America/Denver:20190819T133000
DTEND;TZID=America/Denver:20190819T153000
DTSTAMP:20260423T202523
CREATED:20190725T211755Z
LAST-MODIFIED:20190725T211755Z
UID:10013445-1566221400-1566228600@workforce.sbcounty.gov
SUMMARY:Interview Strategies
DESCRIPTION:See Reception to make an appointment. Please check in 15 minutes before the start of the workshop.
URL:https://workforce.sbcounty.gov/event/interview-strategies-3/2019-08-19/
LOCATION:West Valley America’s Job Center of California\, 9650 9th Street\, Suite B\, Rancho Cucamonga\, CA\, 91730\, United States
CATEGORIES:AJCC - West Valley,Job Seeker Workshops
GEO:34.0965707;-117.5949557
X-APPLE-STRUCTURED-LOCATION;VALUE=URI;X-ADDRESS=West Valley America’s Job Center of California 9650 9th Street Suite B Rancho Cucamonga CA 91730 United States;X-APPLE-RADIUS=500;X-TITLE=9650 9th Street\, Suite B:geo:-117.5949557,34.0965707
END:VEVENT
BEGIN:VEVENT
DTSTART;TZID=America/Denver:20190816T153000
DTEND;TZID=America/Denver:20190816T163000
DTSTAMP:20260423T202523
CREATED:20190725T212334Z
LAST-MODIFIED:20190725T212334Z
UID:10013508-1565969400-1565973000@workforce.sbcounty.gov
SUMMARY:Job Preparation for Youth
DESCRIPTION:See Reception to make an appointment. Please check in 15 minutes before the start of the workshop.
URL:https://workforce.sbcounty.gov/event/job-preparation-for-youth-12/2019-08-16/
LOCATION:West Valley America’s Job Center of California\, 9650 9th Street\, Suite B\, Rancho Cucamonga\, CA\, 91730\, United States
CATEGORIES:AJCC - West Valley,Job Seeker Workshops
GEO:34.0965707;-117.5949557
X-APPLE-STRUCTURED-LOCATION;VALUE=URI;X-ADDRESS=West Valley America’s Job Center of California 9650 9th Street Suite B Rancho Cucamonga CA 91730 United States;X-APPLE-RADIUS=500;X-TITLE=9650 9th Street\, Suite B:geo:-117.5949557,34.0965707
END:VEVENT
END:VCALENDAR