BEGIN:VCALENDAR
VERSION:2.0
PRODID:-//Workforce Development - ECPv6.15.14//NONSGML v1.0//EN
CALSCALE:GREGORIAN
METHOD:PUBLISH
X-ORIGINAL-URL:https://workforce.sbcounty.gov
X-WR-CALDESC:Events for Workforce Development
REFRESH-INTERVAL;VALUE=DURATION:PT1H
X-Robots-Tag:noindex
X-PUBLISHED-TTL:PT1H
BEGIN:VTIMEZONE
TZID:America/Denver
BEGIN:DAYLIGHT
TZOFFSETFROM:-0700
TZOFFSETTO:-0600
TZNAME:MDT
DTSTART:20180311T090000
END:DAYLIGHT
BEGIN:STANDARD
TZOFFSETFROM:-0600
TZOFFSETTO:-0700
TZNAME:MST
DTSTART:20181104T080000
END:STANDARD
BEGIN:DAYLIGHT
TZOFFSETFROM:-0700
TZOFFSETTO:-0600
TZNAME:MDT
DTSTART:20190310T090000
END:DAYLIGHT
BEGIN:STANDARD
TZOFFSETFROM:-0600
TZOFFSETTO:-0700
TZNAME:MST
DTSTART:20191103T080000
END:STANDARD
BEGIN:DAYLIGHT
TZOFFSETFROM:-0700
TZOFFSETTO:-0600
TZNAME:MDT
DTSTART:20200308T090000
END:DAYLIGHT
BEGIN:STANDARD
TZOFFSETFROM:-0600
TZOFFSETTO:-0700
TZNAME:MST
DTSTART:20201101T080000
END:STANDARD
BEGIN:DAYLIGHT
TZOFFSETFROM:-0700
TZOFFSETTO:-0600
TZNAME:MDT
DTSTART:20210314T090000
END:DAYLIGHT
BEGIN:STANDARD
TZOFFSETFROM:-0600
TZOFFSETTO:-0700
TZNAME:MST
DTSTART:20211107T080000
END:STANDARD
END:VTIMEZONE
BEGIN:VEVENT
DTSTART;TZID=America/Denver:20200213T100000
DTEND;TZID=America/Denver:20200213T110000
DTSTAMP:20260423T122502
CREATED:20190725T211021Z
LAST-MODIFIED:20190725T211021Z
UID:10013391-1581588000-1581591600@workforce.sbcounty.gov
SUMMARY:Financial Literacy
DESCRIPTION:See Reception to make an appointment. Please check in 15 minutes before the start of the workshop.
URL:https://workforce.sbcounty.gov/event/financial-literacy/2020-02-13/
LOCATION:West Valley America’s Job Center of California\, 9650 9th Street\, Suite B\, Rancho Cucamonga\, CA\, 91730\, United States
CATEGORIES:AJCC - West Valley,Job Seeker Workshops
GEO:34.0965707;-117.5949557
X-APPLE-STRUCTURED-LOCATION;VALUE=URI;X-ADDRESS=West Valley America’s Job Center of California 9650 9th Street Suite B Rancho Cucamonga CA 91730 United States;X-APPLE-RADIUS=500;X-TITLE=9650 9th Street\, Suite B:geo:-117.5949557,34.0965707
END:VEVENT
BEGIN:VEVENT
DTSTART;TZID=America/Denver:20200212T133000
DTEND;TZID=America/Denver:20200212T153000
DTSTAMP:20260423T122502
CREATED:20190725T211459Z
LAST-MODIFIED:20190725T211459Z
UID:10013436-1581514200-1581521400@workforce.sbcounty.gov
SUMMARY:Labor Market Information
DESCRIPTION:See Reception to make an appointment. Please check in 15 minutes before the start of the workshop.
URL:https://workforce.sbcounty.gov/event/labor-market-information-8/2020-02-12/
LOCATION:West Valley America’s Job Center of California\, 9650 9th Street\, Suite B\, Rancho Cucamonga\, CA\, 91730\, United States
CATEGORIES:AJCC - West Valley,Job Seeker Workshops
GEO:34.0965707;-117.5949557
X-APPLE-STRUCTURED-LOCATION;VALUE=URI;X-ADDRESS=West Valley America’s Job Center of California 9650 9th Street Suite B Rancho Cucamonga CA 91730 United States;X-APPLE-RADIUS=500;X-TITLE=9650 9th Street\, Suite B:geo:-117.5949557,34.0965707
END:VEVENT
BEGIN:VEVENT
DTSTART;TZID=America/Denver:20200210T133000
DTEND;TZID=America/Denver:20200210T153000
DTSTAMP:20260423T122502
CREATED:20190725T210300Z
LAST-MODIFIED:20190725T210300Z
UID:10013325-1581341400-1581348600@workforce.sbcounty.gov
SUMMARY:Resume Strategies
DESCRIPTION:See Reception to make an appointment. Please check in 15 minutes before the start of the workshop.
URL:https://workforce.sbcounty.gov/event/resume-strategies-2/2020-02-10/
LOCATION:West Valley America’s Job Center of California\, 9650 9th Street\, Suite B\, Rancho Cucamonga\, CA\, 91730\, United States
CATEGORIES:AJCC - West Valley,Job Seeker Workshops
GEO:34.0965707;-117.5949557
X-APPLE-STRUCTURED-LOCATION;VALUE=URI;X-ADDRESS=West Valley America’s Job Center of California 9650 9th Street Suite B Rancho Cucamonga CA 91730 United States;X-APPLE-RADIUS=500;X-TITLE=9650 9th Street\, Suite B:geo:-117.5949557,34.0965707
END:VEVENT
BEGIN:VEVENT
DTSTART;TZID=America/Denver:20200206T090000
DTEND;TZID=America/Denver:20200206T110000
DTSTAMP:20260423T122502
CREATED:20190626T222428Z
LAST-MODIFIED:20190626T222428Z
UID:10011753-1580979600-1580986800@workforce.sbcounty.gov
SUMMARY:Network Unlimited
DESCRIPTION:See Reception to make an appointment. Please check in 15 minutes before the start of the workshop.
URL:https://workforce.sbcounty.gov/event/network-unlimited-2/2020-02-06/
LOCATION:West Valley America’s Job Center of California\, 9650 9th Street\, Suite B\, Rancho Cucamonga\, CA\, 91730\, United States
CATEGORIES:AJCC - West Valley,Job Seeker Workshops
GEO:34.0965707;-117.5949557
X-APPLE-STRUCTURED-LOCATION;VALUE=URI;X-ADDRESS=West Valley America’s Job Center of California 9650 9th Street Suite B Rancho Cucamonga CA 91730 United States;X-APPLE-RADIUS=500;X-TITLE=9650 9th Street\, Suite B:geo:-117.5949557,34.0965707
END:VEVENT
BEGIN:VEVENT
DTSTART;TZID=America/Denver:20200204T090000
DTEND;TZID=America/Denver:20200204T120000
DTSTAMP:20260423T122502
CREATED:20190725T210624Z
LAST-MODIFIED:20190725T210624Z
UID:10013361-1580806800-1580817600@workforce.sbcounty.gov
SUMMARY:Hiring Event
DESCRIPTION:See Reception to make an appointment. Please check in 15 minutes before the start of the workshop.
URL:https://workforce.sbcounty.gov/event/hiring-event-19/2020-02-04/
LOCATION:West Valley America’s Job Center of California\, 9650 9th Street\, Suite B\, Rancho Cucamonga\, CA\, 91730\, United States
CATEGORIES:AJCC - West Valley,Recruitments/Job Fairs
GEO:34.0965707;-117.5949557
X-APPLE-STRUCTURED-LOCATION;VALUE=URI;X-ADDRESS=West Valley America’s Job Center of California 9650 9th Street Suite B Rancho Cucamonga CA 91730 United States;X-APPLE-RADIUS=500;X-TITLE=9650 9th Street\, Suite B:geo:-117.5949557,34.0965707
END:VEVENT
BEGIN:VEVENT
DTSTART;TZID=America/Denver:20200128T130000
DTEND;TZID=America/Denver:20200128T150000
DTSTAMP:20260423T122502
CREATED:20190725T212118Z
LAST-MODIFIED:20190725T212118Z
UID:10013490-1580216400-1580223600@workforce.sbcounty.gov
SUMMARY:Navigating CalJOBS
DESCRIPTION:See Reception to make an appointment. Please check in 15 minutes before the start of the workshop.
URL:https://workforce.sbcounty.gov/event/navigating-caljobs-10/2020-01-28/
LOCATION:West Valley America’s Job Center of California\, 9650 9th Street\, Suite B\, Rancho Cucamonga\, CA\, 91730\, United States
CATEGORIES:AJCC - West Valley,Job Seeker Workshops
GEO:34.0965707;-117.5949557
X-APPLE-STRUCTURED-LOCATION;VALUE=URI;X-ADDRESS=West Valley America’s Job Center of California 9650 9th Street Suite B Rancho Cucamonga CA 91730 United States;X-APPLE-RADIUS=500;X-TITLE=9650 9th Street\, Suite B:geo:-117.5949557,34.0965707
END:VEVENT
BEGIN:VEVENT
DTSTART;TZID=America/Denver:20200127T133000
DTEND;TZID=America/Denver:20200127T153000
DTSTAMP:20260423T122502
CREATED:20190725T211151Z
LAST-MODIFIED:20190725T211151Z
UID:10013409-1580131800-1580139000@workforce.sbcounty.gov
SUMMARY:Job Search Strategies
DESCRIPTION:See Reception to make an appointment. Please check in 15 minutes before the start of the workshop.
URL:https://workforce.sbcounty.gov/event/job-search-strategies-3/2020-01-27/
LOCATION:West Valley America’s Job Center of California\, 9650 9th Street\, Suite B\, Rancho Cucamonga\, CA\, 91730\, United States
CATEGORIES:AJCC - West Valley,Job Seeker Workshops
GEO:34.0965707;-117.5949557
X-APPLE-STRUCTURED-LOCATION;VALUE=URI;X-ADDRESS=West Valley America’s Job Center of California 9650 9th Street Suite B Rancho Cucamonga CA 91730 United States;X-APPLE-RADIUS=500;X-TITLE=9650 9th Street\, Suite B:geo:-117.5949557,34.0965707
END:VEVENT
BEGIN:VEVENT
DTSTART;TZID=America/Denver:20200123T100000
DTEND;TZID=America/Denver:20200123T110000
DTSTAMP:20260423T122502
CREATED:20190725T211021Z
LAST-MODIFIED:20190725T211021Z
UID:10013388-1579773600-1579777200@workforce.sbcounty.gov
SUMMARY:Financial Literacy
DESCRIPTION:See Reception to make an appointment. Please check in 15 minutes before the start of the workshop.
URL:https://workforce.sbcounty.gov/event/financial-literacy/2020-01-23/
LOCATION:West Valley America’s Job Center of California\, 9650 9th Street\, Suite B\, Rancho Cucamonga\, CA\, 91730\, United States
CATEGORIES:AJCC - West Valley,Job Seeker Workshops
GEO:34.0965707;-117.5949557
X-APPLE-STRUCTURED-LOCATION;VALUE=URI;X-ADDRESS=West Valley America’s Job Center of California 9650 9th Street Suite B Rancho Cucamonga CA 91730 United States;X-APPLE-RADIUS=500;X-TITLE=9650 9th Street\, Suite B:geo:-117.5949557,34.0965707
END:VEVENT
BEGIN:VEVENT
DTSTART;TZID=America/Denver:20200121T133000
DTEND;TZID=America/Denver:20200121T153000
DTSTAMP:20260423T122502
CREATED:20190725T212001Z
LAST-MODIFIED:20190725T212001Z
UID:10013472-1579613400-1579620600@workforce.sbcounty.gov
SUMMARY:Sugerencias para Empleo
DESCRIPTION:Consulte a la recepcionista para programar una cita. Por favor\, regístrese 15 minutos antes del inicio del taller. \nSee Reception to make an appointment. Please check in 15 minutes before the start of the workshop.
URL:https://workforce.sbcounty.gov/event/sugerencias-para-empleo-5/2020-01-21/
LOCATION:West Valley America’s Job Center of California\, 9650 9th Street\, Suite B\, Rancho Cucamonga\, CA\, 91730\, United States
CATEGORIES:AJCC - West Valley,Job Seeker Workshops
GEO:34.0965707;-117.5949557
X-APPLE-STRUCTURED-LOCATION;VALUE=URI;X-ADDRESS=West Valley America’s Job Center of California 9650 9th Street Suite B Rancho Cucamonga CA 91730 United States;X-APPLE-RADIUS=500;X-TITLE=9650 9th Street\, Suite B:geo:-117.5949557,34.0965707
END:VEVENT
BEGIN:VEVENT
DTSTART;TZID=America/Denver:20200121T090000
DTEND;TZID=America/Denver:20200121T120000
DTSTAMP:20260423T122502
CREATED:20190725T210624Z
LAST-MODIFIED:20190725T210624Z
UID:10013358-1579597200-1579608000@workforce.sbcounty.gov
SUMMARY:Hiring Event
DESCRIPTION:See Reception to make an appointment. Please check in 15 minutes before the start of the workshop.
URL:https://workforce.sbcounty.gov/event/hiring-event-19/2020-01-21/
LOCATION:West Valley America’s Job Center of California\, 9650 9th Street\, Suite B\, Rancho Cucamonga\, CA\, 91730\, United States
CATEGORIES:AJCC - West Valley,Recruitments/Job Fairs
GEO:34.0965707;-117.5949557
X-APPLE-STRUCTURED-LOCATION;VALUE=URI;X-ADDRESS=West Valley America’s Job Center of California 9650 9th Street Suite B Rancho Cucamonga CA 91730 United States;X-APPLE-RADIUS=500;X-TITLE=9650 9th Street\, Suite B:geo:-117.5949557,34.0965707
END:VEVENT
BEGIN:VEVENT
DTSTART;TZID=America/Denver:20200117T153000
DTEND;TZID=America/Denver:20200117T163000
DTSTAMP:20260423T122502
CREATED:20190725T212334Z
LAST-MODIFIED:20190725T212334Z
UID:10013517-1579275000-1579278600@workforce.sbcounty.gov
SUMMARY:Job Preparation for Youth
DESCRIPTION:See Reception to make an appointment. Please check in 15 minutes before the start of the workshop.
URL:https://workforce.sbcounty.gov/event/job-preparation-for-youth-12/2020-01-17/
LOCATION:West Valley America’s Job Center of California\, 9650 9th Street\, Suite B\, Rancho Cucamonga\, CA\, 91730\, United States
CATEGORIES:AJCC - West Valley,Job Seeker Workshops
GEO:34.0965707;-117.5949557
X-APPLE-STRUCTURED-LOCATION;VALUE=URI;X-ADDRESS=West Valley America’s Job Center of California 9650 9th Street Suite B Rancho Cucamonga CA 91730 United States;X-APPLE-RADIUS=500;X-TITLE=9650 9th Street\, Suite B:geo:-117.5949557,34.0965707
END:VEVENT
BEGIN:VEVENT
DTSTART;TZID=America/Denver:20200117T083000
DTEND;TZID=America/Denver:20200117T120000
DTSTAMP:20260423T122502
CREATED:20190725T212234Z
LAST-MODIFIED:20190725T212234Z
UID:10013505-1579249800-1579262400@workforce.sbcounty.gov
SUMMARY:Veteran's Job Search
DESCRIPTION:See Reception to make an appointment. Please check in 15 minutes before the start of the workshop.
URL:https://workforce.sbcounty.gov/event/veterans-job-search-9/2020-01-17/
LOCATION:West Valley America’s Job Center of California\, 9650 9th Street\, Suite B\, Rancho Cucamonga\, CA\, 91730\, United States
CATEGORIES:AJCC - West Valley,Job Seeker Workshops
GEO:34.0965707;-117.5949557
X-APPLE-STRUCTURED-LOCATION;VALUE=URI;X-ADDRESS=West Valley America’s Job Center of California 9650 9th Street Suite B Rancho Cucamonga CA 91730 United States;X-APPLE-RADIUS=500;X-TITLE=9650 9th Street\, Suite B:geo:-117.5949557,34.0965707
END:VEVENT
BEGIN:VEVENT
DTSTART;TZID=America/Denver:20200116T090000
DTEND;TZID=America/Denver:20200116T110000
DTSTAMP:20260423T122502
CREATED:20190626T222428Z
LAST-MODIFIED:20190626T222428Z
UID:10011750-1579165200-1579172400@workforce.sbcounty.gov
SUMMARY:Network Unlimited
DESCRIPTION:See Reception to make an appointment. Please check in 15 minutes before the start of the workshop.
URL:https://workforce.sbcounty.gov/event/network-unlimited-2/2020-01-16/
LOCATION:West Valley America’s Job Center of California\, 9650 9th Street\, Suite B\, Rancho Cucamonga\, CA\, 91730\, United States
CATEGORIES:AJCC - West Valley,Job Seeker Workshops
GEO:34.0965707;-117.5949557
X-APPLE-STRUCTURED-LOCATION;VALUE=URI;X-ADDRESS=West Valley America’s Job Center of California 9650 9th Street Suite B Rancho Cucamonga CA 91730 United States;X-APPLE-RADIUS=500;X-TITLE=9650 9th Street\, Suite B:geo:-117.5949557,34.0965707
END:VEVENT
BEGIN:VEVENT
DTSTART;TZID=America/Denver:20200113T133000
DTEND;TZID=America/Denver:20200113T153000
DTSTAMP:20260423T122502
CREATED:20190725T210300Z
LAST-MODIFIED:20190725T210300Z
UID:10013322-1578922200-1578929400@workforce.sbcounty.gov
SUMMARY:Resume Strategies
DESCRIPTION:See Reception to make an appointment. Please check in 15 minutes before the start of the workshop.
URL:https://workforce.sbcounty.gov/event/resume-strategies-2/2020-01-13/
LOCATION:West Valley America’s Job Center of California\, 9650 9th Street\, Suite B\, Rancho Cucamonga\, CA\, 91730\, United States
CATEGORIES:AJCC - West Valley,Job Seeker Workshops
GEO:34.0965707;-117.5949557
X-APPLE-STRUCTURED-LOCATION;VALUE=URI;X-ADDRESS=West Valley America’s Job Center of California 9650 9th Street Suite B Rancho Cucamonga CA 91730 United States;X-APPLE-RADIUS=500;X-TITLE=9650 9th Street\, Suite B:geo:-117.5949557,34.0965707
END:VEVENT
BEGIN:VEVENT
DTSTART;TZID=America/Denver:20200109T100000
DTEND;TZID=America/Denver:20200109T110000
DTSTAMP:20260423T122502
CREATED:20190725T211021Z
LAST-MODIFIED:20190725T211021Z
UID:10013385-1578564000-1578567600@workforce.sbcounty.gov
SUMMARY:Financial Literacy
DESCRIPTION:See Reception to make an appointment. Please check in 15 minutes before the start of the workshop.
URL:https://workforce.sbcounty.gov/event/financial-literacy/2020-01-09/
LOCATION:West Valley America’s Job Center of California\, 9650 9th Street\, Suite B\, Rancho Cucamonga\, CA\, 91730\, United States
CATEGORIES:AJCC - West Valley,Job Seeker Workshops
GEO:34.0965707;-117.5949557
X-APPLE-STRUCTURED-LOCATION;VALUE=URI;X-ADDRESS=West Valley America’s Job Center of California 9650 9th Street Suite B Rancho Cucamonga CA 91730 United States;X-APPLE-RADIUS=500;X-TITLE=9650 9th Street\, Suite B:geo:-117.5949557,34.0965707
END:VEVENT
BEGIN:VEVENT
DTSTART;TZID=America/Denver:20200108T133000
DTEND;TZID=America/Denver:20200108T153000
DTSTAMP:20260423T122502
CREATED:20190725T211459Z
LAST-MODIFIED:20190725T211459Z
UID:10013433-1578490200-1578497400@workforce.sbcounty.gov
SUMMARY:Labor Market Information
DESCRIPTION:See Reception to make an appointment. Please check in 15 minutes before the start of the workshop.
URL:https://workforce.sbcounty.gov/event/labor-market-information-8/2020-01-08/
LOCATION:West Valley America’s Job Center of California\, 9650 9th Street\, Suite B\, Rancho Cucamonga\, CA\, 91730\, United States
CATEGORIES:AJCC - West Valley,Job Seeker Workshops
GEO:34.0965707;-117.5949557
X-APPLE-STRUCTURED-LOCATION;VALUE=URI;X-ADDRESS=West Valley America’s Job Center of California 9650 9th Street Suite B Rancho Cucamonga CA 91730 United States;X-APPLE-RADIUS=500;X-TITLE=9650 9th Street\, Suite B:geo:-117.5949557,34.0965707
END:VEVENT
BEGIN:VEVENT
DTSTART;TZID=America/Denver:20200107T090000
DTEND;TZID=America/Denver:20200107T120000
DTSTAMP:20260423T122502
CREATED:20190725T210624Z
LAST-MODIFIED:20190725T210624Z
UID:10013355-1578387600-1578398400@workforce.sbcounty.gov
SUMMARY:Hiring Event
DESCRIPTION:See Reception to make an appointment. Please check in 15 minutes before the start of the workshop.
URL:https://workforce.sbcounty.gov/event/hiring-event-19/2020-01-07/
LOCATION:West Valley America’s Job Center of California\, 9650 9th Street\, Suite B\, Rancho Cucamonga\, CA\, 91730\, United States
CATEGORIES:AJCC - West Valley,Recruitments/Job Fairs
GEO:34.0965707;-117.5949557
X-APPLE-STRUCTURED-LOCATION;VALUE=URI;X-ADDRESS=West Valley America’s Job Center of California 9650 9th Street Suite B Rancho Cucamonga CA 91730 United States;X-APPLE-RADIUS=500;X-TITLE=9650 9th Street\, Suite B:geo:-117.5949557,34.0965707
END:VEVENT
BEGIN:VEVENT
DTSTART;TZID=America/Denver:20200106T133000
DTEND;TZID=America/Denver:20200106T153000
DTSTAMP:20260423T122502
CREATED:20190725T211755Z
LAST-MODIFIED:20190725T211755Z
UID:10013457-1578317400-1578324600@workforce.sbcounty.gov
SUMMARY:Interview Strategies
DESCRIPTION:See Reception to make an appointment. Please check in 15 minutes before the start of the workshop.
URL:https://workforce.sbcounty.gov/event/interview-strategies-3/2020-01-06/
LOCATION:West Valley America’s Job Center of California\, 9650 9th Street\, Suite B\, Rancho Cucamonga\, CA\, 91730\, United States
CATEGORIES:AJCC - West Valley,Job Seeker Workshops
GEO:34.0965707;-117.5949557
X-APPLE-STRUCTURED-LOCATION;VALUE=URI;X-ADDRESS=West Valley America’s Job Center of California 9650 9th Street Suite B Rancho Cucamonga CA 91730 United States;X-APPLE-RADIUS=500;X-TITLE=9650 9th Street\, Suite B:geo:-117.5949557,34.0965707
END:VEVENT
BEGIN:VEVENT
DTSTART;TZID=America/Denver:20191202T133000
DTEND;TZID=America/Denver:20191202T153000
DTSTAMP:20260423T122502
CREATED:20190725T211755Z
LAST-MODIFIED:20190725T211755Z
UID:10013454-1575293400-1575300600@workforce.sbcounty.gov
SUMMARY:Interview Strategies
DESCRIPTION:See Reception to make an appointment. Please check in 15 minutes before the start of the workshop.
URL:https://workforce.sbcounty.gov/event/interview-strategies-3/2019-12-02/
LOCATION:West Valley America’s Job Center of California\, 9650 9th Street\, Suite B\, Rancho Cucamonga\, CA\, 91730\, United States
CATEGORIES:AJCC - West Valley,Job Seeker Workshops
GEO:34.0965707;-117.5949557
X-APPLE-STRUCTURED-LOCATION;VALUE=URI;X-ADDRESS=West Valley America’s Job Center of California 9650 9th Street Suite B Rancho Cucamonga CA 91730 United States;X-APPLE-RADIUS=500;X-TITLE=9650 9th Street\, Suite B:geo:-117.5949557,34.0965707
END:VEVENT
BEGIN:VEVENT
DTSTART;TZID=America/Denver:20191126T130000
DTEND;TZID=America/Denver:20191126T150000
DTSTAMP:20260423T122502
CREATED:20190725T212118Z
LAST-MODIFIED:20190725T212118Z
UID:10013487-1574773200-1574780400@workforce.sbcounty.gov
SUMMARY:Navigating CalJOBS
DESCRIPTION:See Reception to make an appointment. Please check in 15 minutes before the start of the workshop.
URL:https://workforce.sbcounty.gov/event/navigating-caljobs-10/2019-11-26/
LOCATION:West Valley America’s Job Center of California\, 9650 9th Street\, Suite B\, Rancho Cucamonga\, CA\, 91730\, United States
CATEGORIES:AJCC - West Valley,Job Seeker Workshops
GEO:34.0965707;-117.5949557
X-APPLE-STRUCTURED-LOCATION;VALUE=URI;X-ADDRESS=West Valley America’s Job Center of California 9650 9th Street Suite B Rancho Cucamonga CA 91730 United States;X-APPLE-RADIUS=500;X-TITLE=9650 9th Street\, Suite B:geo:-117.5949557,34.0965707
END:VEVENT
BEGIN:VEVENT
DTSTART;TZID=America/Denver:20191125T133000
DTEND;TZID=America/Denver:20191125T153000
DTSTAMP:20260423T122502
CREATED:20190725T211151Z
LAST-MODIFIED:20190725T211151Z
UID:10013406-1574688600-1574695800@workforce.sbcounty.gov
SUMMARY:Job Search Strategies
DESCRIPTION:See Reception to make an appointment. Please check in 15 minutes before the start of the workshop.
URL:https://workforce.sbcounty.gov/event/job-search-strategies-3/2019-11-25/
LOCATION:West Valley America’s Job Center of California\, 9650 9th Street\, Suite B\, Rancho Cucamonga\, CA\, 91730\, United States
CATEGORIES:AJCC - West Valley,Job Seeker Workshops
GEO:34.0965707;-117.5949557
X-APPLE-STRUCTURED-LOCATION;VALUE=URI;X-ADDRESS=West Valley America’s Job Center of California 9650 9th Street Suite B Rancho Cucamonga CA 91730 United States;X-APPLE-RADIUS=500;X-TITLE=9650 9th Street\, Suite B:geo:-117.5949557,34.0965707
END:VEVENT
BEGIN:VEVENT
DTSTART;TZID=America/Denver:20191121T090000
DTEND;TZID=America/Denver:20191121T110000
DTSTAMP:20260423T122502
CREATED:20190626T222428Z
LAST-MODIFIED:20190626T222428Z
UID:10011747-1574326800-1574334000@workforce.sbcounty.gov
SUMMARY:Network Unlimited
DESCRIPTION:See Reception to make an appointment. Please check in 15 minutes before the start of the workshop.
URL:https://workforce.sbcounty.gov/event/network-unlimited-2/2019-11-21/
LOCATION:West Valley America’s Job Center of California\, 9650 9th Street\, Suite B\, Rancho Cucamonga\, CA\, 91730\, United States
CATEGORIES:AJCC - West Valley,Job Seeker Workshops
GEO:34.0965707;-117.5949557
X-APPLE-STRUCTURED-LOCATION;VALUE=URI;X-ADDRESS=West Valley America’s Job Center of California 9650 9th Street Suite B Rancho Cucamonga CA 91730 United States;X-APPLE-RADIUS=500;X-TITLE=9650 9th Street\, Suite B:geo:-117.5949557,34.0965707
END:VEVENT
BEGIN:VEVENT
DTSTART;TZID=America/Denver:20191119T133000
DTEND;TZID=America/Denver:20191119T153000
DTSTAMP:20260423T122502
CREATED:20190725T212001Z
LAST-MODIFIED:20190725T212001Z
UID:10013469-1574170200-1574177400@workforce.sbcounty.gov
SUMMARY:Sugerencias para Empleo
DESCRIPTION:Consulte a la recepcionista para programar una cita. Por favor\, regístrese 15 minutos antes del inicio del taller. \nSee Reception to make an appointment. Please check in 15 minutes before the start of the workshop.
URL:https://workforce.sbcounty.gov/event/sugerencias-para-empleo-5/2019-11-19/
LOCATION:West Valley America’s Job Center of California\, 9650 9th Street\, Suite B\, Rancho Cucamonga\, CA\, 91730\, United States
CATEGORIES:AJCC - West Valley,Job Seeker Workshops
GEO:34.0965707;-117.5949557
X-APPLE-STRUCTURED-LOCATION;VALUE=URI;X-ADDRESS=West Valley America’s Job Center of California 9650 9th Street Suite B Rancho Cucamonga CA 91730 United States;X-APPLE-RADIUS=500;X-TITLE=9650 9th Street\, Suite B:geo:-117.5949557,34.0965707
END:VEVENT
BEGIN:VEVENT
DTSTART;TZID=America/Denver:20191119T090000
DTEND;TZID=America/Denver:20191119T120000
DTSTAMP:20260423T122502
CREATED:20190725T210624Z
LAST-MODIFIED:20190725T210624Z
UID:10013352-1574154000-1574164800@workforce.sbcounty.gov
SUMMARY:Hiring Event
DESCRIPTION:See Reception to make an appointment. Please check in 15 minutes before the start of the workshop.
URL:https://workforce.sbcounty.gov/event/hiring-event-19/2019-11-19/
LOCATION:West Valley America’s Job Center of California\, 9650 9th Street\, Suite B\, Rancho Cucamonga\, CA\, 91730\, United States
CATEGORIES:AJCC - West Valley,Recruitments/Job Fairs
GEO:34.0965707;-117.5949557
X-APPLE-STRUCTURED-LOCATION;VALUE=URI;X-ADDRESS=West Valley America’s Job Center of California 9650 9th Street Suite B Rancho Cucamonga CA 91730 United States;X-APPLE-RADIUS=500;X-TITLE=9650 9th Street\, Suite B:geo:-117.5949557,34.0965707
END:VEVENT
BEGIN:VEVENT
DTSTART;TZID=America/Denver:20191115T153000
DTEND;TZID=America/Denver:20191115T163000
DTSTAMP:20260423T122502
CREATED:20190725T212334Z
LAST-MODIFIED:20190725T212334Z
UID:10013514-1573831800-1573835400@workforce.sbcounty.gov
SUMMARY:Job Preparation for Youth
DESCRIPTION:See Reception to make an appointment. Please check in 15 minutes before the start of the workshop.
URL:https://workforce.sbcounty.gov/event/job-preparation-for-youth-12/2019-11-15/
LOCATION:West Valley America’s Job Center of California\, 9650 9th Street\, Suite B\, Rancho Cucamonga\, CA\, 91730\, United States
CATEGORIES:AJCC - West Valley,Job Seeker Workshops
GEO:34.0965707;-117.5949557
X-APPLE-STRUCTURED-LOCATION;VALUE=URI;X-ADDRESS=West Valley America’s Job Center of California 9650 9th Street Suite B Rancho Cucamonga CA 91730 United States;X-APPLE-RADIUS=500;X-TITLE=9650 9th Street\, Suite B:geo:-117.5949557,34.0965707
END:VEVENT
BEGIN:VEVENT
DTSTART;TZID=America/Denver:20191114T100000
DTEND;TZID=America/Denver:20191114T110000
DTSTAMP:20260423T122502
CREATED:20190725T211021Z
LAST-MODIFIED:20190725T211021Z
UID:10013382-1573725600-1573729200@workforce.sbcounty.gov
SUMMARY:Financial Literacy
DESCRIPTION:See Reception to make an appointment. Please check in 15 minutes before the start of the workshop.
URL:https://workforce.sbcounty.gov/event/financial-literacy/2019-11-14/
LOCATION:West Valley America’s Job Center of California\, 9650 9th Street\, Suite B\, Rancho Cucamonga\, CA\, 91730\, United States
CATEGORIES:AJCC - West Valley,Job Seeker Workshops
GEO:34.0965707;-117.5949557
X-APPLE-STRUCTURED-LOCATION;VALUE=URI;X-ADDRESS=West Valley America’s Job Center of California 9650 9th Street Suite B Rancho Cucamonga CA 91730 United States;X-APPLE-RADIUS=500;X-TITLE=9650 9th Street\, Suite B:geo:-117.5949557,34.0965707
END:VEVENT
BEGIN:VEVENT
DTSTART;TZID=America/Denver:20191113T133000
DTEND;TZID=America/Denver:20191113T153000
DTSTAMP:20260423T122502
CREATED:20190725T211459Z
LAST-MODIFIED:20190725T211459Z
UID:10013430-1573651800-1573659000@workforce.sbcounty.gov
SUMMARY:Labor Market Information
DESCRIPTION:See Reception to make an appointment. Please check in 15 minutes before the start of the workshop.
URL:https://workforce.sbcounty.gov/event/labor-market-information-8/2019-11-13/
LOCATION:West Valley America’s Job Center of California\, 9650 9th Street\, Suite B\, Rancho Cucamonga\, CA\, 91730\, United States
CATEGORIES:AJCC - West Valley,Job Seeker Workshops
GEO:34.0965707;-117.5949557
X-APPLE-STRUCTURED-LOCATION;VALUE=URI;X-ADDRESS=West Valley America’s Job Center of California 9650 9th Street Suite B Rancho Cucamonga CA 91730 United States;X-APPLE-RADIUS=500;X-TITLE=9650 9th Street\, Suite B:geo:-117.5949557,34.0965707
END:VEVENT
BEGIN:VEVENT
DTSTART;TZID=America/Denver:20191107T090000
DTEND;TZID=America/Denver:20191107T110000
DTSTAMP:20260423T122502
CREATED:20190626T222428Z
LAST-MODIFIED:20190626T222428Z
UID:10011744-1573117200-1573124400@workforce.sbcounty.gov
SUMMARY:Network Unlimited
DESCRIPTION:See Reception to make an appointment. Please check in 15 minutes before the start of the workshop.
URL:https://workforce.sbcounty.gov/event/network-unlimited-2/2019-11-07/
LOCATION:West Valley America’s Job Center of California\, 9650 9th Street\, Suite B\, Rancho Cucamonga\, CA\, 91730\, United States
CATEGORIES:AJCC - West Valley,Job Seeker Workshops
GEO:34.0965707;-117.5949557
X-APPLE-STRUCTURED-LOCATION;VALUE=URI;X-ADDRESS=West Valley America’s Job Center of California 9650 9th Street Suite B Rancho Cucamonga CA 91730 United States;X-APPLE-RADIUS=500;X-TITLE=9650 9th Street\, Suite B:geo:-117.5949557,34.0965707
END:VEVENT
BEGIN:VEVENT
DTSTART;TZID=America/Denver:20191105T090000
DTEND;TZID=America/Denver:20191105T120000
DTSTAMP:20260423T122502
CREATED:20190725T210624Z
LAST-MODIFIED:20190725T210624Z
UID:10013349-1572944400-1572955200@workforce.sbcounty.gov
SUMMARY:Hiring Event
DESCRIPTION:See Reception to make an appointment. Please check in 15 minutes before the start of the workshop.
URL:https://workforce.sbcounty.gov/event/hiring-event-19/2019-11-05/
LOCATION:West Valley America’s Job Center of California\, 9650 9th Street\, Suite B\, Rancho Cucamonga\, CA\, 91730\, United States
CATEGORIES:AJCC - West Valley,Recruitments/Job Fairs
GEO:34.0965707;-117.5949557
X-APPLE-STRUCTURED-LOCATION;VALUE=URI;X-ADDRESS=West Valley America’s Job Center of California 9650 9th Street Suite B Rancho Cucamonga CA 91730 United States;X-APPLE-RADIUS=500;X-TITLE=9650 9th Street\, Suite B:geo:-117.5949557,34.0965707
END:VEVENT
BEGIN:VEVENT
DTSTART;TZID=America/Denver:20191104T133000
DTEND;TZID=America/Denver:20191104T153000
DTSTAMP:20260423T122502
CREATED:20190725T211755Z
LAST-MODIFIED:20190725T211755Z
UID:10013451-1572874200-1572881400@workforce.sbcounty.gov
SUMMARY:Interview Strategies
DESCRIPTION:See Reception to make an appointment. Please check in 15 minutes before the start of the workshop.
URL:https://workforce.sbcounty.gov/event/interview-strategies-3/2019-11-04/
LOCATION:West Valley America’s Job Center of California\, 9650 9th Street\, Suite B\, Rancho Cucamonga\, CA\, 91730\, United States
CATEGORIES:AJCC - West Valley,Job Seeker Workshops
GEO:34.0965707;-117.5949557
X-APPLE-STRUCTURED-LOCATION;VALUE=URI;X-ADDRESS=West Valley America’s Job Center of California 9650 9th Street Suite B Rancho Cucamonga CA 91730 United States;X-APPLE-RADIUS=500;X-TITLE=9650 9th Street\, Suite B:geo:-117.5949557,34.0965707
END:VEVENT
END:VCALENDAR