BEGIN:VCALENDAR
VERSION:2.0
PRODID:-//Workforce Development - ECPv6.15.14//NONSGML v1.0//EN
CALSCALE:GREGORIAN
METHOD:PUBLISH
X-ORIGINAL-URL:https://workforce.sbcounty.gov
X-WR-CALDESC:Events for Workforce Development
REFRESH-INTERVAL;VALUE=DURATION:PT1H
X-Robots-Tag:noindex
X-PUBLISHED-TTL:PT1H
BEGIN:VTIMEZONE
TZID:America/Denver
BEGIN:DAYLIGHT
TZOFFSETFROM:-0700
TZOFFSETTO:-0600
TZNAME:MDT
DTSTART:20170312T090000
END:DAYLIGHT
BEGIN:STANDARD
TZOFFSETFROM:-0600
TZOFFSETTO:-0700
TZNAME:MST
DTSTART:20171105T080000
END:STANDARD
BEGIN:DAYLIGHT
TZOFFSETFROM:-0700
TZOFFSETTO:-0600
TZNAME:MDT
DTSTART:20180311T090000
END:DAYLIGHT
BEGIN:STANDARD
TZOFFSETFROM:-0600
TZOFFSETTO:-0700
TZNAME:MST
DTSTART:20181104T080000
END:STANDARD
BEGIN:DAYLIGHT
TZOFFSETFROM:-0700
TZOFFSETTO:-0600
TZNAME:MDT
DTSTART:20190310T090000
END:DAYLIGHT
BEGIN:STANDARD
TZOFFSETFROM:-0600
TZOFFSETTO:-0700
TZNAME:MST
DTSTART:20191103T080000
END:STANDARD
BEGIN:DAYLIGHT
TZOFFSETFROM:-0700
TZOFFSETTO:-0600
TZNAME:MDT
DTSTART:20200308T090000
END:DAYLIGHT
BEGIN:STANDARD
TZOFFSETFROM:-0600
TZOFFSETTO:-0700
TZNAME:MST
DTSTART:20201101T080000
END:STANDARD
END:VTIMEZONE
BEGIN:VEVENT
DTSTART;TZID=America/Denver:20190618T133000
DTEND;TZID=America/Denver:20190618T153000
DTSTAMP:20260424T124045
CREATED:20190530T171336Z
LAST-MODIFIED:20190530T171336Z
UID:10013070-1560864600-1560871800@workforce.sbcounty.gov
SUMMARY:Sugerencias para Empleo
DESCRIPTION:Consulte a la recepcionista para programar una cita. Por favor\, regístrese 15 minutos antes del inicio del taller.\nSee Reception to make an appointment. Please check in 15 minutes before the start of the workshop.
URL:https://workforce.sbcounty.gov/event/sugerencias-para-empleo-3/
LOCATION:West Valley America’s Job Center of California\, 9650 9th Street\, Suite B\, Rancho Cucamonga\, CA\, 91730\, United States
CATEGORIES:AJCC - West Valley,Job Seeker Workshops
GEO:34.0965707;-117.5949557
X-APPLE-STRUCTURED-LOCATION;VALUE=URI;X-ADDRESS=West Valley America’s Job Center of California 9650 9th Street Suite B Rancho Cucamonga CA 91730 United States;X-APPLE-RADIUS=500;X-TITLE=9650 9th Street\, Suite B:geo:-117.5949557,34.0965707
END:VEVENT
BEGIN:VEVENT
DTSTART;TZID=America/Denver:20190618T090000
DTEND;TZID=America/Denver:20190618T120000
DTSTAMP:20260424T124045
CREATED:20190530T170305Z
LAST-MODIFIED:20190530T170305Z
UID:10013055-1560848400-1560859200@workforce.sbcounty.gov
SUMMARY:Hiring Event
DESCRIPTION:See Reception to make an appointment. Please check in 15 minutes before the start of the workshop.
URL:https://workforce.sbcounty.gov/event/hiring-event-16/2019-06-18/
LOCATION:West Valley America’s Job Center of California\, 9650 9th Street\, Suite B\, Rancho Cucamonga\, CA\, 91730\, United States
CATEGORIES:AJCC - West Valley,Recruitments/Job Fairs
GEO:34.0965707;-117.5949557
X-APPLE-STRUCTURED-LOCATION;VALUE=URI;X-ADDRESS=West Valley America’s Job Center of California 9650 9th Street Suite B Rancho Cucamonga CA 91730 United States;X-APPLE-RADIUS=500;X-TITLE=9650 9th Street\, Suite B:geo:-117.5949557,34.0965707
END:VEVENT
BEGIN:VEVENT
DTSTART;TZID=America/Denver:20190617T090000
DTEND;TZID=America/Denver:20190617T113000
DTSTAMP:20260424T124045
CREATED:20190530T164753Z
LAST-MODIFIED:20190530T164753Z
UID:10013034-1560762000-1560771000@workforce.sbcounty.gov
SUMMARY:Network Unlimited
DESCRIPTION:See Reception to make an appointment. Please check in 15 minutes before the start of the workshop.
URL:https://workforce.sbcounty.gov/event/network-unlimited-workshop/2019-06-17/
LOCATION:West Valley America’s Job Center of California\, 9650 9th Street\, Suite B\, Rancho Cucamonga\, CA\, 91730\, United States
CATEGORIES:AJCC - West Valley,Job Seeker Workshops
GEO:34.0965707;-117.5949557
X-APPLE-STRUCTURED-LOCATION;VALUE=URI;X-ADDRESS=West Valley America’s Job Center of California 9650 9th Street Suite B Rancho Cucamonga CA 91730 United States;X-APPLE-RADIUS=500;X-TITLE=9650 9th Street\, Suite B:geo:-117.5949557,34.0965707
END:VEVENT
BEGIN:VEVENT
DTSTART;TZID=America/Denver:20190611T133000
DTEND;TZID=America/Denver:20190611T153000
DTSTAMP:20260424T124045
CREATED:20190530T171050Z
LAST-MODIFIED:20190530T171050Z
UID:10013067-1560259800-1560267000@workforce.sbcounty.gov
SUMMARY:Labor Market Information
DESCRIPTION:See Reception to make an appointment. Please check in 15 minutes before the start of the workshop.
URL:https://workforce.sbcounty.gov/event/labor-market-information-workshop-4/
LOCATION:West Valley America’s Job Center of California\, 9650 9th Street\, Suite B\, Rancho Cucamonga\, CA\, 91730\, United States
CATEGORIES:AJCC - West Valley,Job Seeker Workshops
GEO:34.0965707;-117.5949557
X-APPLE-STRUCTURED-LOCATION;VALUE=URI;X-ADDRESS=West Valley America’s Job Center of California 9650 9th Street Suite B Rancho Cucamonga CA 91730 United States;X-APPLE-RADIUS=500;X-TITLE=9650 9th Street\, Suite B:geo:-117.5949557,34.0965707
END:VEVENT
BEGIN:VEVENT
DTSTART;TZID=America/Denver:20190611T100000
DTEND;TZID=America/Denver:20190611T120000
DTSTAMP:20260424T124045
CREATED:20190530T170807Z
LAST-MODIFIED:20190530T170807Z
UID:10013061-1560247200-1560254400@workforce.sbcounty.gov
SUMMARY:Basic Computer & MS Word
DESCRIPTION:See Reception to make an appointment. Please check in 15 minutes before the start of the workshop.
URL:https://workforce.sbcounty.gov/event/basic-computer-ms-word-workshop/2019-06-11/
LOCATION:West Valley America’s Job Center of California\, 9650 9th Street\, Suite B\, Rancho Cucamonga\, CA\, 91730\, United States
CATEGORIES:AJCC - West Valley,Job Seeker Workshops
GEO:34.0965707;-117.5949557
X-APPLE-STRUCTURED-LOCATION;VALUE=URI;X-ADDRESS=West Valley America’s Job Center of California 9650 9th Street Suite B Rancho Cucamonga CA 91730 United States;X-APPLE-RADIUS=500;X-TITLE=9650 9th Street\, Suite B:geo:-117.5949557,34.0965707
END:VEVENT
BEGIN:VEVENT
DTSTART;TZID=America/Denver:20190611T090000
DTEND;TZID=America/Denver:20190611T110000
DTSTAMP:20260424T124045
CREATED:20190530T170536Z
LAST-MODIFIED:20190530T170536Z
UID:10013058-1560243600-1560250800@workforce.sbcounty.gov
SUMMARY:Monster
DESCRIPTION:See Reception to make an appointment. Please check in 15 minutes before the start of the workshop.
URL:https://workforce.sbcounty.gov/event/monster-workshop-33/
LOCATION:West Valley America’s Job Center of California\, 9650 9th Street\, Suite B\, Rancho Cucamonga\, CA\, 91730\, United States
CATEGORIES:AJCC - West Valley,Job Seeker Workshops
GEO:34.0965707;-117.5949557
X-APPLE-STRUCTURED-LOCATION;VALUE=URI;X-ADDRESS=West Valley America’s Job Center of California 9650 9th Street Suite B Rancho Cucamonga CA 91730 United States;X-APPLE-RADIUS=500;X-TITLE=9650 9th Street\, Suite B:geo:-117.5949557,34.0965707
END:VEVENT
BEGIN:VEVENT
DTSTART;TZID=America/Denver:20190610T133000
DTEND;TZID=America/Denver:20190610T153000
DTSTAMP:20260424T124045
CREATED:20190530T165942Z
LAST-MODIFIED:20190530T165942Z
UID:10013046-1560173400-1560180600@workforce.sbcounty.gov
SUMMARY:Job Search Strategies
DESCRIPTION:See Reception to make an appointment. Please check in 15 minutes before the start of the workshop.
URL:https://workforce.sbcounty.gov/event/job-search-strategies-workshop-10/2019-06-10/
LOCATION:West Valley America’s Job Center of California\, 9650 9th Street\, Suite B\, Rancho Cucamonga\, CA\, 91730\, United States
CATEGORIES:AJCC - West Valley,Job Seeker Workshops
GEO:34.0965707;-117.5949557
X-APPLE-STRUCTURED-LOCATION;VALUE=URI;X-ADDRESS=West Valley America’s Job Center of California 9650 9th Street Suite B Rancho Cucamonga CA 91730 United States;X-APPLE-RADIUS=500;X-TITLE=9650 9th Street\, Suite B:geo:-117.5949557,34.0965707
END:VEVENT
BEGIN:VEVENT
DTSTART;TZID=America/Denver:20190610T090000
DTEND;TZID=America/Denver:20190610T113000
DTSTAMP:20260424T124045
CREATED:20190530T164753Z
LAST-MODIFIED:20190530T164753Z
UID:10013031-1560157200-1560166200@workforce.sbcounty.gov
SUMMARY:Network Unlimited
DESCRIPTION:See Reception to make an appointment. Please check in 15 minutes before the start of the workshop.
URL:https://workforce.sbcounty.gov/event/network-unlimited-workshop/2019-06-10/
LOCATION:West Valley America’s Job Center of California\, 9650 9th Street\, Suite B\, Rancho Cucamonga\, CA\, 91730\, United States
CATEGORIES:AJCC - West Valley,Job Seeker Workshops
GEO:34.0965707;-117.5949557
X-APPLE-STRUCTURED-LOCATION;VALUE=URI;X-ADDRESS=West Valley America’s Job Center of California 9650 9th Street Suite B Rancho Cucamonga CA 91730 United States;X-APPLE-RADIUS=500;X-TITLE=9650 9th Street\, Suite B:geo:-117.5949557,34.0965707
END:VEVENT
BEGIN:VEVENT
DTSTART;TZID=America/Denver:20190604T090000
DTEND;TZID=America/Denver:20190604T120000
DTSTAMP:20260424T124045
CREATED:20190530T170305Z
LAST-MODIFIED:20190530T170305Z
UID:10013052-1559638800-1559649600@workforce.sbcounty.gov
SUMMARY:Hiring Event
DESCRIPTION:See Reception to make an appointment. Please check in 15 minutes before the start of the workshop.
URL:https://workforce.sbcounty.gov/event/hiring-event-16/2019-06-04/
LOCATION:West Valley America’s Job Center of California\, 9650 9th Street\, Suite B\, Rancho Cucamonga\, CA\, 91730\, United States
CATEGORIES:AJCC - West Valley,Recruitments/Job Fairs
GEO:34.0965707;-117.5949557
X-APPLE-STRUCTURED-LOCATION;VALUE=URI;X-ADDRESS=West Valley America’s Job Center of California 9650 9th Street Suite B Rancho Cucamonga CA 91730 United States;X-APPLE-RADIUS=500;X-TITLE=9650 9th Street\, Suite B:geo:-117.5949557,34.0965707
END:VEVENT
BEGIN:VEVENT
DTSTART;TZID=America/Denver:20190603T133000
DTEND;TZID=America/Denver:20190603T153000
DTSTAMP:20260424T124045
CREATED:20190530T165205Z
LAST-MODIFIED:20190530T165205Z
UID:10013040-1559568600-1559575800@workforce.sbcounty.gov
SUMMARY:Resume Strategies Workshop
DESCRIPTION:See Reception to make an appointment. Please check in 15 minutes before the start of the workshop.
URL:https://workforce.sbcounty.gov/event/resume-strategies-workshop-9/2019-06-03/
LOCATION:West Valley America’s Job Center of California\, 9650 9th Street\, Suite B\, Rancho Cucamonga\, CA\, 91730\, United States
CATEGORIES:AJCC - West Valley,Job Seeker Workshops
GEO:34.0965707;-117.5949557
X-APPLE-STRUCTURED-LOCATION;VALUE=URI;X-ADDRESS=West Valley America’s Job Center of California 9650 9th Street Suite B Rancho Cucamonga CA 91730 United States;X-APPLE-RADIUS=500;X-TITLE=9650 9th Street\, Suite B:geo:-117.5949557,34.0965707
END:VEVENT
BEGIN:VEVENT
DTSTART;TZID=America/Denver:20190603T090000
DTEND;TZID=America/Denver:20190603T113000
DTSTAMP:20260424T124045
CREATED:20190530T164753Z
LAST-MODIFIED:20190530T164753Z
UID:10013028-1559552400-1559561400@workforce.sbcounty.gov
SUMMARY:Network Unlimited
DESCRIPTION:See Reception to make an appointment. Please check in 15 minutes before the start of the workshop.
URL:https://workforce.sbcounty.gov/event/network-unlimited-workshop/2019-06-03/
LOCATION:West Valley America’s Job Center of California\, 9650 9th Street\, Suite B\, Rancho Cucamonga\, CA\, 91730\, United States
CATEGORIES:AJCC - West Valley,Job Seeker Workshops
GEO:34.0965707;-117.5949557
X-APPLE-STRUCTURED-LOCATION;VALUE=URI;X-ADDRESS=West Valley America’s Job Center of California 9650 9th Street Suite B Rancho Cucamonga CA 91730 United States;X-APPLE-RADIUS=500;X-TITLE=9650 9th Street\, Suite B:geo:-117.5949557,34.0965707
END:VEVENT
BEGIN:VEVENT
DTSTART;TZID=America/Denver:20190530T100000
DTEND;TZID=America/Denver:20190530T120000
DTSTAMP:20260424T124045
CREATED:20190306T230300Z
LAST-MODIFIED:20190306T230300Z
UID:10012761-1559210400-1559217600@workforce.sbcounty.gov
SUMMARY:CANCELLED:  Labor Market Information & Workforce Development Services
DESCRIPTION:Please be aware that this workshop has been cancelled. 
URL:https://workforce.sbcounty.gov/event/labor-market-information-workforce-development-services/
LOCATION:West Valley America’s Job Center of California\, 9650 9th Street\, Suite B\, Rancho Cucamonga\, CA\, 91730\, United States
CATEGORIES:Employer Workshops
GEO:34.0965707;-117.5949557
X-APPLE-STRUCTURED-LOCATION;VALUE=URI;X-ADDRESS=West Valley America’s Job Center of California 9650 9th Street Suite B Rancho Cucamonga CA 91730 United States;X-APPLE-RADIUS=500;X-TITLE=9650 9th Street\, Suite B:geo:-117.5949557,34.0965707
END:VEVENT
BEGIN:VEVENT
DTSTART;TZID=America/Denver:20190430T100000
DTEND;TZID=America/Denver:20190430T120000
DTSTAMP:20260424T124045
CREATED:20190410T234041Z
LAST-MODIFIED:20190410T234041Z
UID:10012812-1556618400-1556625600@workforce.sbcounty.gov
SUMMARY:Basic Comp & MS Word
DESCRIPTION:See Reception to make an appointment. Please check in 15 minutes before the start of the workshop.
URL:https://workforce.sbcounty.gov/event/basic-comp-ms-word/2019-04-30/
LOCATION:West Valley America’s Job Center of California\, 9650 9th Street\, Suite B\, Rancho Cucamonga\, CA\, 91730\, United States
CATEGORIES:AJCC - West Valley,Job Seeker Workshops
GEO:34.0965707;-117.5949557
X-APPLE-STRUCTURED-LOCATION;VALUE=URI;X-ADDRESS=West Valley America’s Job Center of California 9650 9th Street Suite B Rancho Cucamonga CA 91730 United States;X-APPLE-RADIUS=500;X-TITLE=9650 9th Street\, Suite B:geo:-117.5949557,34.0965707
END:VEVENT
BEGIN:VEVENT
DTSTART;TZID=America/Denver:20190430T090000
DTEND;TZID=America/Denver:20190430T110000
DTSTAMP:20260424T124045
CREATED:20190410T233929Z
LAST-MODIFIED:20190410T233929Z
UID:10012806-1556614800-1556622000@workforce.sbcounty.gov
SUMMARY:Monster Workshop
DESCRIPTION:See Reception to make an appointment. Please check in 15 minutes before the start of the workshop.
URL:https://workforce.sbcounty.gov/event/monster-workshop-29/2019-04-30/
LOCATION:West Valley America’s Job Center of California\, 9650 9th Street\, Suite B\, Rancho Cucamonga\, CA\, 91730\, United States
CATEGORIES:AJCC - West Valley,Job Seeker Workshops
GEO:34.0965707;-117.5949557
X-APPLE-STRUCTURED-LOCATION;VALUE=URI;X-ADDRESS=West Valley America’s Job Center of California 9650 9th Street Suite B Rancho Cucamonga CA 91730 United States;X-APPLE-RADIUS=500;X-TITLE=9650 9th Street\, Suite B:geo:-117.5949557,34.0965707
END:VEVENT
BEGIN:VEVENT
DTSTART;TZID=America/Denver:20190429T133000
DTEND;TZID=America/Denver:20190429T153000
DTSTAMP:20260424T124045
CREATED:20190410T233530Z
LAST-MODIFIED:20190410T233530Z
UID:10012800-1556544600-1556551800@workforce.sbcounty.gov
SUMMARY:Interview Strategies
DESCRIPTION:See Reception to make an appointment. Please check in 15 minutes before the start of the workshop.
URL:https://workforce.sbcounty.gov/event/interview-strategies/
LOCATION:West Valley America’s Job Center of California\, 9650 9th Street\, Suite B\, Rancho Cucamonga\, CA\, 91730\, United States
CATEGORIES:AJCC - West Valley,Job Seeker Workshops
GEO:34.0965707;-117.5949557
X-APPLE-STRUCTURED-LOCATION;VALUE=URI;X-ADDRESS=West Valley America’s Job Center of California 9650 9th Street Suite B Rancho Cucamonga CA 91730 United States;X-APPLE-RADIUS=500;X-TITLE=9650 9th Street\, Suite B:geo:-117.5949557,34.0965707
END:VEVENT
BEGIN:VEVENT
DTSTART;TZID=America/Denver:20190423T130000
DTEND;TZID=America/Denver:20190423T150000
DTSTAMP:20260424T124045
CREATED:20190410T234607Z
LAST-MODIFIED:20190410T234607Z
UID:10012821-1556024400-1556031600@workforce.sbcounty.gov
SUMMARY:Navigating CalJOBS
DESCRIPTION:See Reception to make an appointment. Please check in 15 minutes before the start of the workshop.
URL:https://workforce.sbcounty.gov/event/navigating-caljobs-8/
LOCATION:West Valley America’s Job Center of California\, 9650 9th Street\, Suite B\, Rancho Cucamonga\, CA\, 91730\, United States
CATEGORIES:AJCC - West Valley,Job Seeker Workshops
GEO:34.0965707;-117.5949557
X-APPLE-STRUCTURED-LOCATION;VALUE=URI;X-ADDRESS=West Valley America’s Job Center of California 9650 9th Street Suite B Rancho Cucamonga CA 91730 United States;X-APPLE-RADIUS=500;X-TITLE=9650 9th Street\, Suite B:geo:-117.5949557,34.0965707
END:VEVENT
BEGIN:VEVENT
DTSTART;TZID=America/Denver:20190423T090000
DTEND;TZID=America/Denver:20190423T120000
DTSTAMP:20260424T124045
CREATED:20190410T234516Z
LAST-MODIFIED:20190410T234516Z
UID:10012818-1556010000-1556020800@workforce.sbcounty.gov
SUMMARY:Hiring Event
DESCRIPTION:See Reception to make an appointment. Please check in 15 minutes before the start of the workshop.
URL:https://workforce.sbcounty.gov/event/hiring-event-13/
LOCATION:West Valley America’s Job Center of California\, 9650 9th Street\, Suite B\, Rancho Cucamonga\, CA\, 91730\, United States
CATEGORIES:AJCC - West Valley,Recruitments/Job Fairs
GEO:34.0965707;-117.5949557
X-APPLE-STRUCTURED-LOCATION;VALUE=URI;X-ADDRESS=West Valley America’s Job Center of California 9650 9th Street Suite B Rancho Cucamonga CA 91730 United States;X-APPLE-RADIUS=500;X-TITLE=9650 9th Street\, Suite B:geo:-117.5949557,34.0965707
END:VEVENT
BEGIN:VEVENT
DTSTART;TZID=America/Denver:20190422T133000
DTEND;TZID=America/Denver:20190422T153000
DTSTAMP:20260424T124045
CREATED:20190410T233441Z
LAST-MODIFIED:20190410T233441Z
UID:10012794-1555939800-1555947000@workforce.sbcounty.gov
SUMMARY:Job Search Strategies
DESCRIPTION:See Reception to make an appointment. Please check in 15 minutes before the start of the workshop.
URL:https://workforce.sbcounty.gov/event/job-search-strategies/
LOCATION:West Valley America’s Job Center of California\, 9650 9th Street\, Suite B\, Rancho Cucamonga\, CA\, 91730\, United States
CATEGORIES:AJCC - West Valley,Job Seeker Workshops
GEO:34.0965707;-117.5949557
X-APPLE-STRUCTURED-LOCATION;VALUE=URI;X-ADDRESS=West Valley America’s Job Center of California 9650 9th Street Suite B Rancho Cucamonga CA 91730 United States;X-APPLE-RADIUS=500;X-TITLE=9650 9th Street\, Suite B:geo:-117.5949557,34.0965707
END:VEVENT
BEGIN:VEVENT
DTSTART;TZID=America/Denver:20190419T153000
DTEND;TZID=America/Denver:20190419T163000
DTSTAMP:20260424T124045
CREATED:20190410T234915Z
LAST-MODIFIED:20190410T234915Z
UID:10012830-1555687800-1555691400@workforce.sbcounty.gov
SUMMARY:Job Preparation for Youth
DESCRIPTION:See Reception to make an appointment. Please check in 15 minutes before the start of the workshop.
URL:https://workforce.sbcounty.gov/event/job-preparation-for-youth-9/
LOCATION:West Valley America’s Job Center of California\, 9650 9th Street\, Suite B\, Rancho Cucamonga\, CA\, 91730\, United States
CATEGORIES:AJCC - West Valley,Job Seeker Workshops
GEO:34.0965707;-117.5949557
X-APPLE-STRUCTURED-LOCATION;VALUE=URI;X-ADDRESS=West Valley America’s Job Center of California 9650 9th Street Suite B Rancho Cucamonga CA 91730 United States;X-APPLE-RADIUS=500;X-TITLE=9650 9th Street\, Suite B:geo:-117.5949557,34.0965707
END:VEVENT
BEGIN:VEVENT
DTSTART;TZID=America/Denver:20190419T083000
DTEND;TZID=America/Denver:20190419T120000
DTSTAMP:20260424T124045
CREATED:20190410T234833Z
LAST-MODIFIED:20190410T234833Z
UID:10012827-1555662600-1555675200@workforce.sbcounty.gov
SUMMARY:Veteran's Job Search
DESCRIPTION:See Reception to make an appointment. Please check in 15 minutes before the start of the workshop.
URL:https://workforce.sbcounty.gov/event/veterans-job-search-6/
LOCATION:West Valley America’s Job Center of California\, 9650 9th Street\, Suite B\, Rancho Cucamonga\, CA\, 91730\, United States
CATEGORIES:AJCC - West Valley,Job Seeker Workshops
GEO:34.0965707;-117.5949557
X-APPLE-STRUCTURED-LOCATION;VALUE=URI;X-ADDRESS=West Valley America’s Job Center of California 9650 9th Street Suite B Rancho Cucamonga CA 91730 United States;X-APPLE-RADIUS=500;X-TITLE=9650 9th Street\, Suite B:geo:-117.5949557,34.0965707
END:VEVENT
BEGIN:VEVENT
DTSTART;TZID=America/Denver:20190418T100000
DTEND;TZID=America/Denver:20190418T110000
DTSTAMP:20260424T124045
CREATED:20190410T234753Z
LAST-MODIFIED:20190410T234753Z
UID:10012824-1555581600-1555585200@workforce.sbcounty.gov
SUMMARY:Professional Edge
DESCRIPTION:See Reception to make an appointment. Please check in 15 minutes before the start of the workshop.
URL:https://workforce.sbcounty.gov/event/professional-edge-2/
LOCATION:West Valley America’s Job Center of California\, 9650 9th Street\, Suite B\, Rancho Cucamonga\, CA\, 91730\, United States
CATEGORIES:AJCC - West Valley,Job Seeker Workshops
GEO:34.0965707;-117.5949557
X-APPLE-STRUCTURED-LOCATION;VALUE=URI;X-ADDRESS=West Valley America’s Job Center of California 9650 9th Street Suite B Rancho Cucamonga CA 91730 United States;X-APPLE-RADIUS=500;X-TITLE=9650 9th Street\, Suite B:geo:-117.5949557,34.0965707
END:VEVENT
BEGIN:VEVENT
DTSTART;TZID=America/Denver:20190416T133000
DTEND;TZID=America/Denver:20190416T153000
DTSTAMP:20260424T124045
CREATED:20190410T234155Z
LAST-MODIFIED:20190410T234155Z
UID:10012815-1555421400-1555428600@workforce.sbcounty.gov
SUMMARY:Sugerencias para Empleo
DESCRIPTION:Consulte a la recepcionista para programar una cita. Por favor\, regístrese 15 minutos antes del inicio del taller.\nSee Reception to make an appointment. Please check in 15 minutes before the start of the workshop.
URL:https://workforce.sbcounty.gov/event/sugerencias-para-empleo-2/
LOCATION:West Valley America’s Job Center of California\, 9650 9th Street\, Suite B\, Rancho Cucamonga\, CA\, 91730\, United States
CATEGORIES:AJCC - West Valley,Job Seeker Workshops
GEO:34.0965707;-117.5949557
X-APPLE-STRUCTURED-LOCATION;VALUE=URI;X-ADDRESS=West Valley America’s Job Center of California 9650 9th Street Suite B Rancho Cucamonga CA 91730 United States;X-APPLE-RADIUS=500;X-TITLE=9650 9th Street\, Suite B:geo:-117.5949557,34.0965707
END:VEVENT
BEGIN:VEVENT
DTSTART;TZID=America/Denver:20190416T100000
DTEND;TZID=America/Denver:20190416T120000
DTSTAMP:20260424T124045
CREATED:20190410T234041Z
LAST-MODIFIED:20190410T234041Z
UID:10012809-1555408800-1555416000@workforce.sbcounty.gov
SUMMARY:Basic Comp & MS Word
DESCRIPTION:See Reception to make an appointment. Please check in 15 minutes before the start of the workshop.
URL:https://workforce.sbcounty.gov/event/basic-comp-ms-word/2019-04-16/
LOCATION:West Valley America’s Job Center of California\, 9650 9th Street\, Suite B\, Rancho Cucamonga\, CA\, 91730\, United States
CATEGORIES:AJCC - West Valley,Job Seeker Workshops
GEO:34.0965707;-117.5949557
X-APPLE-STRUCTURED-LOCATION;VALUE=URI;X-ADDRESS=West Valley America’s Job Center of California 9650 9th Street Suite B Rancho Cucamonga CA 91730 United States;X-APPLE-RADIUS=500;X-TITLE=9650 9th Street\, Suite B:geo:-117.5949557,34.0965707
END:VEVENT
BEGIN:VEVENT
DTSTART;TZID=America/Denver:20190416T080000
DTEND;TZID=America/Denver:20190416T110000
DTSTAMP:20260424T124045
CREATED:20190410T233929Z
LAST-MODIFIED:20190410T233929Z
UID:10012803-1555401600-1555412400@workforce.sbcounty.gov
SUMMARY:Monster Workshop
DESCRIPTION:See Reception to make an appointment. Please check in 15 minutes before the start of the workshop.
URL:https://workforce.sbcounty.gov/event/monster-workshop-29/2019-04-16/
LOCATION:West Valley America’s Job Center of California\, 9650 9th Street\, Suite B\, Rancho Cucamonga\, CA\, 91730\, United States
CATEGORIES:AJCC - West Valley,Job Seeker Workshops
GEO:34.0965707;-117.5949557
X-APPLE-STRUCTURED-LOCATION;VALUE=URI;X-ADDRESS=West Valley America’s Job Center of California 9650 9th Street Suite B Rancho Cucamonga CA 91730 United States;X-APPLE-RADIUS=500;X-TITLE=9650 9th Street\, Suite B:geo:-117.5949557,34.0965707
END:VEVENT
BEGIN:VEVENT
DTSTART;TZID=America/Denver:20190415T133000
DTEND;TZID=America/Denver:20190415T153000
DTSTAMP:20260424T124045
CREATED:20190410T233342Z
LAST-MODIFIED:20190410T233342Z
UID:10012785-1555335000-1555342200@workforce.sbcounty.gov
SUMMARY:Resume Strategies
DESCRIPTION:See Reception to make an appointment. Please check in 15 minutes before the start of the workshop.
URL:https://workforce.sbcounty.gov/event/resume-strategies/2019-04-15/
LOCATION:West Valley America’s Job Center of California\, 9650 9th Street\, Suite B\, Rancho Cucamonga\, CA\, 91730\, United States
CATEGORIES:AJCC - West Valley,Job Seeker Workshops
GEO:34.0965707;-117.5949557
X-APPLE-STRUCTURED-LOCATION;VALUE=URI;X-ADDRESS=West Valley America’s Job Center of California 9650 9th Street Suite B Rancho Cucamonga CA 91730 United States;X-APPLE-RADIUS=500;X-TITLE=9650 9th Street\, Suite B:geo:-117.5949557,34.0965707
END:VEVENT
BEGIN:VEVENT
DTSTART;TZID=America/Denver:20190415T090000
DTEND;TZID=America/Denver:20190415T113000
DTSTAMP:20260424T124045
CREATED:20190410T233041Z
LAST-MODIFIED:20190410T233041Z
UID:10012779-1555318800-1555327800@workforce.sbcounty.gov
SUMMARY:Network Unlimited
DESCRIPTION:See Reception to make an appointment. Please check in 15 minutes before the start of the workshop.
URL:https://workforce.sbcounty.gov/event/network-unlimited/
LOCATION:West Valley America’s Job Center of California\, 9650 9th Street\, Suite B\, Rancho Cucamonga\, CA\, 91730\, United States
CATEGORIES:AJCC - West Valley,Job Seeker Workshops
GEO:34.0965707;-117.5949557
X-APPLE-STRUCTURED-LOCATION;VALUE=URI;X-ADDRESS=West Valley America’s Job Center of California 9650 9th Street Suite B Rancho Cucamonga CA 91730 United States;X-APPLE-RADIUS=500;X-TITLE=9650 9th Street\, Suite B:geo:-117.5949557,34.0965707
END:VEVENT
BEGIN:VEVENT
DTSTART;TZID=America/Denver:20180131T100000
DTEND;TZID=America/Denver:20180131T120000
DTSTAMP:20260424T124045
CREATED:20171221T172708Z
LAST-MODIFIED:20171221T172708Z
UID:10009737-1517392800-1517400000@workforce.sbcounty.gov
SUMMARY:West Valley AJCC: Job Search Workshop
DESCRIPTION:See Reception to make an appointment. \nPlease check in 15 minutes before the start of the Workshop.
URL:https://workforce.sbcounty.gov/event/west-valley-ajcc-job-search-workshop/2018-01-31/
LOCATION:West Valley America’s Job Center of California\, 9650 9th Street\, Suite B\, Rancho Cucamonga\, CA\, 91730\, United States
CATEGORIES:AJCC - West Valley,Job Seeker Workshops
GEO:34.0965707;-117.5949557
X-APPLE-STRUCTURED-LOCATION;VALUE=URI;X-ADDRESS=West Valley America’s Job Center of California 9650 9th Street Suite B Rancho Cucamonga CA 91730 United States;X-APPLE-RADIUS=500;X-TITLE=9650 9th Street\, Suite B:geo:-117.5949557,34.0965707
END:VEVENT
BEGIN:VEVENT
DTSTART;TZID=America/Denver:20180130T090000
DTEND;TZID=America/Denver:20180130T120000
DTSTAMP:20260424T124045
CREATED:20171221T175636Z
LAST-MODIFIED:20171221T175636Z
UID:10009755-1517302800-1517313600@workforce.sbcounty.gov
SUMMARY:West Valley AJCC: Hiring Event
DESCRIPTION:Meet employers face to face. Bring copies of your resume and dress for success.
URL:https://workforce.sbcounty.gov/event/west-valley-ajcc-hiring-event/2018-01-30/
LOCATION:West Valley America’s Job Center of California\, 9650 9th Street\, Suite B\, Rancho Cucamonga\, CA\, 91730\, United States
CATEGORIES:Recruitments/Job Fairs
GEO:34.0965707;-117.5949557
X-APPLE-STRUCTURED-LOCATION;VALUE=URI;X-ADDRESS=West Valley America’s Job Center of California 9650 9th Street Suite B Rancho Cucamonga CA 91730 United States;X-APPLE-RADIUS=500;X-TITLE=9650 9th Street\, Suite B:geo:-117.5949557,34.0965707
END:VEVENT
BEGIN:VEVENT
DTSTART;TZID=America/Denver:20180129T133000
DTEND;TZID=America/Denver:20180129T153000
DTSTAMP:20260424T124045
CREATED:20171221T171114Z
LAST-MODIFIED:20171221T171114Z
UID:10010442-1517232600-1517239800@workforce.sbcounty.gov
SUMMARY:West Valley AJCC: Preparing The Winning Resume
DESCRIPTION:See Reception to make an appointment. \nPlease check in 15 minutes before the start of the Workshop.
URL:https://workforce.sbcounty.gov/event/west-valley-ajcc-preparing-the-winning-resume/2018-01-29/
LOCATION:West Valley America’s Job Center of California\, 9650 9th Street\, Suite B\, Rancho Cucamonga\, CA\, 91730\, United States
CATEGORIES:AJCC - West Valley,Job Seeker Workshops
GEO:34.0965707;-117.5949557
X-APPLE-STRUCTURED-LOCATION;VALUE=URI;X-ADDRESS=West Valley America’s Job Center of California 9650 9th Street Suite B Rancho Cucamonga CA 91730 United States;X-APPLE-RADIUS=500;X-TITLE=9650 9th Street\, Suite B:geo:-117.5949557,34.0965707
END:VEVENT
BEGIN:VEVENT
DTSTART;TZID=America/Denver:20180129T090000
DTEND;TZID=America/Denver:20180129T113000
DTSTAMP:20260424T124045
CREATED:20171221T172224Z
LAST-MODIFIED:20171221T172224Z
UID:10010472-1517216400-1517225400@workforce.sbcounty.gov
SUMMARY:West Valley AJCC: Networking Unlimited
DESCRIPTION:See Reception to make an appointment. \nPlease check in 15 minutes before the start of the Workshop.
URL:https://workforce.sbcounty.gov/event/west-valley-ajcc-networking-unlimited/2018-01-29/
LOCATION:West Valley America’s Job Center of California\, 9650 9th Street\, Suite B\, Rancho Cucamonga\, CA\, 91730\, United States
CATEGORIES:AJCC - West Valley,Job Seeker Workshops
GEO:34.0965707;-117.5949557
X-APPLE-STRUCTURED-LOCATION;VALUE=URI;X-ADDRESS=West Valley America’s Job Center of California 9650 9th Street Suite B Rancho Cucamonga CA 91730 United States;X-APPLE-RADIUS=500;X-TITLE=9650 9th Street\, Suite B:geo:-117.5949557,34.0965707
END:VEVENT
END:VCALENDAR