BEGIN:VCALENDAR
VERSION:2.0
PRODID:-//Workforce Development - ECPv6.15.14//NONSGML v1.0//EN
CALSCALE:GREGORIAN
METHOD:PUBLISH
X-WR-CALNAME:Workforce Development
X-ORIGINAL-URL:https://workforce.sbcounty.gov
X-WR-CALDESC:Events for Workforce Development
REFRESH-INTERVAL;VALUE=DURATION:PT1H
X-Robots-Tag:noindex
X-PUBLISHED-TTL:PT1H
BEGIN:VTIMEZONE
TZID:America/Denver
BEGIN:DAYLIGHT
TZOFFSETFROM:-0700
TZOFFSETTO:-0600
TZNAME:MDT
DTSTART:20180311T090000
END:DAYLIGHT
BEGIN:STANDARD
TZOFFSETFROM:-0600
TZOFFSETTO:-0700
TZNAME:MST
DTSTART:20181104T080000
END:STANDARD
BEGIN:DAYLIGHT
TZOFFSETFROM:-0700
TZOFFSETTO:-0600
TZNAME:MDT
DTSTART:20190310T090000
END:DAYLIGHT
BEGIN:STANDARD
TZOFFSETFROM:-0600
TZOFFSETTO:-0700
TZNAME:MST
DTSTART:20191103T080000
END:STANDARD
BEGIN:DAYLIGHT
TZOFFSETFROM:-0700
TZOFFSETTO:-0600
TZNAME:MDT
DTSTART:20200308T090000
END:DAYLIGHT
BEGIN:STANDARD
TZOFFSETFROM:-0600
TZOFFSETTO:-0700
TZNAME:MST
DTSTART:20201101T080000
END:STANDARD
END:VTIMEZONE
BEGIN:VEVENT
DTSTART;TZID=America/Denver:20190806T090000
DTEND;TZID=America/Denver:20190806T120000
DTSTAMP:20260424T110002
CREATED:20190725T210624Z
LAST-MODIFIED:20190725T210624Z
UID:10013337-1565082000-1565092800@workforce.sbcounty.gov
SUMMARY:Hiring Event
DESCRIPTION:See Reception to make an appointment. Please check in 15 minutes before the start of the workshop.
URL:https://workforce.sbcounty.gov/event/hiring-event-19/2019-08-06/
LOCATION:West Valley America’s Job Center of California\, 9650 9th Street\, Suite B\, Rancho Cucamonga\, CA\, 91730\, United States
CATEGORIES:AJCC - West Valley,Recruitments/Job Fairs
GEO:34.0965707;-117.5949557
X-APPLE-STRUCTURED-LOCATION;VALUE=URI;X-ADDRESS=West Valley America’s Job Center of California 9650 9th Street Suite B Rancho Cucamonga CA 91730 United States;X-APPLE-RADIUS=500;X-TITLE=9650 9th Street\, Suite B:geo:-117.5949557,34.0965707
END:VEVENT
BEGIN:VEVENT
DTSTART;TZID=America/Denver:20190805T133000
DTEND;TZID=America/Denver:20190805T153000
DTSTAMP:20260424T110002
CREATED:20190725T210300Z
LAST-MODIFIED:20190725T210300Z
UID:10013316-1565011800-1565019000@workforce.sbcounty.gov
SUMMARY:Resume Strategies
DESCRIPTION:See Reception to make an appointment. Please check in 15 minutes before the start of the workshop.
URL:https://workforce.sbcounty.gov/event/resume-strategies-2/2019-08-05/
LOCATION:West Valley America’s Job Center of California\, 9650 9th Street\, Suite B\, Rancho Cucamonga\, CA\, 91730\, United States
CATEGORIES:AJCC - West Valley,Job Seeker Workshops
GEO:34.0965707;-117.5949557
X-APPLE-STRUCTURED-LOCATION;VALUE=URI;X-ADDRESS=West Valley America’s Job Center of California 9650 9th Street Suite B Rancho Cucamonga CA 91730 United States;X-APPLE-RADIUS=500;X-TITLE=9650 9th Street\, Suite B:geo:-117.5949557,34.0965707
END:VEVENT
BEGIN:VEVENT
DTSTART;TZID=America/Denver:20190801T090000
DTEND;TZID=America/Denver:20190801T110000
DTSTAMP:20260424T110002
CREATED:20190626T222428Z
LAST-MODIFIED:20190626T222428Z
UID:10011732-1564650000-1564657200@workforce.sbcounty.gov
SUMMARY:Network Unlimited
DESCRIPTION:See Reception to make an appointment. Please check in 15 minutes before the start of the workshop.
URL:https://workforce.sbcounty.gov/event/network-unlimited-2/2019-08-01/
LOCATION:West Valley America’s Job Center of California\, 9650 9th Street\, Suite B\, Rancho Cucamonga\, CA\, 91730\, United States
CATEGORIES:AJCC - West Valley,Job Seeker Workshops
GEO:34.0965707;-117.5949557
X-APPLE-STRUCTURED-LOCATION;VALUE=URI;X-ADDRESS=West Valley America’s Job Center of California 9650 9th Street Suite B Rancho Cucamonga CA 91730 United States;X-APPLE-RADIUS=500;X-TITLE=9650 9th Street\, Suite B:geo:-117.5949557,34.0965707
END:VEVENT
BEGIN:VEVENT
DTSTART;TZID=America/Denver:20190730T100000
DTEND;TZID=America/Denver:20190730T120000
DTSTAMP:20260424T110002
CREATED:20190626T221907Z
LAST-MODIFIED:20190626T221907Z
UID:10013256-1564480800-1564488000@workforce.sbcounty.gov
SUMMARY:Basic Computer & MS Word
DESCRIPTION:See Reception to make an appointment. Please check in 15 minutes before the start of the workshop.
URL:https://workforce.sbcounty.gov/event/basic-computer-ms-word-2/2019-07-30/
LOCATION:West Valley America’s Job Center of California\, 9650 9th Street\, Suite B\, Rancho Cucamonga\, CA\, 91730\, United States
CATEGORIES:AJCC - West Valley,Job Seeker Workshops
GEO:34.0965707;-117.5949557
X-APPLE-STRUCTURED-LOCATION;VALUE=URI;X-ADDRESS=West Valley America’s Job Center of California 9650 9th Street Suite B Rancho Cucamonga CA 91730 United States;X-APPLE-RADIUS=500;X-TITLE=9650 9th Street\, Suite B:geo:-117.5949557,34.0965707
END:VEVENT
BEGIN:VEVENT
DTSTART;TZID=America/Denver:20190729T133000
DTEND;TZID=America/Denver:20190729T153000
DTSTAMP:20260424T110002
CREATED:20190626T221436Z
LAST-MODIFIED:20190626T221436Z
UID:10013241-1564407000-1564414200@workforce.sbcounty.gov
SUMMARY:Interview Strategies
DESCRIPTION:See Reception to make an appointment. Please check in 15 minutes before the start of the workshop.
URL:https://workforce.sbcounty.gov/event/interview-strategies-2/2019-07-29/
LOCATION:West Valley America’s Job Center of California\, 9650 9th Street\, Suite B\, Rancho Cucamonga\, CA\, 91730\, United States
CATEGORIES:AJCC - West Valley,Job Seeker Workshops
GEO:34.0965707;-117.5949557
X-APPLE-STRUCTURED-LOCATION;VALUE=URI;X-ADDRESS=West Valley America’s Job Center of California 9650 9th Street Suite B Rancho Cucamonga CA 91730 United States;X-APPLE-RADIUS=500;X-TITLE=9650 9th Street\, Suite B:geo:-117.5949557,34.0965707
END:VEVENT
BEGIN:VEVENT
DTSTART;TZID=America/Denver:20190723T130000
DTEND;TZID=America/Denver:20190723T150000
DTSTAMP:20260424T110002
CREATED:20190626T222301Z
LAST-MODIFIED:20190626T222301Z
UID:10013262-1563886800-1563894000@workforce.sbcounty.gov
SUMMARY:Navigating CalJOBS
DESCRIPTION:See Reception to make an appointment. Please check in 15 minutes before the start of the workshop.
URL:https://workforce.sbcounty.gov/event/navigating-caljobs-9/
LOCATION:West Valley America’s Job Center of California\, 9650 9th Street\, Suite B\, Rancho Cucamonga\, CA\, 91730\, United States
CATEGORIES:AJCC - West Valley,Job Seeker Workshops
GEO:34.0965707;-117.5949557
X-APPLE-STRUCTURED-LOCATION;VALUE=URI;X-ADDRESS=West Valley America’s Job Center of California 9650 9th Street Suite B Rancho Cucamonga CA 91730 United States;X-APPLE-RADIUS=500;X-TITLE=9650 9th Street\, Suite B:geo:-117.5949557,34.0965707
END:VEVENT
BEGIN:VEVENT
DTSTART;TZID=America/Denver:20190723T090000
DTEND;TZID=America/Denver:20190723T120000
DTSTAMP:20260424T110002
CREATED:20190626T221607Z
LAST-MODIFIED:20190626T221607Z
UID:10013247-1563872400-1563883200@workforce.sbcounty.gov
SUMMARY:Hiring Event
DESCRIPTION:See Reception to make an appointment. Please check in 15 minutes before the start of the workshop.
URL:https://workforce.sbcounty.gov/event/hiring-event-17/2019-07-23/
LOCATION:West Valley America’s Job Center of California\, 9650 9th Street\, Suite B\, Rancho Cucamonga\, CA\, 91730\, United States
CATEGORIES:AJCC - West Valley,Recruitments/Job Fairs
GEO:34.0965707;-117.5949557
X-APPLE-STRUCTURED-LOCATION;VALUE=URI;X-ADDRESS=West Valley America’s Job Center of California 9650 9th Street Suite B Rancho Cucamonga CA 91730 United States;X-APPLE-RADIUS=500;X-TITLE=9650 9th Street\, Suite B:geo:-117.5949557,34.0965707
END:VEVENT
BEGIN:VEVENT
DTSTART;TZID=America/Denver:20190722T133000
DTEND;TZID=America/Denver:20190722T153000
DTSTAMP:20260424T110002
CREATED:20190626T221248Z
LAST-MODIFIED:20190626T221248Z
UID:10013232-1563802200-1563809400@workforce.sbcounty.gov
SUMMARY:Job Search Strategies
DESCRIPTION:See Reception to make an appointment. Please check in 15 minutes before the start of the workshop.
URL:https://workforce.sbcounty.gov/event/job-search-strategies-2/2019-07-22/
LOCATION:West Valley America’s Job Center of California\, 9650 9th Street\, Suite B\, Rancho Cucamonga\, CA\, 91730\, United States
CATEGORIES:AJCC - West Valley,Job Seeker Workshops
GEO:34.0965707;-117.5949557
X-APPLE-STRUCTURED-LOCATION;VALUE=URI;X-ADDRESS=West Valley America’s Job Center of California 9650 9th Street Suite B Rancho Cucamonga CA 91730 United States;X-APPLE-RADIUS=500;X-TITLE=9650 9th Street\, Suite B:geo:-117.5949557,34.0965707
END:VEVENT
BEGIN:VEVENT
DTSTART;TZID=America/Denver:20190719T153000
DTEND;TZID=America/Denver:20190719T163000
DTSTAMP:20260424T110002
CREATED:20190626T222637Z
LAST-MODIFIED:20190626T222637Z
UID:10011777-1563550200-1563553800@workforce.sbcounty.gov
SUMMARY:Job Preparation for Youth
DESCRIPTION:See Reception to make an appointment. Please check in 15 minutes before the start of the workshop.
URL:https://workforce.sbcounty.gov/event/job-preparation-for-youth-11/
LOCATION:West Valley America’s Job Center of California\, 9650 9th Street\, Suite B\, Rancho Cucamonga\, CA\, 91730\, United States
CATEGORIES:AJCC - West Valley,Job Seeker Workshops
GEO:34.0965707;-117.5949557
X-APPLE-STRUCTURED-LOCATION;VALUE=URI;X-ADDRESS=West Valley America’s Job Center of California 9650 9th Street Suite B Rancho Cucamonga CA 91730 United States;X-APPLE-RADIUS=500;X-TITLE=9650 9th Street\, Suite B:geo:-117.5949557,34.0965707
END:VEVENT
BEGIN:VEVENT
DTSTART;TZID=America/Denver:20190719T083000
DTEND;TZID=America/Denver:20190719T120000
DTSTAMP:20260424T110002
CREATED:20190626T222535Z
LAST-MODIFIED:20190626T222535Z
UID:10011768-1563525000-1563537600@workforce.sbcounty.gov
SUMMARY:Veteran's Job Search
DESCRIPTION:See Reception to make an appointment. Please check in 15 minutes before the start of the workshop.
URL:https://workforce.sbcounty.gov/event/veterans-job-search-8/
LOCATION:West Valley America’s Job Center of California\, 9650 9th Street\, Suite B\, Rancho Cucamonga\, CA\, 91730\, United States
CATEGORIES:AJCC - West Valley,Job Seeker Workshops
GEO:34.0965707;-117.5949557
X-APPLE-STRUCTURED-LOCATION;VALUE=URI;X-ADDRESS=West Valley America’s Job Center of California 9650 9th Street Suite B Rancho Cucamonga CA 91730 United States;X-APPLE-RADIUS=500;X-TITLE=9650 9th Street\, Suite B:geo:-117.5949557,34.0965707
END:VEVENT
BEGIN:VEVENT
DTSTART;TZID=America/Denver:20190718T090000
DTEND;TZID=America/Denver:20190718T110000
DTSTAMP:20260424T110002
CREATED:20190626T222428Z
LAST-MODIFIED:20190626T222428Z
UID:10011729-1563440400-1563447600@workforce.sbcounty.gov
SUMMARY:Network Unlimited
DESCRIPTION:See Reception to make an appointment. Please check in 15 minutes before the start of the workshop.
URL:https://workforce.sbcounty.gov/event/network-unlimited-2/2019-07-18/
LOCATION:West Valley America’s Job Center of California\, 9650 9th Street\, Suite B\, Rancho Cucamonga\, CA\, 91730\, United States
CATEGORIES:AJCC - West Valley,Job Seeker Workshops
GEO:34.0965707;-117.5949557
X-APPLE-STRUCTURED-LOCATION;VALUE=URI;X-ADDRESS=West Valley America’s Job Center of California 9650 9th Street Suite B Rancho Cucamonga CA 91730 United States;X-APPLE-RADIUS=500;X-TITLE=9650 9th Street\, Suite B:geo:-117.5949557,34.0965707
END:VEVENT
BEGIN:VEVENT
DTSTART;TZID=America/Denver:20190716T133000
DTEND;TZID=America/Denver:20190716T153000
DTSTAMP:20260424T110002
CREATED:20190626T222142Z
LAST-MODIFIED:20190626T222142Z
UID:10013259-1563283800-1563291000@workforce.sbcounty.gov
SUMMARY:Sugerencias para Empleo
DESCRIPTION:Consulte a la recepcionista para programar una cita. Por favor\, regístrese 15 minutos antes del inicio del taller. \nSee Reception to make an appointment. Please check in 15 minutes before the start of the workshop.
URL:https://workforce.sbcounty.gov/event/sugerencias-para-empleo-4/
LOCATION:West Valley America’s Job Center of California\, 9650 9th Street\, Suite B\, Rancho Cucamonga\, CA\, 91730\, United States
CATEGORIES:AJCC - West Valley,Job Seeker Workshops
GEO:34.0965707;-117.5949557
X-APPLE-STRUCTURED-LOCATION;VALUE=URI;X-ADDRESS=West Valley America’s Job Center of California 9650 9th Street Suite B Rancho Cucamonga CA 91730 United States;X-APPLE-RADIUS=500;X-TITLE=9650 9th Street\, Suite B:geo:-117.5949557,34.0965707
END:VEVENT
BEGIN:VEVENT
DTSTART;TZID=America/Denver:20190716T100000
DTEND;TZID=America/Denver:20190716T120000
DTSTAMP:20260424T110002
CREATED:20190626T221907Z
LAST-MODIFIED:20190626T221907Z
UID:10013253-1563271200-1563278400@workforce.sbcounty.gov
SUMMARY:Basic Computer & MS Word
DESCRIPTION:See Reception to make an appointment. Please check in 15 minutes before the start of the workshop.
URL:https://workforce.sbcounty.gov/event/basic-computer-ms-word-2/2019-07-16/
LOCATION:West Valley America’s Job Center of California\, 9650 9th Street\, Suite B\, Rancho Cucamonga\, CA\, 91730\, United States
CATEGORIES:AJCC - West Valley,Job Seeker Workshops
GEO:34.0965707;-117.5949557
X-APPLE-STRUCTURED-LOCATION;VALUE=URI;X-ADDRESS=West Valley America’s Job Center of California 9650 9th Street Suite B Rancho Cucamonga CA 91730 United States;X-APPLE-RADIUS=500;X-TITLE=9650 9th Street\, Suite B:geo:-117.5949557,34.0965707
END:VEVENT
BEGIN:VEVENT
DTSTART;TZID=America/Denver:20190709T133000
DTEND;TZID=America/Denver:20190709T153000
DTSTAMP:20260424T110002
CREATED:20190626T221722Z
LAST-MODIFIED:20190626T221722Z
UID:10013250-1562679000-1562686200@workforce.sbcounty.gov
SUMMARY:Labor Market Information
DESCRIPTION:See Reception to make an appointment. Please check in 15 minutes before the start of the workshop.
URL:https://workforce.sbcounty.gov/event/labor-market-information-7/
LOCATION:West Valley America’s Job Center of California\, 9650 9th Street\, Suite B\, Rancho Cucamonga\, CA\, 91730\, United States
CATEGORIES:AJCC - West Valley,Job Seeker Workshops
GEO:34.0965707;-117.5949557
X-APPLE-STRUCTURED-LOCATION;VALUE=URI;X-ADDRESS=West Valley America’s Job Center of California 9650 9th Street Suite B Rancho Cucamonga CA 91730 United States;X-APPLE-RADIUS=500;X-TITLE=9650 9th Street\, Suite B:geo:-117.5949557,34.0965707
END:VEVENT
BEGIN:VEVENT
DTSTART;TZID=America/Denver:20190709T090000
DTEND;TZID=America/Denver:20190709T120000
DTSTAMP:20260424T110002
CREATED:20190626T221607Z
LAST-MODIFIED:20190626T221607Z
UID:10013244-1562662800-1562673600@workforce.sbcounty.gov
SUMMARY:Hiring Event
DESCRIPTION:See Reception to make an appointment. Please check in 15 minutes before the start of the workshop.
URL:https://workforce.sbcounty.gov/event/hiring-event-17/2019-07-09/
LOCATION:West Valley America’s Job Center of California\, 9650 9th Street\, Suite B\, Rancho Cucamonga\, CA\, 91730\, United States
CATEGORIES:AJCC - West Valley,Recruitments/Job Fairs
GEO:34.0965707;-117.5949557
X-APPLE-STRUCTURED-LOCATION;VALUE=URI;X-ADDRESS=West Valley America’s Job Center of California 9650 9th Street Suite B Rancho Cucamonga CA 91730 United States;X-APPLE-RADIUS=500;X-TITLE=9650 9th Street\, Suite B:geo:-117.5949557,34.0965707
END:VEVENT
BEGIN:VEVENT
DTSTART;TZID=America/Denver:20190708T133000
DTEND;TZID=America/Denver:20190708T153000
DTSTAMP:20260424T110002
CREATED:20190626T221436Z
LAST-MODIFIED:20190626T221436Z
UID:10013238-1562592600-1562599800@workforce.sbcounty.gov
SUMMARY:Interview Strategies
DESCRIPTION:See Reception to make an appointment. Please check in 15 minutes before the start of the workshop.
URL:https://workforce.sbcounty.gov/event/interview-strategies-2/2019-07-08/
LOCATION:West Valley America’s Job Center of California\, 9650 9th Street\, Suite B\, Rancho Cucamonga\, CA\, 91730\, United States
CATEGORIES:AJCC - West Valley,Job Seeker Workshops
GEO:34.0965707;-117.5949557
X-APPLE-STRUCTURED-LOCATION;VALUE=URI;X-ADDRESS=West Valley America’s Job Center of California 9650 9th Street Suite B Rancho Cucamonga CA 91730 United States;X-APPLE-RADIUS=500;X-TITLE=9650 9th Street\, Suite B:geo:-117.5949557,34.0965707
END:VEVENT
BEGIN:VEVENT
DTSTART;TZID=America/Denver:20190701T133000
DTEND;TZID=America/Denver:20190701T153000
DTSTAMP:20260424T110002
CREATED:20190626T221248Z
LAST-MODIFIED:20190626T221248Z
UID:10013229-1561987800-1561995000@workforce.sbcounty.gov
SUMMARY:Job Search Strategies
DESCRIPTION:See Reception to make an appointment. Please check in 15 minutes before the start of the workshop.
URL:https://workforce.sbcounty.gov/event/job-search-strategies-2/2019-07-01/
LOCATION:West Valley America’s Job Center of California\, 9650 9th Street\, Suite B\, Rancho Cucamonga\, CA\, 91730\, United States
CATEGORIES:AJCC - West Valley,Job Seeker Workshops
GEO:34.0965707;-117.5949557
X-APPLE-STRUCTURED-LOCATION;VALUE=URI;X-ADDRESS=West Valley America’s Job Center of California 9650 9th Street Suite B Rancho Cucamonga CA 91730 United States;X-APPLE-RADIUS=500;X-TITLE=9650 9th Street\, Suite B:geo:-117.5949557,34.0965707
END:VEVENT
BEGIN:VEVENT
DTSTART;TZID=America/Denver:20190701T133000
DTEND;TZID=America/Denver:20190701T153000
DTSTAMP:20260424T110002
CREATED:20190530T165942Z
LAST-MODIFIED:20190530T165942Z
UID:10013049-1561987800-1561995000@workforce.sbcounty.gov
SUMMARY:Job Search Strategies
DESCRIPTION:See Reception to make an appointment. Please check in 15 minutes before the start of the workshop.
URL:https://workforce.sbcounty.gov/event/job-search-strategies-workshop-10/2019-07-01/
LOCATION:West Valley America’s Job Center of California\, 9650 9th Street\, Suite B\, Rancho Cucamonga\, CA\, 91730\, United States
CATEGORIES:AJCC - West Valley,Job Seeker Workshops
GEO:34.0965707;-117.5949557
X-APPLE-STRUCTURED-LOCATION;VALUE=URI;X-ADDRESS=West Valley America’s Job Center of California 9650 9th Street Suite B Rancho Cucamonga CA 91730 United States;X-APPLE-RADIUS=500;X-TITLE=9650 9th Street\, Suite B:geo:-117.5949557,34.0965707
END:VEVENT
BEGIN:VEVENT
DTSTART;TZID=America/Denver:20190625T130000
DTEND;TZID=America/Denver:20190625T150000
DTSTAMP:20260424T110002
CREATED:20190530T171518Z
LAST-MODIFIED:20190530T171518Z
UID:10013073-1561467600-1561474800@workforce.sbcounty.gov
SUMMARY:Navigating CalJOBS
DESCRIPTION:See Reception to make an appointment. Please check in 15 minutes before the start of the workshop.
URL:https://workforce.sbcounty.gov/event/navigating-caljobs-workshop-5/
LOCATION:West Valley America’s Job Center of California\, 9650 9th Street\, Suite B\, Rancho Cucamonga\, CA\, 91730\, United States
CATEGORIES:AJCC - West Valley,Job Seeker Workshops
GEO:34.0965707;-117.5949557
X-APPLE-STRUCTURED-LOCATION;VALUE=URI;X-ADDRESS=West Valley America’s Job Center of California 9650 9th Street Suite B Rancho Cucamonga CA 91730 United States;X-APPLE-RADIUS=500;X-TITLE=9650 9th Street\, Suite B:geo:-117.5949557,34.0965707
END:VEVENT
BEGIN:VEVENT
DTSTART;TZID=America/Denver:20190625T100000
DTEND;TZID=America/Denver:20190625T120000
DTSTAMP:20260424T110002
CREATED:20190530T170807Z
LAST-MODIFIED:20190530T170807Z
UID:10013064-1561456800-1561464000@workforce.sbcounty.gov
SUMMARY:Basic Computer & MS Word
DESCRIPTION:See Reception to make an appointment. Please check in 15 minutes before the start of the workshop.
URL:https://workforce.sbcounty.gov/event/basic-computer-ms-word-workshop/2019-06-25/
LOCATION:West Valley America’s Job Center of California\, 9650 9th Street\, Suite B\, Rancho Cucamonga\, CA\, 91730\, United States
CATEGORIES:AJCC - West Valley,Job Seeker Workshops
GEO:34.0965707;-117.5949557
X-APPLE-STRUCTURED-LOCATION;VALUE=URI;X-ADDRESS=West Valley America’s Job Center of California 9650 9th Street Suite B Rancho Cucamonga CA 91730 United States;X-APPLE-RADIUS=500;X-TITLE=9650 9th Street\, Suite B:geo:-117.5949557,34.0965707
END:VEVENT
BEGIN:VEVENT
DTSTART;TZID=America/Denver:20190624T133000
DTEND;TZID=America/Denver:20190624T153000
DTSTAMP:20260424T110002
CREATED:20190530T165205Z
LAST-MODIFIED:20190530T165205Z
UID:10013043-1561383000-1561390200@workforce.sbcounty.gov
SUMMARY:Resume Strategies Workshop
DESCRIPTION:See Reception to make an appointment. Please check in 15 minutes before the start of the workshop.
URL:https://workforce.sbcounty.gov/event/resume-strategies-workshop-9/2019-06-24/
LOCATION:West Valley America’s Job Center of California\, 9650 9th Street\, Suite B\, Rancho Cucamonga\, CA\, 91730\, United States
CATEGORIES:AJCC - West Valley,Job Seeker Workshops
GEO:34.0965707;-117.5949557
X-APPLE-STRUCTURED-LOCATION;VALUE=URI;X-ADDRESS=West Valley America’s Job Center of California 9650 9th Street Suite B Rancho Cucamonga CA 91730 United States;X-APPLE-RADIUS=500;X-TITLE=9650 9th Street\, Suite B:geo:-117.5949557,34.0965707
END:VEVENT
BEGIN:VEVENT
DTSTART;TZID=America/Denver:20190624T090000
DTEND;TZID=America/Denver:20190624T113000
DTSTAMP:20260424T110002
CREATED:20190530T164753Z
LAST-MODIFIED:20190530T164753Z
UID:10013037-1561366800-1561375800@workforce.sbcounty.gov
SUMMARY:Network Unlimited
DESCRIPTION:See Reception to make an appointment. Please check in 15 minutes before the start of the workshop.
URL:https://workforce.sbcounty.gov/event/network-unlimited-workshop/2019-06-24/
LOCATION:West Valley America’s Job Center of California\, 9650 9th Street\, Suite B\, Rancho Cucamonga\, CA\, 91730\, United States
CATEGORIES:AJCC - West Valley,Job Seeker Workshops
GEO:34.0965707;-117.5949557
X-APPLE-STRUCTURED-LOCATION;VALUE=URI;X-ADDRESS=West Valley America’s Job Center of California 9650 9th Street Suite B Rancho Cucamonga CA 91730 United States;X-APPLE-RADIUS=500;X-TITLE=9650 9th Street\, Suite B:geo:-117.5949557,34.0965707
END:VEVENT
BEGIN:VEVENT
DTSTART;TZID=America/Denver:20190621T153000
DTEND;TZID=America/Denver:20190621T163000
DTSTAMP:20260424T110002
CREATED:20190530T171834Z
LAST-MODIFIED:20190530T171834Z
UID:10013079-1561131000-1561134600@workforce.sbcounty.gov
SUMMARY:Job Preparation for Youth
DESCRIPTION:See Reception to make an appointment. Please check in 15 minutes before the start of the workshop.
URL:https://workforce.sbcounty.gov/event/job-preparation-for-youth-10/
LOCATION:West Valley America’s Job Center of California\, 9650 9th Street\, Suite B\, Rancho Cucamonga\, CA\, 91730\, United States
CATEGORIES:AJCC - West Valley,Job Seeker Workshops
GEO:34.0965707;-117.5949557
X-APPLE-STRUCTURED-LOCATION;VALUE=URI;X-ADDRESS=West Valley America’s Job Center of California 9650 9th Street Suite B Rancho Cucamonga CA 91730 United States;X-APPLE-RADIUS=500;X-TITLE=9650 9th Street\, Suite B:geo:-117.5949557,34.0965707
END:VEVENT
BEGIN:VEVENT
DTSTART;TZID=America/Denver:20190621T083000
DTEND;TZID=America/Denver:20190621T120000
DTSTAMP:20260424T110002
CREATED:20190530T171709Z
LAST-MODIFIED:20190530T171709Z
UID:10013076-1561105800-1561118400@workforce.sbcounty.gov
SUMMARY:Veteran's Job Search
DESCRIPTION:See Reception to make an appointment. Please check in 15 minutes before the start of the workshop.
URL:https://workforce.sbcounty.gov/event/veterans-job-search-7/
LOCATION:West Valley America’s Job Center of California\, 9650 9th Street\, Suite B\, Rancho Cucamonga\, CA\, 91730\, United States
CATEGORIES:AJCC - West Valley,Job Seeker Workshops
GEO:34.0965707;-117.5949557
X-APPLE-STRUCTURED-LOCATION;VALUE=URI;X-ADDRESS=West Valley America’s Job Center of California 9650 9th Street Suite B Rancho Cucamonga CA 91730 United States;X-APPLE-RADIUS=500;X-TITLE=9650 9th Street\, Suite B:geo:-117.5949557,34.0965707
END:VEVENT
BEGIN:VEVENT
DTSTART;TZID=America/Denver:20190618T133000
DTEND;TZID=America/Denver:20190618T153000
DTSTAMP:20260424T110002
CREATED:20190530T171336Z
LAST-MODIFIED:20190530T171336Z
UID:10013070-1560864600-1560871800@workforce.sbcounty.gov
SUMMARY:Sugerencias para Empleo
DESCRIPTION:Consulte a la recepcionista para programar una cita. Por favor\, regístrese 15 minutos antes del inicio del taller.\nSee Reception to make an appointment. Please check in 15 minutes before the start of the workshop.
URL:https://workforce.sbcounty.gov/event/sugerencias-para-empleo-3/
LOCATION:West Valley America’s Job Center of California\, 9650 9th Street\, Suite B\, Rancho Cucamonga\, CA\, 91730\, United States
CATEGORIES:AJCC - West Valley,Job Seeker Workshops
GEO:34.0965707;-117.5949557
X-APPLE-STRUCTURED-LOCATION;VALUE=URI;X-ADDRESS=West Valley America’s Job Center of California 9650 9th Street Suite B Rancho Cucamonga CA 91730 United States;X-APPLE-RADIUS=500;X-TITLE=9650 9th Street\, Suite B:geo:-117.5949557,34.0965707
END:VEVENT
BEGIN:VEVENT
DTSTART;TZID=America/Denver:20190618T090000
DTEND;TZID=America/Denver:20190618T120000
DTSTAMP:20260424T110002
CREATED:20190530T170305Z
LAST-MODIFIED:20190530T170305Z
UID:10013055-1560848400-1560859200@workforce.sbcounty.gov
SUMMARY:Hiring Event
DESCRIPTION:See Reception to make an appointment. Please check in 15 minutes before the start of the workshop.
URL:https://workforce.sbcounty.gov/event/hiring-event-16/2019-06-18/
LOCATION:West Valley America’s Job Center of California\, 9650 9th Street\, Suite B\, Rancho Cucamonga\, CA\, 91730\, United States
CATEGORIES:AJCC - West Valley,Recruitments/Job Fairs
GEO:34.0965707;-117.5949557
X-APPLE-STRUCTURED-LOCATION;VALUE=URI;X-ADDRESS=West Valley America’s Job Center of California 9650 9th Street Suite B Rancho Cucamonga CA 91730 United States;X-APPLE-RADIUS=500;X-TITLE=9650 9th Street\, Suite B:geo:-117.5949557,34.0965707
END:VEVENT
BEGIN:VEVENT
DTSTART;TZID=America/Denver:20190617T090000
DTEND;TZID=America/Denver:20190617T113000
DTSTAMP:20260424T110002
CREATED:20190530T164753Z
LAST-MODIFIED:20190530T164753Z
UID:10013034-1560762000-1560771000@workforce.sbcounty.gov
SUMMARY:Network Unlimited
DESCRIPTION:See Reception to make an appointment. Please check in 15 minutes before the start of the workshop.
URL:https://workforce.sbcounty.gov/event/network-unlimited-workshop/2019-06-17/
LOCATION:West Valley America’s Job Center of California\, 9650 9th Street\, Suite B\, Rancho Cucamonga\, CA\, 91730\, United States
CATEGORIES:AJCC - West Valley,Job Seeker Workshops
GEO:34.0965707;-117.5949557
X-APPLE-STRUCTURED-LOCATION;VALUE=URI;X-ADDRESS=West Valley America’s Job Center of California 9650 9th Street Suite B Rancho Cucamonga CA 91730 United States;X-APPLE-RADIUS=500;X-TITLE=9650 9th Street\, Suite B:geo:-117.5949557,34.0965707
END:VEVENT
BEGIN:VEVENT
DTSTART;TZID=America/Denver:20190611T133000
DTEND;TZID=America/Denver:20190611T153000
DTSTAMP:20260424T110002
CREATED:20190530T171050Z
LAST-MODIFIED:20190530T171050Z
UID:10013067-1560259800-1560267000@workforce.sbcounty.gov
SUMMARY:Labor Market Information
DESCRIPTION:See Reception to make an appointment. Please check in 15 minutes before the start of the workshop.
URL:https://workforce.sbcounty.gov/event/labor-market-information-workshop-4/
LOCATION:West Valley America’s Job Center of California\, 9650 9th Street\, Suite B\, Rancho Cucamonga\, CA\, 91730\, United States
CATEGORIES:AJCC - West Valley,Job Seeker Workshops
GEO:34.0965707;-117.5949557
X-APPLE-STRUCTURED-LOCATION;VALUE=URI;X-ADDRESS=West Valley America’s Job Center of California 9650 9th Street Suite B Rancho Cucamonga CA 91730 United States;X-APPLE-RADIUS=500;X-TITLE=9650 9th Street\, Suite B:geo:-117.5949557,34.0965707
END:VEVENT
BEGIN:VEVENT
DTSTART;TZID=America/Denver:20190611T100000
DTEND;TZID=America/Denver:20190611T120000
DTSTAMP:20260424T110002
CREATED:20190530T170807Z
LAST-MODIFIED:20190530T170807Z
UID:10013061-1560247200-1560254400@workforce.sbcounty.gov
SUMMARY:Basic Computer & MS Word
DESCRIPTION:See Reception to make an appointment. Please check in 15 minutes before the start of the workshop.
URL:https://workforce.sbcounty.gov/event/basic-computer-ms-word-workshop/2019-06-11/
LOCATION:West Valley America’s Job Center of California\, 9650 9th Street\, Suite B\, Rancho Cucamonga\, CA\, 91730\, United States
CATEGORIES:AJCC - West Valley,Job Seeker Workshops
GEO:34.0965707;-117.5949557
X-APPLE-STRUCTURED-LOCATION;VALUE=URI;X-ADDRESS=West Valley America’s Job Center of California 9650 9th Street Suite B Rancho Cucamonga CA 91730 United States;X-APPLE-RADIUS=500;X-TITLE=9650 9th Street\, Suite B:geo:-117.5949557,34.0965707
END:VEVENT
BEGIN:VEVENT
DTSTART;TZID=America/Denver:20190611T090000
DTEND;TZID=America/Denver:20190611T110000
DTSTAMP:20260424T110002
CREATED:20190530T170536Z
LAST-MODIFIED:20190530T170536Z
UID:10013058-1560243600-1560250800@workforce.sbcounty.gov
SUMMARY:Monster
DESCRIPTION:See Reception to make an appointment. Please check in 15 minutes before the start of the workshop.
URL:https://workforce.sbcounty.gov/event/monster-workshop-33/
LOCATION:West Valley America’s Job Center of California\, 9650 9th Street\, Suite B\, Rancho Cucamonga\, CA\, 91730\, United States
CATEGORIES:AJCC - West Valley,Job Seeker Workshops
GEO:34.0965707;-117.5949557
X-APPLE-STRUCTURED-LOCATION;VALUE=URI;X-ADDRESS=West Valley America’s Job Center of California 9650 9th Street Suite B Rancho Cucamonga CA 91730 United States;X-APPLE-RADIUS=500;X-TITLE=9650 9th Street\, Suite B:geo:-117.5949557,34.0965707
END:VEVENT
END:VCALENDAR