BEGIN:VCALENDAR
VERSION:2.0
PRODID:-//Workforce Development - ECPv6.15.14//NONSGML v1.0//EN
CALSCALE:GREGORIAN
METHOD:PUBLISH
X-WR-CALNAME:Workforce Development
X-ORIGINAL-URL:https://workforce.sbcounty.gov
X-WR-CALDESC:Events for Workforce Development
REFRESH-INTERVAL;VALUE=DURATION:PT1H
X-Robots-Tag:noindex
X-PUBLISHED-TTL:PT1H
BEGIN:VTIMEZONE
TZID:America/Denver
BEGIN:DAYLIGHT
TZOFFSETFROM:-0700
TZOFFSETTO:-0600
TZNAME:MDT
DTSTART:20220313T090000
END:DAYLIGHT
BEGIN:STANDARD
TZOFFSETFROM:-0600
TZOFFSETTO:-0700
TZNAME:MST
DTSTART:20221106T080000
END:STANDARD
BEGIN:DAYLIGHT
TZOFFSETFROM:-0700
TZOFFSETTO:-0600
TZNAME:MDT
DTSTART:20230312T090000
END:DAYLIGHT
BEGIN:STANDARD
TZOFFSETFROM:-0600
TZOFFSETTO:-0700
TZNAME:MST
DTSTART:20231105T080000
END:STANDARD
BEGIN:DAYLIGHT
TZOFFSETFROM:-0700
TZOFFSETTO:-0600
TZNAME:MDT
DTSTART:20240310T090000
END:DAYLIGHT
BEGIN:STANDARD
TZOFFSETFROM:-0600
TZOFFSETTO:-0700
TZNAME:MST
DTSTART:20241103T080000
END:STANDARD
END:VTIMEZONE
BEGIN:VTIMEZONE
TZID:UTC
BEGIN:STANDARD
TZOFFSETFROM:+0000
TZOFFSETTO:+0000
TZNAME:UTC
DTSTART:20220101T000000
END:STANDARD
END:VTIMEZONE
BEGIN:VEVENT
DTSTART;TZID=America/Denver:20231219T100000
DTEND;TZID=America/Denver:20231219T113000
DTSTAMP:20260424T175252
CREATED:20210126T173001Z
LAST-MODIFIED:20250611T165055Z
UID:10019780-1702980000-1702985400@workforce.sbcounty.gov
SUMMARY:Interview Skills and Social Media - Job Seeker Workshop
DESCRIPTION:This workshop provides information about contemporary interviewing techniques.  You will learn the purpose of an interview\, types of interviews\, best practices\, and questions that may be asked.  This workshop will be available every Tuesday. \nTo register:  Interview Skills and Social Media Webinar Link
URL:https://workforce.sbcounty.gov/event/interview-skills-and-social-media/2023-12-19/
LOCATION:Via Zoom Conference Call
CATEGORIES:AJCC - East Valley,AJCC - High Desert,AJCC - West Valley,Job Seeker Workshops
ATTACH;FMTTYPE=image/jpeg:https://workforce.sbcounty.gov/wp-content/uploads/sites/104/2024/11/AdobeStock_164418667.bak-scaled.jpeg
END:VEVENT
BEGIN:VEVENT
DTSTART;TZID=America/Denver:20231213T100000
DTEND;TZID=America/Denver:20231213T120000
DTSTAMP:20260424T175252
CREATED:20201031T033303Z
LAST-MODIFIED:20240403T155408Z
UID:10016934-1702461600-1702468800@workforce.sbcounty.gov
SUMMARY:Resume Workshop
DESCRIPTION:This workshop covers the purpose of a resume\, what recruiters want to see\, how to create an updated resume for the current workforce\, and types of resumes.  This workshop is available every Wednesday.\nTo register:  Resume Workshop Webinar Link
URL:https://workforce.sbcounty.gov/event/ajcc-virtual-resume-workshop-2022-08-03/2023-12-13/
LOCATION:Via Zoom Conference Call
CATEGORIES:AJCC - East Valley,AJCC - High Desert,AJCC - West Valley,Job Seeker Workshops
ATTACH;FMTTYPE=image/jpeg:https://workforce.sbcounty.gov/wp-content/uploads/sites/104/2020/10/ISS_10434_00192-1.jpg
END:VEVENT
BEGIN:VEVENT
DTSTART;TZID=America/Denver:20231212T100000
DTEND;TZID=America/Denver:20231212T113000
DTSTAMP:20260424T175252
CREATED:20210126T173001Z
LAST-MODIFIED:20250611T165055Z
UID:10019777-1702375200-1702380600@workforce.sbcounty.gov
SUMMARY:Interview Skills and Social Media - Job Seeker Workshop
DESCRIPTION:This workshop provides information about contemporary interviewing techniques.  You will learn the purpose of an interview\, types of interviews\, best practices\, and questions that may be asked.  This workshop will be available every Tuesday. \nTo register:  Interview Skills and Social Media Webinar Link
URL:https://workforce.sbcounty.gov/event/interview-skills-and-social-media/2023-12-12/
LOCATION:Via Zoom Conference Call
CATEGORIES:AJCC - East Valley,AJCC - High Desert,AJCC - West Valley,Job Seeker Workshops
ATTACH;FMTTYPE=image/jpeg:https://workforce.sbcounty.gov/wp-content/uploads/sites/104/2024/11/AdobeStock_164418667.bak-scaled.jpeg
END:VEVENT
BEGIN:VEVENT
DTSTART;TZID=UTC:20231206T130000
DTEND;TZID=UTC:20231206T140000
DTSTAMP:20260424T175252
CREATED:20231014T013009Z
LAST-MODIFIED:20231014T013009Z
UID:10019247-1701867600-1701871200@workforce.sbcounty.gov
SUMMARY:Harassment Prevention for Employees
DESCRIPTION:​This course is designed to raise awareness about workplace harassment and discrimination and reduce or prevent incidents of misconduct. \nTo Register:  Harassment Prevention-Employees Registration Link
URL:https://workforce.sbcounty.gov/event/harassment-prevention-for-employees-3/
LOCATION:Via Zoom Conference Call
CATEGORIES:Employer Workshops,Recruitments/Job Fairs
END:VEVENT
BEGIN:VEVENT
DTSTART;TZID=UTC:20231206T100000
DTEND;TZID=UTC:20231206T120000
DTSTAMP:20260424T175252
CREATED:20231014T012805Z
LAST-MODIFIED:20231014T012805Z
UID:10019244-1701856800-1701864000@workforce.sbcounty.gov
SUMMARY:Harassment Prevention Training for Supervisors
DESCRIPTION:Effective January 1\, 2019\, California businesses with 5 or more employees MUST provide harassment prevention training every two years (SB1343). Training must be conducted every two years\, so if you trained your team in 2021\, 2023 is your training year. New employees must be trained within six (6) months of hire or promotion to a supervisory position.\nLearning Objectives:\n• A fresh look at harassment\, discrimination\, retaliation\, and governing laws\n• Examine scenarios & incidents and discuss possible appropriate responses\n• Talk about your role in harassment prevention\n• Discuss practical measures to create a safe and respectful workplace\n\nTo Register:  Harassment Prevention for Supervisors Registration Link
URL:https://workforce.sbcounty.gov/event/harassment-prevention-training-for-supervisors-3/
LOCATION:Via Zoom Conference Call
CATEGORIES:Employer Workshops,Recruitments/Job Fairs
END:VEVENT
BEGIN:VEVENT
DTSTART;TZID=America/Denver:20231206T100000
DTEND;TZID=America/Denver:20231206T120000
DTSTAMP:20260424T175252
CREATED:20201031T033303Z
LAST-MODIFIED:20240403T155408Z
UID:10016931-1701856800-1701864000@workforce.sbcounty.gov
SUMMARY:Resume Workshop
DESCRIPTION:This workshop covers the purpose of a resume\, what recruiters want to see\, how to create an updated resume for the current workforce\, and types of resumes.  This workshop is available every Wednesday.\nTo register:  Resume Workshop Webinar Link
URL:https://workforce.sbcounty.gov/event/ajcc-virtual-resume-workshop-2022-08-03/2023-12-06/
LOCATION:Via Zoom Conference Call
CATEGORIES:AJCC - East Valley,AJCC - High Desert,AJCC - West Valley,Job Seeker Workshops
ATTACH;FMTTYPE=image/jpeg:https://workforce.sbcounty.gov/wp-content/uploads/sites/104/2020/10/ISS_10434_00192-1.jpg
END:VEVENT
BEGIN:VEVENT
DTSTART;TZID=America/Denver:20231205T100000
DTEND;TZID=America/Denver:20231205T113000
DTSTAMP:20260424T175252
CREATED:20210126T173001Z
LAST-MODIFIED:20250611T165055Z
UID:10019774-1701770400-1701775800@workforce.sbcounty.gov
SUMMARY:Interview Skills and Social Media - Job Seeker Workshop
DESCRIPTION:This workshop provides information about contemporary interviewing techniques.  You will learn the purpose of an interview\, types of interviews\, best practices\, and questions that may be asked.  This workshop will be available every Tuesday. \nTo register:  Interview Skills and Social Media Webinar Link
URL:https://workforce.sbcounty.gov/event/interview-skills-and-social-media/2023-12-05/
LOCATION:Via Zoom Conference Call
CATEGORIES:AJCC - East Valley,AJCC - High Desert,AJCC - West Valley,Job Seeker Workshops
ATTACH;FMTTYPE=image/jpeg:https://workforce.sbcounty.gov/wp-content/uploads/sites/104/2024/11/AdobeStock_164418667.bak-scaled.jpeg
END:VEVENT
BEGIN:VEVENT
DTSTART;TZID=America/Denver:20231129T100000
DTEND;TZID=America/Denver:20231129T120000
DTSTAMP:20260424T175252
CREATED:20201031T033303Z
LAST-MODIFIED:20240403T155408Z
UID:10016928-1701252000-1701259200@workforce.sbcounty.gov
SUMMARY:Resume Workshop
DESCRIPTION:This workshop covers the purpose of a resume\, what recruiters want to see\, how to create an updated resume for the current workforce\, and types of resumes.  This workshop is available every Wednesday.\nTo register:  Resume Workshop Webinar Link
URL:https://workforce.sbcounty.gov/event/ajcc-virtual-resume-workshop-2022-08-03/2023-11-29/
LOCATION:Via Zoom Conference Call
CATEGORIES:AJCC - East Valley,AJCC - High Desert,AJCC - West Valley,Job Seeker Workshops
ATTACH;FMTTYPE=image/jpeg:https://workforce.sbcounty.gov/wp-content/uploads/sites/104/2020/10/ISS_10434_00192-1.jpg
END:VEVENT
BEGIN:VEVENT
DTSTART;TZID=America/Denver:20231128T100000
DTEND;TZID=America/Denver:20231128T113000
DTSTAMP:20260424T175252
CREATED:20210126T173001Z
LAST-MODIFIED:20250611T165055Z
UID:10019771-1701165600-1701171000@workforce.sbcounty.gov
SUMMARY:Interview Skills and Social Media - Job Seeker Workshop
DESCRIPTION:This workshop provides information about contemporary interviewing techniques.  You will learn the purpose of an interview\, types of interviews\, best practices\, and questions that may be asked.  This workshop will be available every Tuesday. \nTo register:  Interview Skills and Social Media Webinar Link
URL:https://workforce.sbcounty.gov/event/interview-skills-and-social-media/2023-11-28/
LOCATION:Via Zoom Conference Call
CATEGORIES:AJCC - East Valley,AJCC - High Desert,AJCC - West Valley,Job Seeker Workshops
ATTACH;FMTTYPE=image/jpeg:https://workforce.sbcounty.gov/wp-content/uploads/sites/104/2024/11/AdobeStock_164418667.bak-scaled.jpeg
END:VEVENT
BEGIN:VEVENT
DTSTART;TZID=America/Denver:20231121T100000
DTEND;TZID=America/Denver:20231121T113000
DTSTAMP:20260424T175252
CREATED:20210126T173001Z
LAST-MODIFIED:20250611T165055Z
UID:10019768-1700560800-1700566200@workforce.sbcounty.gov
SUMMARY:Interview Skills and Social Media - Job Seeker Workshop
DESCRIPTION:This workshop provides information about contemporary interviewing techniques.  You will learn the purpose of an interview\, types of interviews\, best practices\, and questions that may be asked.  This workshop will be available every Tuesday. \nTo register:  Interview Skills and Social Media Webinar Link
URL:https://workforce.sbcounty.gov/event/interview-skills-and-social-media/2023-11-21/
LOCATION:Via Zoom Conference Call
CATEGORIES:AJCC - East Valley,AJCC - High Desert,AJCC - West Valley,Job Seeker Workshops
ATTACH;FMTTYPE=image/jpeg:https://workforce.sbcounty.gov/wp-content/uploads/sites/104/2024/11/AdobeStock_164418667.bak-scaled.jpeg
END:VEVENT
BEGIN:VEVENT
DTSTART;TZID=America/Denver:20231115T100000
DTEND;TZID=America/Denver:20231115T120000
DTSTAMP:20260424T175252
CREATED:20201031T033303Z
LAST-MODIFIED:20240403T155408Z
UID:10016925-1700042400-1700049600@workforce.sbcounty.gov
SUMMARY:Resume Workshop
DESCRIPTION:This workshop covers the purpose of a resume\, what recruiters want to see\, how to create an updated resume for the current workforce\, and types of resumes.  This workshop is available every Wednesday.\nTo register:  Resume Workshop Webinar Link
URL:https://workforce.sbcounty.gov/event/ajcc-virtual-resume-workshop-2022-08-03/2023-11-15/
LOCATION:Via Zoom Conference Call
CATEGORIES:AJCC - East Valley,AJCC - High Desert,AJCC - West Valley,Job Seeker Workshops
ATTACH;FMTTYPE=image/jpeg:https://workforce.sbcounty.gov/wp-content/uploads/sites/104/2020/10/ISS_10434_00192-1.jpg
END:VEVENT
BEGIN:VEVENT
DTSTART;TZID=America/Denver:20231114T100000
DTEND;TZID=America/Denver:20231114T113000
DTSTAMP:20260424T175252
CREATED:20210126T173001Z
LAST-MODIFIED:20250611T165055Z
UID:10019765-1699956000-1699961400@workforce.sbcounty.gov
SUMMARY:Interview Skills and Social Media - Job Seeker Workshop
DESCRIPTION:This workshop provides information about contemporary interviewing techniques.  You will learn the purpose of an interview\, types of interviews\, best practices\, and questions that may be asked.  This workshop will be available every Tuesday. \nTo register:  Interview Skills and Social Media Webinar Link
URL:https://workforce.sbcounty.gov/event/interview-skills-and-social-media/2023-11-14/
LOCATION:Via Zoom Conference Call
CATEGORIES:AJCC - East Valley,AJCC - High Desert,AJCC - West Valley,Job Seeker Workshops
ATTACH;FMTTYPE=image/jpeg:https://workforce.sbcounty.gov/wp-content/uploads/sites/104/2024/11/AdobeStock_164418667.bak-scaled.jpeg
END:VEVENT
BEGIN:VEVENT
DTSTART;TZID=America/Denver:20231108T100000
DTEND;TZID=America/Denver:20231108T120000
DTSTAMP:20260424T175252
CREATED:20201031T033303Z
LAST-MODIFIED:20240403T155408Z
UID:10016922-1699437600-1699444800@workforce.sbcounty.gov
SUMMARY:Resume Workshop
DESCRIPTION:This workshop covers the purpose of a resume\, what recruiters want to see\, how to create an updated resume for the current workforce\, and types of resumes.  This workshop is available every Wednesday.\nTo register:  Resume Workshop Webinar Link
URL:https://workforce.sbcounty.gov/event/ajcc-virtual-resume-workshop-2022-08-03/2023-11-08/
LOCATION:Via Zoom Conference Call
CATEGORIES:AJCC - East Valley,AJCC - High Desert,AJCC - West Valley,Job Seeker Workshops
ATTACH;FMTTYPE=image/jpeg:https://workforce.sbcounty.gov/wp-content/uploads/sites/104/2020/10/ISS_10434_00192-1.jpg
END:VEVENT
BEGIN:VEVENT
DTSTART;TZID=America/Denver:20231107T100000
DTEND;TZID=America/Denver:20231107T113000
DTSTAMP:20260424T175252
CREATED:20210126T173001Z
LAST-MODIFIED:20250611T165055Z
UID:10019762-1699351200-1699356600@workforce.sbcounty.gov
SUMMARY:Interview Skills and Social Media - Job Seeker Workshop
DESCRIPTION:This workshop provides information about contemporary interviewing techniques.  You will learn the purpose of an interview\, types of interviews\, best practices\, and questions that may be asked.  This workshop will be available every Tuesday. \nTo register:  Interview Skills and Social Media Webinar Link
URL:https://workforce.sbcounty.gov/event/interview-skills-and-social-media/2023-11-07/
LOCATION:Via Zoom Conference Call
CATEGORIES:AJCC - East Valley,AJCC - High Desert,AJCC - West Valley,Job Seeker Workshops
ATTACH;FMTTYPE=image/jpeg:https://workforce.sbcounty.gov/wp-content/uploads/sites/104/2024/11/AdobeStock_164418667.bak-scaled.jpeg
END:VEVENT
BEGIN:VEVENT
DTSTART;TZID=America/Denver:20231101T100000
DTEND;TZID=America/Denver:20231101T120000
DTSTAMP:20260424T175252
CREATED:20201031T033303Z
LAST-MODIFIED:20240403T155408Z
UID:10016919-1698832800-1698840000@workforce.sbcounty.gov
SUMMARY:Resume Workshop
DESCRIPTION:This workshop covers the purpose of a resume\, what recruiters want to see\, how to create an updated resume for the current workforce\, and types of resumes.  This workshop is available every Wednesday.\nTo register:  Resume Workshop Webinar Link
URL:https://workforce.sbcounty.gov/event/ajcc-virtual-resume-workshop-2022-08-03/2023-11-01/
LOCATION:Via Zoom Conference Call
CATEGORIES:AJCC - East Valley,AJCC - High Desert,AJCC - West Valley,Job Seeker Workshops
ATTACH;FMTTYPE=image/jpeg:https://workforce.sbcounty.gov/wp-content/uploads/sites/104/2020/10/ISS_10434_00192-1.jpg
END:VEVENT
BEGIN:VEVENT
DTSTART;TZID=UTC:20231101T100000
DTEND;TZID=UTC:20231101T110000
DTSTAMP:20260424T175252
CREATED:20231014T012449Z
LAST-MODIFIED:20231014T012449Z
UID:10019241-1698832800-1698836400@workforce.sbcounty.gov
SUMMARY:Succession Planning Business Workshop
DESCRIPTION:Learn how to effectively plan who will take over your business when the time comes.\n\nTo Register:  Succession Planning Registration Link
URL:https://workforce.sbcounty.gov/event/succession-planning-business-workshop/
LOCATION:Via Zoom Conference Call
CATEGORIES:Employer Workshops,Recruitments/Job Fairs
ATTACH;FMTTYPE=image/jpeg:https://workforce.sbcounty.gov/wp-content/uploads/sites/104/2023/10/AdobeStock_335043309-scaled.jpeg
END:VEVENT
BEGIN:VEVENT
DTSTART;TZID=America/Denver:20231031T100000
DTEND;TZID=America/Denver:20231031T113000
DTSTAMP:20260424T175252
CREATED:20210126T173001Z
LAST-MODIFIED:20250611T165055Z
UID:10019759-1698746400-1698751800@workforce.sbcounty.gov
SUMMARY:Interview Skills and Social Media - Job Seeker Workshop
DESCRIPTION:This workshop provides information about contemporary interviewing techniques.  You will learn the purpose of an interview\, types of interviews\, best practices\, and questions that may be asked.  This workshop will be available every Tuesday. \nTo register:  Interview Skills and Social Media Webinar Link
URL:https://workforce.sbcounty.gov/event/interview-skills-and-social-media/2023-10-31/
LOCATION:Via Zoom Conference Call
CATEGORIES:AJCC - East Valley,AJCC - High Desert,AJCC - West Valley,Job Seeker Workshops
ATTACH;FMTTYPE=image/jpeg:https://workforce.sbcounty.gov/wp-content/uploads/sites/104/2024/11/AdobeStock_164418667.bak-scaled.jpeg
END:VEVENT
BEGIN:VEVENT
DTSTART;TZID=America/Denver:20231025T100000
DTEND;TZID=America/Denver:20231025T120000
DTSTAMP:20260424T175252
CREATED:20201031T033303Z
LAST-MODIFIED:20240403T155408Z
UID:10016916-1698228000-1698235200@workforce.sbcounty.gov
SUMMARY:Resume Workshop
DESCRIPTION:This workshop covers the purpose of a resume\, what recruiters want to see\, how to create an updated resume for the current workforce\, and types of resumes.  This workshop is available every Wednesday.\nTo register:  Resume Workshop Webinar Link
URL:https://workforce.sbcounty.gov/event/ajcc-virtual-resume-workshop-2022-08-03/2023-10-25/
LOCATION:Via Zoom Conference Call
CATEGORIES:AJCC - East Valley,AJCC - High Desert,AJCC - West Valley,Job Seeker Workshops
ATTACH;FMTTYPE=image/jpeg:https://workforce.sbcounty.gov/wp-content/uploads/sites/104/2020/10/ISS_10434_00192-1.jpg
END:VEVENT
BEGIN:VEVENT
DTSTART;TZID=America/Denver:20231024T100000
DTEND;TZID=America/Denver:20231024T113000
DTSTAMP:20260424T175252
CREATED:20210126T173001Z
LAST-MODIFIED:20250611T165055Z
UID:10019756-1698141600-1698147000@workforce.sbcounty.gov
SUMMARY:Interview Skills and Social Media - Job Seeker Workshop
DESCRIPTION:This workshop provides information about contemporary interviewing techniques.  You will learn the purpose of an interview\, types of interviews\, best practices\, and questions that may be asked.  This workshop will be available every Tuesday. \nTo register:  Interview Skills and Social Media Webinar Link
URL:https://workforce.sbcounty.gov/event/interview-skills-and-social-media/2023-10-24/
LOCATION:Via Zoom Conference Call
CATEGORIES:AJCC - East Valley,AJCC - High Desert,AJCC - West Valley,Job Seeker Workshops
ATTACH;FMTTYPE=image/jpeg:https://workforce.sbcounty.gov/wp-content/uploads/sites/104/2024/11/AdobeStock_164418667.bak-scaled.jpeg
END:VEVENT
BEGIN:VEVENT
DTSTART;TZID=America/Denver:20231018T100000
DTEND;TZID=America/Denver:20231018T120000
DTSTAMP:20260424T175252
CREATED:20201031T033303Z
LAST-MODIFIED:20240403T155408Z
UID:10016913-1697623200-1697630400@workforce.sbcounty.gov
SUMMARY:Resume Workshop
DESCRIPTION:This workshop covers the purpose of a resume\, what recruiters want to see\, how to create an updated resume for the current workforce\, and types of resumes.  This workshop is available every Wednesday.\nTo register:  Resume Workshop Webinar Link
URL:https://workforce.sbcounty.gov/event/ajcc-virtual-resume-workshop-2022-08-03/2023-10-18/
LOCATION:Via Zoom Conference Call
CATEGORIES:AJCC - East Valley,AJCC - High Desert,AJCC - West Valley,Job Seeker Workshops
ATTACH;FMTTYPE=image/jpeg:https://workforce.sbcounty.gov/wp-content/uploads/sites/104/2020/10/ISS_10434_00192-1.jpg
END:VEVENT
BEGIN:VEVENT
DTSTART;TZID=America/Denver:20231017T100000
DTEND;TZID=America/Denver:20231017T113000
DTSTAMP:20260424T175252
CREATED:20210126T173001Z
LAST-MODIFIED:20250611T165055Z
UID:10019753-1697536800-1697542200@workforce.sbcounty.gov
SUMMARY:Interview Skills and Social Media - Job Seeker Workshop
DESCRIPTION:This workshop provides information about contemporary interviewing techniques.  You will learn the purpose of an interview\, types of interviews\, best practices\, and questions that may be asked.  This workshop will be available every Tuesday. \nTo register:  Interview Skills and Social Media Webinar Link
URL:https://workforce.sbcounty.gov/event/interview-skills-and-social-media/2023-10-17/
LOCATION:Via Zoom Conference Call
CATEGORIES:AJCC - East Valley,AJCC - High Desert,AJCC - West Valley,Job Seeker Workshops
ATTACH;FMTTYPE=image/jpeg:https://workforce.sbcounty.gov/wp-content/uploads/sites/104/2024/11/AdobeStock_164418667.bak-scaled.jpeg
END:VEVENT
BEGIN:VEVENT
DTSTART;TZID=America/Denver:20231011T100000
DTEND;TZID=America/Denver:20231011T120000
DTSTAMP:20260424T175252
CREATED:20201031T033303Z
LAST-MODIFIED:20240403T155408Z
UID:10016910-1697018400-1697025600@workforce.sbcounty.gov
SUMMARY:Resume Workshop
DESCRIPTION:This workshop covers the purpose of a resume\, what recruiters want to see\, how to create an updated resume for the current workforce\, and types of resumes.  This workshop is available every Wednesday.\nTo register:  Resume Workshop Webinar Link
URL:https://workforce.sbcounty.gov/event/ajcc-virtual-resume-workshop-2022-08-03/2023-10-11/
LOCATION:Via Zoom Conference Call
CATEGORIES:AJCC - East Valley,AJCC - High Desert,AJCC - West Valley,Job Seeker Workshops
ATTACH;FMTTYPE=image/jpeg:https://workforce.sbcounty.gov/wp-content/uploads/sites/104/2020/10/ISS_10434_00192-1.jpg
END:VEVENT
BEGIN:VEVENT
DTSTART;TZID=America/Denver:20231010T100000
DTEND;TZID=America/Denver:20231010T113000
DTSTAMP:20260424T175252
CREATED:20210126T173001Z
LAST-MODIFIED:20250611T165055Z
UID:10019750-1696932000-1696937400@workforce.sbcounty.gov
SUMMARY:Interview Skills and Social Media - Job Seeker Workshop
DESCRIPTION:This workshop provides information about contemporary interviewing techniques.  You will learn the purpose of an interview\, types of interviews\, best practices\, and questions that may be asked.  This workshop will be available every Tuesday. \nTo register:  Interview Skills and Social Media Webinar Link
URL:https://workforce.sbcounty.gov/event/interview-skills-and-social-media/2023-10-10/
LOCATION:Via Zoom Conference Call
CATEGORIES:AJCC - East Valley,AJCC - High Desert,AJCC - West Valley,Job Seeker Workshops
ATTACH;FMTTYPE=image/jpeg:https://workforce.sbcounty.gov/wp-content/uploads/sites/104/2024/11/AdobeStock_164418667.bak-scaled.jpeg
END:VEVENT
BEGIN:VEVENT
DTSTART;TZID=America/Denver:20231004T100000
DTEND;TZID=America/Denver:20231004T120000
DTSTAMP:20260424T175252
CREATED:20201031T033303Z
LAST-MODIFIED:20240403T155408Z
UID:10016907-1696413600-1696420800@workforce.sbcounty.gov
SUMMARY:Resume Workshop
DESCRIPTION:This workshop covers the purpose of a resume\, what recruiters want to see\, how to create an updated resume for the current workforce\, and types of resumes.  This workshop is available every Wednesday.\nTo register:  Resume Workshop Webinar Link
URL:https://workforce.sbcounty.gov/event/ajcc-virtual-resume-workshop-2022-08-03/2023-10-04/
LOCATION:Via Zoom Conference Call
CATEGORIES:AJCC - East Valley,AJCC - High Desert,AJCC - West Valley,Job Seeker Workshops
ATTACH;FMTTYPE=image/jpeg:https://workforce.sbcounty.gov/wp-content/uploads/sites/104/2020/10/ISS_10434_00192-1.jpg
END:VEVENT
BEGIN:VEVENT
DTSTART;TZID=UTC:20231004T100000
DTEND;TZID=UTC:20231004T110000
DTSTAMP:20260424T175252
CREATED:20230816T051316Z
LAST-MODIFIED:20230816T051413Z
UID:10019235-1696413600-1696417200@workforce.sbcounty.gov
SUMMARY:Harmony Across Generations: Inclusivity in the Workplace
DESCRIPTION:​Did you know we currently have 5 generations in the workplace? Work\, communication and preferences are all influenced by the a person’s generation. Each generation in your company has a difference in the way they work\, think and how they perform their work. These differences can lead to difficulties and conflicts within your work teams. It can also be an opportunity to build a better team that uses the strengths of each generation to that bring the best out of each person. This training will help you bridge the generation gap! Topics include: \n• What are the generations in the workplace\n• Identify each generations work style\n• How to avoid workplace misunderstanding & conflicts between generations\n• Develop strategies to overcome gap issues\n• Identify recruiting & retention strategies that work for each generation \n\nTo Register:  Inclusivity in the Workplace Registration Link
URL:https://workforce.sbcounty.gov/event/harmony-across-generations-inclusivity-in-the-workplace/
LOCATION:Via Zoom Conference Call
CATEGORIES:Employer Workshops,Recruitments/Job Fairs
ATTACH;FMTTYPE=image/jpeg:https://workforce.sbcounty.gov/wp-content/uploads/sites/104/2023/08/ISS_19382_06550.jpg
END:VEVENT
BEGIN:VEVENT
DTSTART;TZID=America/Denver:20231003T100000
DTEND;TZID=America/Denver:20231003T113000
DTSTAMP:20260424T175252
CREATED:20210126T173001Z
LAST-MODIFIED:20250611T165055Z
UID:10019747-1696327200-1696332600@workforce.sbcounty.gov
SUMMARY:Interview Skills and Social Media - Job Seeker Workshop
DESCRIPTION:This workshop provides information about contemporary interviewing techniques.  You will learn the purpose of an interview\, types of interviews\, best practices\, and questions that may be asked.  This workshop will be available every Tuesday. \nTo register:  Interview Skills and Social Media Webinar Link
URL:https://workforce.sbcounty.gov/event/interview-skills-and-social-media/2023-10-03/
LOCATION:Via Zoom Conference Call
CATEGORIES:AJCC - East Valley,AJCC - High Desert,AJCC - West Valley,Job Seeker Workshops
ATTACH;FMTTYPE=image/jpeg:https://workforce.sbcounty.gov/wp-content/uploads/sites/104/2024/11/AdobeStock_164418667.bak-scaled.jpeg
END:VEVENT
BEGIN:VEVENT
DTSTART;TZID=America/Denver:20230927T100000
DTEND;TZID=America/Denver:20230927T120000
DTSTAMP:20260424T175252
CREATED:20201031T033303Z
LAST-MODIFIED:20240403T155408Z
UID:10016904-1695808800-1695816000@workforce.sbcounty.gov
SUMMARY:Resume Workshop
DESCRIPTION:This workshop covers the purpose of a resume\, what recruiters want to see\, how to create an updated resume for the current workforce\, and types of resumes.  This workshop is available every Wednesday.\nTo register:  Resume Workshop Webinar Link
URL:https://workforce.sbcounty.gov/event/ajcc-virtual-resume-workshop-2022-08-03/2023-09-27/
LOCATION:Via Zoom Conference Call
CATEGORIES:AJCC - East Valley,AJCC - High Desert,AJCC - West Valley,Job Seeker Workshops
ATTACH;FMTTYPE=image/jpeg:https://workforce.sbcounty.gov/wp-content/uploads/sites/104/2020/10/ISS_10434_00192-1.jpg
END:VEVENT
BEGIN:VEVENT
DTSTART;TZID=America/Denver:20230926T100000
DTEND;TZID=America/Denver:20230926T113000
DTSTAMP:20260424T175252
CREATED:20210126T173001Z
LAST-MODIFIED:20250611T165055Z
UID:10019744-1695722400-1695727800@workforce.sbcounty.gov
SUMMARY:Interview Skills and Social Media - Job Seeker Workshop
DESCRIPTION:This workshop provides information about contemporary interviewing techniques.  You will learn the purpose of an interview\, types of interviews\, best practices\, and questions that may be asked.  This workshop will be available every Tuesday. \nTo register:  Interview Skills and Social Media Webinar Link
URL:https://workforce.sbcounty.gov/event/interview-skills-and-social-media/2023-09-26/
LOCATION:Via Zoom Conference Call
CATEGORIES:AJCC - East Valley,AJCC - High Desert,AJCC - West Valley,Job Seeker Workshops
ATTACH;FMTTYPE=image/jpeg:https://workforce.sbcounty.gov/wp-content/uploads/sites/104/2024/11/AdobeStock_164418667.bak-scaled.jpeg
END:VEVENT
BEGIN:VEVENT
DTSTART;TZID=America/Denver:20230920T100000
DTEND;TZID=America/Denver:20230920T120000
DTSTAMP:20260424T175252
CREATED:20201031T033303Z
LAST-MODIFIED:20240403T155408Z
UID:10016901-1695204000-1695211200@workforce.sbcounty.gov
SUMMARY:Resume Workshop
DESCRIPTION:This workshop covers the purpose of a resume\, what recruiters want to see\, how to create an updated resume for the current workforce\, and types of resumes.  This workshop is available every Wednesday.\nTo register:  Resume Workshop Webinar Link
URL:https://workforce.sbcounty.gov/event/ajcc-virtual-resume-workshop-2022-08-03/2023-09-20/
LOCATION:Via Zoom Conference Call
CATEGORIES:AJCC - East Valley,AJCC - High Desert,AJCC - West Valley,Job Seeker Workshops
ATTACH;FMTTYPE=image/jpeg:https://workforce.sbcounty.gov/wp-content/uploads/sites/104/2020/10/ISS_10434_00192-1.jpg
END:VEVENT
BEGIN:VEVENT
DTSTART;TZID=America/Denver:20230919T100000
DTEND;TZID=America/Denver:20230919T113000
DTSTAMP:20260424T175252
CREATED:20210126T173001Z
LAST-MODIFIED:20250611T165055Z
UID:10019741-1695117600-1695123000@workforce.sbcounty.gov
SUMMARY:Interview Skills and Social Media - Job Seeker Workshop
DESCRIPTION:This workshop provides information about contemporary interviewing techniques.  You will learn the purpose of an interview\, types of interviews\, best practices\, and questions that may be asked.  This workshop will be available every Tuesday. \nTo register:  Interview Skills and Social Media Webinar Link
URL:https://workforce.sbcounty.gov/event/interview-skills-and-social-media/2023-09-19/
LOCATION:Via Zoom Conference Call
CATEGORIES:AJCC - East Valley,AJCC - High Desert,AJCC - West Valley,Job Seeker Workshops
ATTACH;FMTTYPE=image/jpeg:https://workforce.sbcounty.gov/wp-content/uploads/sites/104/2024/11/AdobeStock_164418667.bak-scaled.jpeg
END:VEVENT
END:VCALENDAR