BEGIN:VCALENDAR
VERSION:2.0
PRODID:-//Workforce Development - ECPv6.15.14//NONSGML v1.0//EN
CALSCALE:GREGORIAN
METHOD:PUBLISH
X-ORIGINAL-URL:https://workforce.sbcounty.gov
X-WR-CALDESC:Events for Workforce Development
REFRESH-INTERVAL;VALUE=DURATION:PT1H
X-Robots-Tag:noindex
X-PUBLISHED-TTL:PT1H
BEGIN:VTIMEZONE
TZID:America/Denver
BEGIN:DAYLIGHT
TZOFFSETFROM:-0700
TZOFFSETTO:-0600
TZNAME:MDT
DTSTART:20220313T090000
END:DAYLIGHT
BEGIN:STANDARD
TZOFFSETFROM:-0600
TZOFFSETTO:-0700
TZNAME:MST
DTSTART:20221106T080000
END:STANDARD
BEGIN:DAYLIGHT
TZOFFSETFROM:-0700
TZOFFSETTO:-0600
TZNAME:MDT
DTSTART:20230312T090000
END:DAYLIGHT
BEGIN:STANDARD
TZOFFSETFROM:-0600
TZOFFSETTO:-0700
TZNAME:MST
DTSTART:20231105T080000
END:STANDARD
BEGIN:DAYLIGHT
TZOFFSETFROM:-0700
TZOFFSETTO:-0600
TZNAME:MDT
DTSTART:20240310T090000
END:DAYLIGHT
BEGIN:STANDARD
TZOFFSETFROM:-0600
TZOFFSETTO:-0700
TZNAME:MST
DTSTART:20241103T080000
END:STANDARD
BEGIN:DAYLIGHT
TZOFFSETFROM:-0700
TZOFFSETTO:-0600
TZNAME:MDT
DTSTART:20250309T090000
END:DAYLIGHT
BEGIN:STANDARD
TZOFFSETFROM:-0600
TZOFFSETTO:-0700
TZNAME:MST
DTSTART:20251102T080000
END:STANDARD
END:VTIMEZONE
BEGIN:VTIMEZONE
TZID:America/Los_Angeles
BEGIN:DAYLIGHT
TZOFFSETFROM:-0800
TZOFFSETTO:-0700
TZNAME:PDT
DTSTART:20230312T100000
END:DAYLIGHT
BEGIN:STANDARD
TZOFFSETFROM:-0700
TZOFFSETTO:-0800
TZNAME:PST
DTSTART:20231105T090000
END:STANDARD
BEGIN:DAYLIGHT
TZOFFSETFROM:-0800
TZOFFSETTO:-0700
TZNAME:PDT
DTSTART:20240310T100000
END:DAYLIGHT
BEGIN:STANDARD
TZOFFSETFROM:-0700
TZOFFSETTO:-0800
TZNAME:PST
DTSTART:20241103T090000
END:STANDARD
BEGIN:DAYLIGHT
TZOFFSETFROM:-0800
TZOFFSETTO:-0700
TZNAME:PDT
DTSTART:20250309T100000
END:DAYLIGHT
BEGIN:STANDARD
TZOFFSETFROM:-0700
TZOFFSETTO:-0800
TZNAME:PST
DTSTART:20251102T090000
END:STANDARD
END:VTIMEZONE
BEGIN:VTIMEZONE
TZID:UTC
BEGIN:STANDARD
TZOFFSETFROM:+0000
TZOFFSETTO:+0000
TZNAME:UTC
DTSTART:20220101T000000
END:STANDARD
END:VTIMEZONE
BEGIN:VEVENT
DTSTART;TZID=America/Denver:20240221T100000
DTEND;TZID=America/Denver:20240221T120000
DTSTAMP:20260424T080705
CREATED:20201031T033303Z
LAST-MODIFIED:20240403T155408Z
UID:10016958-1708509600-1708516800@workforce.sbcounty.gov
SUMMARY:Resume Workshop
DESCRIPTION:This workshop covers the purpose of a resume\, what recruiters want to see\, how to create an updated resume for the current workforce\, and types of resumes.  This workshop is available every Wednesday.\nTo register:  Resume Workshop Webinar Link
URL:https://workforce.sbcounty.gov/event/ajcc-virtual-resume-workshop-2022-08-03/2024-02-21/
LOCATION:Via Zoom Conference Call
CATEGORIES:AJCC - East Valley,AJCC - High Desert,AJCC - West Valley,Job Seeker Workshops
ATTACH;FMTTYPE=image/jpeg:https://workforce.sbcounty.gov/wp-content/uploads/sites/104/2020/10/ISS_10434_00192-1.jpg
END:VEVENT
BEGIN:VEVENT
DTSTART;TZID=America/Denver:20240220T100000
DTEND;TZID=America/Denver:20240220T113000
DTSTAMP:20260424T080705
CREATED:20210126T173001Z
LAST-MODIFIED:20250611T165055Z
UID:10019807-1708423200-1708428600@workforce.sbcounty.gov
SUMMARY:Interview Skills and Social Media - Job Seeker Workshop
DESCRIPTION:This workshop provides information about contemporary interviewing techniques.  You will learn the purpose of an interview\, types of interviews\, best practices\, and questions that may be asked.  This workshop will be available every Tuesday. \nTo register:  Interview Skills and Social Media Webinar Link
URL:https://workforce.sbcounty.gov/event/interview-skills-and-social-media/2024-02-20/
LOCATION:Via Zoom Conference Call
CATEGORIES:AJCC - East Valley,AJCC - High Desert,AJCC - West Valley,Job Seeker Workshops
ATTACH;FMTTYPE=image/jpeg:https://workforce.sbcounty.gov/wp-content/uploads/sites/104/2024/11/AdobeStock_164418667.bak-scaled.jpeg
END:VEVENT
BEGIN:VEVENT
DTSTART;TZID=America/Denver:20240214T100000
DTEND;TZID=America/Denver:20240214T120000
DTSTAMP:20260424T080705
CREATED:20201031T033303Z
LAST-MODIFIED:20240403T155408Z
UID:10016955-1707904800-1707912000@workforce.sbcounty.gov
SUMMARY:Resume Workshop
DESCRIPTION:This workshop covers the purpose of a resume\, what recruiters want to see\, how to create an updated resume for the current workforce\, and types of resumes.  This workshop is available every Wednesday.\nTo register:  Resume Workshop Webinar Link
URL:https://workforce.sbcounty.gov/event/ajcc-virtual-resume-workshop-2022-08-03/2024-02-14/
LOCATION:Via Zoom Conference Call
CATEGORIES:AJCC - East Valley,AJCC - High Desert,AJCC - West Valley,Job Seeker Workshops
ATTACH;FMTTYPE=image/jpeg:https://workforce.sbcounty.gov/wp-content/uploads/sites/104/2020/10/ISS_10434_00192-1.jpg
END:VEVENT
BEGIN:VEVENT
DTSTART;TZID=America/Denver:20240213T100000
DTEND;TZID=America/Denver:20240213T113000
DTSTAMP:20260424T080705
CREATED:20210126T173001Z
LAST-MODIFIED:20250611T165055Z
UID:10019804-1707818400-1707823800@workforce.sbcounty.gov
SUMMARY:Interview Skills and Social Media - Job Seeker Workshop
DESCRIPTION:This workshop provides information about contemporary interviewing techniques.  You will learn the purpose of an interview\, types of interviews\, best practices\, and questions that may be asked.  This workshop will be available every Tuesday. \nTo register:  Interview Skills and Social Media Webinar Link
URL:https://workforce.sbcounty.gov/event/interview-skills-and-social-media/2024-02-13/
LOCATION:Via Zoom Conference Call
CATEGORIES:AJCC - East Valley,AJCC - High Desert,AJCC - West Valley,Job Seeker Workshops
ATTACH;FMTTYPE=image/jpeg:https://workforce.sbcounty.gov/wp-content/uploads/sites/104/2024/11/AdobeStock_164418667.bak-scaled.jpeg
END:VEVENT
BEGIN:VEVENT
DTSTART;TZID=America/Los_Angeles:20240212T100000
DTEND;TZID=America/Los_Angeles:20240212T113000
DTSTAMP:20260424T080705
CREATED:20210126T170213Z
LAST-MODIFIED:20250611T164938Z
UID:10017999-1707732000-1707737400@workforce.sbcounty.gov
SUMMARY:How to Get a Government Job - Job Seeker Workshop
DESCRIPTION:This workshop will guide you on how to find government employment\, how to create accounts\, search for jobs and apply for jobs on various government websites.  This workshop is available every Monday.\nTo register:  How to Get a Government Job Webinar Link
URL:https://workforce.sbcounty.gov/event/how-to-get-a-government-job-2024-02-19/2024-02-12/
LOCATION:Via Zoom Conference Call
CATEGORIES:AJCC - East Valley,AJCC - High Desert,AJCC - West Valley,Job Seeker Workshops
ATTACH;FMTTYPE=image/jpeg:https://workforce.sbcounty.gov/wp-content/uploads/sites/104/2021/01/Government-Job.jpg
END:VEVENT
BEGIN:VEVENT
DTSTART;TZID=America/Denver:20240207T100000
DTEND;TZID=America/Denver:20240207T120000
DTSTAMP:20260424T080705
CREATED:20201031T033303Z
LAST-MODIFIED:20240403T155408Z
UID:10016952-1707300000-1707307200@workforce.sbcounty.gov
SUMMARY:Resume Workshop
DESCRIPTION:This workshop covers the purpose of a resume\, what recruiters want to see\, how to create an updated resume for the current workforce\, and types of resumes.  This workshop is available every Wednesday.\nTo register:  Resume Workshop Webinar Link
URL:https://workforce.sbcounty.gov/event/ajcc-virtual-resume-workshop-2022-08-03/2024-02-07/
LOCATION:Via Zoom Conference Call
CATEGORIES:AJCC - East Valley,AJCC - High Desert,AJCC - West Valley,Job Seeker Workshops
ATTACH;FMTTYPE=image/jpeg:https://workforce.sbcounty.gov/wp-content/uploads/sites/104/2020/10/ISS_10434_00192-1.jpg
END:VEVENT
BEGIN:VEVENT
DTSTART;TZID=UTC:20240207T100000
DTEND;TZID=UTC:20240207T110000
DTSTAMP:20260424T080705
CREATED:20240117T075112Z
LAST-MODIFIED:20240117T075112Z
UID:10019268-1707300000-1707303600@workforce.sbcounty.gov
SUMMARY:Tips for Your Employee Handbook
DESCRIPTION:An employee handbook is one of the most important communication tools between your company and your employees. Not only does it set forth your expectations for your employees\, it also describes what they can expect from you and ensures your business complies with state and federal employment laws.\nLearning Objectives:\n· Benefits and Risks of an Employee Handbook\n· Essential Provisions\n· Policies Required by State and Federal Law\n· Recommended Policies\n· What NOT to Put in an Employee Handbook \n\nRegister Here:  Webinar Registration
URL:https://workforce.sbcounty.gov/event/tips-for-your-employee-handbook/
LOCATION:Via Zoom Conference Call
CATEGORIES:Employer Workshops,Recruitments/Job Fairs
ATTACH;FMTTYPE=image/jpeg:https://workforce.sbcounty.gov/wp-content/uploads/sites/104/2024/01/EmployeeHandbook-scaled.jpeg
END:VEVENT
BEGIN:VEVENT
DTSTART;TZID=America/Denver:20240206T100000
DTEND;TZID=America/Denver:20240206T113000
DTSTAMP:20260424T080705
CREATED:20210126T173001Z
LAST-MODIFIED:20250611T165055Z
UID:10019801-1707213600-1707219000@workforce.sbcounty.gov
SUMMARY:Interview Skills and Social Media - Job Seeker Workshop
DESCRIPTION:This workshop provides information about contemporary interviewing techniques.  You will learn the purpose of an interview\, types of interviews\, best practices\, and questions that may be asked.  This workshop will be available every Tuesday. \nTo register:  Interview Skills and Social Media Webinar Link
URL:https://workforce.sbcounty.gov/event/interview-skills-and-social-media/2024-02-06/
LOCATION:Via Zoom Conference Call
CATEGORIES:AJCC - East Valley,AJCC - High Desert,AJCC - West Valley,Job Seeker Workshops
ATTACH;FMTTYPE=image/jpeg:https://workforce.sbcounty.gov/wp-content/uploads/sites/104/2024/11/AdobeStock_164418667.bak-scaled.jpeg
END:VEVENT
BEGIN:VEVENT
DTSTART;TZID=America/Los_Angeles:20240205T100000
DTEND;TZID=America/Los_Angeles:20240205T113000
DTSTAMP:20260424T080705
CREATED:20210126T170213Z
LAST-MODIFIED:20250611T164938Z
UID:10017996-1707127200-1707132600@workforce.sbcounty.gov
SUMMARY:How to Get a Government Job - Job Seeker Workshop
DESCRIPTION:This workshop will guide you on how to find government employment\, how to create accounts\, search for jobs and apply for jobs on various government websites.  This workshop is available every Monday.\nTo register:  How to Get a Government Job Webinar Link
URL:https://workforce.sbcounty.gov/event/how-to-get-a-government-job-2024-02-19/2024-02-05/
LOCATION:Via Zoom Conference Call
CATEGORIES:AJCC - East Valley,AJCC - High Desert,AJCC - West Valley,Job Seeker Workshops
ATTACH;FMTTYPE=image/jpeg:https://workforce.sbcounty.gov/wp-content/uploads/sites/104/2021/01/Government-Job.jpg
END:VEVENT
BEGIN:VEVENT
DTSTART;TZID=America/Denver:20240131T100000
DTEND;TZID=America/Denver:20240131T120000
DTSTAMP:20260424T080705
CREATED:20201031T033303Z
LAST-MODIFIED:20240403T155408Z
UID:10016949-1706695200-1706702400@workforce.sbcounty.gov
SUMMARY:Resume Workshop
DESCRIPTION:This workshop covers the purpose of a resume\, what recruiters want to see\, how to create an updated resume for the current workforce\, and types of resumes.  This workshop is available every Wednesday.\nTo register:  Resume Workshop Webinar Link
URL:https://workforce.sbcounty.gov/event/ajcc-virtual-resume-workshop-2022-08-03/2024-01-31/
LOCATION:Via Zoom Conference Call
CATEGORIES:AJCC - East Valley,AJCC - High Desert,AJCC - West Valley,Job Seeker Workshops
ATTACH;FMTTYPE=image/jpeg:https://workforce.sbcounty.gov/wp-content/uploads/sites/104/2020/10/ISS_10434_00192-1.jpg
END:VEVENT
BEGIN:VEVENT
DTSTART;TZID=America/Denver:20240130T100000
DTEND;TZID=America/Denver:20240130T113000
DTSTAMP:20260424T080705
CREATED:20210126T173001Z
LAST-MODIFIED:20250611T165055Z
UID:10019798-1706608800-1706614200@workforce.sbcounty.gov
SUMMARY:Interview Skills and Social Media - Job Seeker Workshop
DESCRIPTION:This workshop provides information about contemporary interviewing techniques.  You will learn the purpose of an interview\, types of interviews\, best practices\, and questions that may be asked.  This workshop will be available every Tuesday. \nTo register:  Interview Skills and Social Media Webinar Link
URL:https://workforce.sbcounty.gov/event/interview-skills-and-social-media/2024-01-30/
LOCATION:Via Zoom Conference Call
CATEGORIES:AJCC - East Valley,AJCC - High Desert,AJCC - West Valley,Job Seeker Workshops
ATTACH;FMTTYPE=image/jpeg:https://workforce.sbcounty.gov/wp-content/uploads/sites/104/2024/11/AdobeStock_164418667.bak-scaled.jpeg
END:VEVENT
BEGIN:VEVENT
DTSTART;TZID=America/Los_Angeles:20240129T100000
DTEND;TZID=America/Los_Angeles:20240129T113000
DTSTAMP:20260424T080705
CREATED:20210126T170213Z
LAST-MODIFIED:20250611T164938Z
UID:10017993-1706522400-1706527800@workforce.sbcounty.gov
SUMMARY:How to Get a Government Job - Job Seeker Workshop
DESCRIPTION:This workshop will guide you on how to find government employment\, how to create accounts\, search for jobs and apply for jobs on various government websites.  This workshop is available every Monday.\nTo register:  How to Get a Government Job Webinar Link
URL:https://workforce.sbcounty.gov/event/how-to-get-a-government-job-2024-02-19/2024-01-29/
LOCATION:Via Zoom Conference Call
CATEGORIES:AJCC - East Valley,AJCC - High Desert,AJCC - West Valley,Job Seeker Workshops
ATTACH;FMTTYPE=image/jpeg:https://workforce.sbcounty.gov/wp-content/uploads/sites/104/2021/01/Government-Job.jpg
END:VEVENT
BEGIN:VEVENT
DTSTART;TZID=America/Denver:20240124T100000
DTEND;TZID=America/Denver:20240124T120000
DTSTAMP:20260424T080705
CREATED:20201031T033303Z
LAST-MODIFIED:20240403T155408Z
UID:10016946-1706090400-1706097600@workforce.sbcounty.gov
SUMMARY:Resume Workshop
DESCRIPTION:This workshop covers the purpose of a resume\, what recruiters want to see\, how to create an updated resume for the current workforce\, and types of resumes.  This workshop is available every Wednesday.\nTo register:  Resume Workshop Webinar Link
URL:https://workforce.sbcounty.gov/event/ajcc-virtual-resume-workshop-2022-08-03/2024-01-24/
LOCATION:Via Zoom Conference Call
CATEGORIES:AJCC - East Valley,AJCC - High Desert,AJCC - West Valley,Job Seeker Workshops
ATTACH;FMTTYPE=image/jpeg:https://workforce.sbcounty.gov/wp-content/uploads/sites/104/2020/10/ISS_10434_00192-1.jpg
END:VEVENT
BEGIN:VEVENT
DTSTART;TZID=America/Denver:20240123T100000
DTEND;TZID=America/Denver:20240123T113000
DTSTAMP:20260424T080705
CREATED:20210126T173001Z
LAST-MODIFIED:20250611T165055Z
UID:10019795-1706004000-1706009400@workforce.sbcounty.gov
SUMMARY:Interview Skills and Social Media - Job Seeker Workshop
DESCRIPTION:This workshop provides information about contemporary interviewing techniques.  You will learn the purpose of an interview\, types of interviews\, best practices\, and questions that may be asked.  This workshop will be available every Tuesday. \nTo register:  Interview Skills and Social Media Webinar Link
URL:https://workforce.sbcounty.gov/event/interview-skills-and-social-media/2024-01-23/
LOCATION:Via Zoom Conference Call
CATEGORIES:AJCC - East Valley,AJCC - High Desert,AJCC - West Valley,Job Seeker Workshops
ATTACH;FMTTYPE=image/jpeg:https://workforce.sbcounty.gov/wp-content/uploads/sites/104/2024/11/AdobeStock_164418667.bak-scaled.jpeg
END:VEVENT
BEGIN:VEVENT
DTSTART;TZID=America/Los_Angeles:20240122T100000
DTEND;TZID=America/Los_Angeles:20240122T113000
DTSTAMP:20260424T080705
CREATED:20210126T170213Z
LAST-MODIFIED:20250611T164938Z
UID:10017990-1705917600-1705923000@workforce.sbcounty.gov
SUMMARY:How to Get a Government Job - Job Seeker Workshop
DESCRIPTION:This workshop will guide you on how to find government employment\, how to create accounts\, search for jobs and apply for jobs on various government websites.  This workshop is available every Monday.\nTo register:  How to Get a Government Job Webinar Link
URL:https://workforce.sbcounty.gov/event/how-to-get-a-government-job-2024-02-19/2024-01-22/
LOCATION:Via Zoom Conference Call
CATEGORIES:AJCC - East Valley,AJCC - High Desert,AJCC - West Valley,Job Seeker Workshops
ATTACH;FMTTYPE=image/jpeg:https://workforce.sbcounty.gov/wp-content/uploads/sites/104/2021/01/Government-Job.jpg
END:VEVENT
BEGIN:VEVENT
DTSTART;TZID=America/Denver:20240117T100000
DTEND;TZID=America/Denver:20240117T120000
DTSTAMP:20260424T080705
CREATED:20201031T033303Z
LAST-MODIFIED:20240403T155408Z
UID:10016943-1705485600-1705492800@workforce.sbcounty.gov
SUMMARY:Resume Workshop
DESCRIPTION:This workshop covers the purpose of a resume\, what recruiters want to see\, how to create an updated resume for the current workforce\, and types of resumes.  This workshop is available every Wednesday.\nTo register:  Resume Workshop Webinar Link
URL:https://workforce.sbcounty.gov/event/ajcc-virtual-resume-workshop-2022-08-03/2024-01-17/
LOCATION:Via Zoom Conference Call
CATEGORIES:AJCC - East Valley,AJCC - High Desert,AJCC - West Valley,Job Seeker Workshops
ATTACH;FMTTYPE=image/jpeg:https://workforce.sbcounty.gov/wp-content/uploads/sites/104/2020/10/ISS_10434_00192-1.jpg
END:VEVENT
BEGIN:VEVENT
DTSTART;TZID=America/Denver:20240116T100000
DTEND;TZID=America/Denver:20240116T113000
DTSTAMP:20260424T080705
CREATED:20210126T173001Z
LAST-MODIFIED:20250611T165055Z
UID:10019792-1705399200-1705404600@workforce.sbcounty.gov
SUMMARY:Interview Skills and Social Media - Job Seeker Workshop
DESCRIPTION:This workshop provides information about contemporary interviewing techniques.  You will learn the purpose of an interview\, types of interviews\, best practices\, and questions that may be asked.  This workshop will be available every Tuesday. \nTo register:  Interview Skills and Social Media Webinar Link
URL:https://workforce.sbcounty.gov/event/interview-skills-and-social-media/2024-01-16/
LOCATION:Via Zoom Conference Call
CATEGORIES:AJCC - East Valley,AJCC - High Desert,AJCC - West Valley,Job Seeker Workshops
ATTACH;FMTTYPE=image/jpeg:https://workforce.sbcounty.gov/wp-content/uploads/sites/104/2024/11/AdobeStock_164418667.bak-scaled.jpeg
END:VEVENT
BEGIN:VEVENT
DTSTART;TZID=America/Denver:20240110T100000
DTEND;TZID=America/Denver:20240110T120000
DTSTAMP:20260424T080705
CREATED:20201031T033303Z
LAST-MODIFIED:20240403T155408Z
UID:10016940-1704880800-1704888000@workforce.sbcounty.gov
SUMMARY:Resume Workshop
DESCRIPTION:This workshop covers the purpose of a resume\, what recruiters want to see\, how to create an updated resume for the current workforce\, and types of resumes.  This workshop is available every Wednesday.\nTo register:  Resume Workshop Webinar Link
URL:https://workforce.sbcounty.gov/event/ajcc-virtual-resume-workshop-2022-08-03/2024-01-10/
LOCATION:Via Zoom Conference Call
CATEGORIES:AJCC - East Valley,AJCC - High Desert,AJCC - West Valley,Job Seeker Workshops
ATTACH;FMTTYPE=image/jpeg:https://workforce.sbcounty.gov/wp-content/uploads/sites/104/2020/10/ISS_10434_00192-1.jpg
END:VEVENT
BEGIN:VEVENT
DTSTART;TZID=UTC:20240110T100000
DTEND;TZID=UTC:20240110T113000
DTSTAMP:20260424T080705
CREATED:20231014T013901Z
LAST-MODIFIED:20231014T013901Z
UID:10019250-1704880800-1704886200@workforce.sbcounty.gov
SUMMARY:2024 Labor Law Update
DESCRIPTION:​Join us for an interactive and informative sneak peek of 2024 Labor Law Updates with experienced HR Subject Matter Experts. \nRegister Here:  2024 Labor Law Registration Link
URL:https://workforce.sbcounty.gov/event/2024-labor-law-update/
LOCATION:Via Zoom Conference Call
CATEGORIES:Employer Workshops,Recruitments/Job Fairs
END:VEVENT
BEGIN:VEVENT
DTSTART;TZID=America/Denver:20240109T100000
DTEND;TZID=America/Denver:20240109T113000
DTSTAMP:20260424T080705
CREATED:20210126T173001Z
LAST-MODIFIED:20250611T165055Z
UID:10019789-1704794400-1704799800@workforce.sbcounty.gov
SUMMARY:Interview Skills and Social Media - Job Seeker Workshop
DESCRIPTION:This workshop provides information about contemporary interviewing techniques.  You will learn the purpose of an interview\, types of interviews\, best practices\, and questions that may be asked.  This workshop will be available every Tuesday. \nTo register:  Interview Skills and Social Media Webinar Link
URL:https://workforce.sbcounty.gov/event/interview-skills-and-social-media/2024-01-09/
LOCATION:Via Zoom Conference Call
CATEGORIES:AJCC - East Valley,AJCC - High Desert,AJCC - West Valley,Job Seeker Workshops
ATTACH;FMTTYPE=image/jpeg:https://workforce.sbcounty.gov/wp-content/uploads/sites/104/2024/11/AdobeStock_164418667.bak-scaled.jpeg
END:VEVENT
BEGIN:VEVENT
DTSTART;TZID=America/Los_Angeles:20240108T100000
DTEND;TZID=America/Los_Angeles:20240108T113000
DTSTAMP:20260424T080705
CREATED:20210126T170213Z
LAST-MODIFIED:20250611T164938Z
UID:10017987-1704708000-1704713400@workforce.sbcounty.gov
SUMMARY:How to Get a Government Job - Job Seeker Workshop
DESCRIPTION:This workshop will guide you on how to find government employment\, how to create accounts\, search for jobs and apply for jobs on various government websites.  This workshop is available every Monday.\nTo register:  How to Get a Government Job Webinar Link
URL:https://workforce.sbcounty.gov/event/how-to-get-a-government-job-2024-02-19/2024-01-08/
LOCATION:Via Zoom Conference Call
CATEGORIES:AJCC - East Valley,AJCC - High Desert,AJCC - West Valley,Job Seeker Workshops
ATTACH;FMTTYPE=image/jpeg:https://workforce.sbcounty.gov/wp-content/uploads/sites/104/2021/01/Government-Job.jpg
END:VEVENT
BEGIN:VEVENT
DTSTART;TZID=America/Denver:20240103T100000
DTEND;TZID=America/Denver:20240103T120000
DTSTAMP:20260424T080705
CREATED:20201031T033303Z
LAST-MODIFIED:20240403T155408Z
UID:10016937-1704276000-1704283200@workforce.sbcounty.gov
SUMMARY:Resume Workshop
DESCRIPTION:This workshop covers the purpose of a resume\, what recruiters want to see\, how to create an updated resume for the current workforce\, and types of resumes.  This workshop is available every Wednesday.\nTo register:  Resume Workshop Webinar Link
URL:https://workforce.sbcounty.gov/event/ajcc-virtual-resume-workshop-2022-08-03/2024-01-03/
LOCATION:Via Zoom Conference Call
CATEGORIES:AJCC - East Valley,AJCC - High Desert,AJCC - West Valley,Job Seeker Workshops
ATTACH;FMTTYPE=image/jpeg:https://workforce.sbcounty.gov/wp-content/uploads/sites/104/2020/10/ISS_10434_00192-1.jpg
END:VEVENT
BEGIN:VEVENT
DTSTART;TZID=America/Denver:20240102T100000
DTEND;TZID=America/Denver:20240102T113000
DTSTAMP:20260424T080705
CREATED:20210126T173001Z
LAST-MODIFIED:20250611T165055Z
UID:10019786-1704189600-1704195000@workforce.sbcounty.gov
SUMMARY:Interview Skills and Social Media - Job Seeker Workshop
DESCRIPTION:This workshop provides information about contemporary interviewing techniques.  You will learn the purpose of an interview\, types of interviews\, best practices\, and questions that may be asked.  This workshop will be available every Tuesday. \nTo register:  Interview Skills and Social Media Webinar Link
URL:https://workforce.sbcounty.gov/event/interview-skills-and-social-media/2024-01-02/
LOCATION:Via Zoom Conference Call
CATEGORIES:AJCC - East Valley,AJCC - High Desert,AJCC - West Valley,Job Seeker Workshops
ATTACH;FMTTYPE=image/jpeg:https://workforce.sbcounty.gov/wp-content/uploads/sites/104/2024/11/AdobeStock_164418667.bak-scaled.jpeg
END:VEVENT
BEGIN:VEVENT
DTSTART;TZID=America/Denver:20231226T100000
DTEND;TZID=America/Denver:20231226T113000
DTSTAMP:20260424T080705
CREATED:20210126T173001Z
LAST-MODIFIED:20250611T165055Z
UID:10019783-1703584800-1703590200@workforce.sbcounty.gov
SUMMARY:Interview Skills and Social Media - Job Seeker Workshop
DESCRIPTION:This workshop provides information about contemporary interviewing techniques.  You will learn the purpose of an interview\, types of interviews\, best practices\, and questions that may be asked.  This workshop will be available every Tuesday. \nTo register:  Interview Skills and Social Media Webinar Link
URL:https://workforce.sbcounty.gov/event/interview-skills-and-social-media/2023-12-26/
LOCATION:Via Zoom Conference Call
CATEGORIES:AJCC - East Valley,AJCC - High Desert,AJCC - West Valley,Job Seeker Workshops
ATTACH;FMTTYPE=image/jpeg:https://workforce.sbcounty.gov/wp-content/uploads/sites/104/2024/11/AdobeStock_164418667.bak-scaled.jpeg
END:VEVENT
BEGIN:VEVENT
DTSTART;TZID=America/Denver:20231219T100000
DTEND;TZID=America/Denver:20231219T113000
DTSTAMP:20260424T080705
CREATED:20210126T173001Z
LAST-MODIFIED:20250611T165055Z
UID:10019780-1702980000-1702985400@workforce.sbcounty.gov
SUMMARY:Interview Skills and Social Media - Job Seeker Workshop
DESCRIPTION:This workshop provides information about contemporary interviewing techniques.  You will learn the purpose of an interview\, types of interviews\, best practices\, and questions that may be asked.  This workshop will be available every Tuesday. \nTo register:  Interview Skills and Social Media Webinar Link
URL:https://workforce.sbcounty.gov/event/interview-skills-and-social-media/2023-12-19/
LOCATION:Via Zoom Conference Call
CATEGORIES:AJCC - East Valley,AJCC - High Desert,AJCC - West Valley,Job Seeker Workshops
ATTACH;FMTTYPE=image/jpeg:https://workforce.sbcounty.gov/wp-content/uploads/sites/104/2024/11/AdobeStock_164418667.bak-scaled.jpeg
END:VEVENT
BEGIN:VEVENT
DTSTART;TZID=America/Denver:20231213T100000
DTEND;TZID=America/Denver:20231213T120000
DTSTAMP:20260424T080705
CREATED:20201031T033303Z
LAST-MODIFIED:20240403T155408Z
UID:10016934-1702461600-1702468800@workforce.sbcounty.gov
SUMMARY:Resume Workshop
DESCRIPTION:This workshop covers the purpose of a resume\, what recruiters want to see\, how to create an updated resume for the current workforce\, and types of resumes.  This workshop is available every Wednesday.\nTo register:  Resume Workshop Webinar Link
URL:https://workforce.sbcounty.gov/event/ajcc-virtual-resume-workshop-2022-08-03/2023-12-13/
LOCATION:Via Zoom Conference Call
CATEGORIES:AJCC - East Valley,AJCC - High Desert,AJCC - West Valley,Job Seeker Workshops
ATTACH;FMTTYPE=image/jpeg:https://workforce.sbcounty.gov/wp-content/uploads/sites/104/2020/10/ISS_10434_00192-1.jpg
END:VEVENT
BEGIN:VEVENT
DTSTART;TZID=America/Denver:20231212T100000
DTEND;TZID=America/Denver:20231212T113000
DTSTAMP:20260424T080705
CREATED:20210126T173001Z
LAST-MODIFIED:20250611T165055Z
UID:10019777-1702375200-1702380600@workforce.sbcounty.gov
SUMMARY:Interview Skills and Social Media - Job Seeker Workshop
DESCRIPTION:This workshop provides information about contemporary interviewing techniques.  You will learn the purpose of an interview\, types of interviews\, best practices\, and questions that may be asked.  This workshop will be available every Tuesday. \nTo register:  Interview Skills and Social Media Webinar Link
URL:https://workforce.sbcounty.gov/event/interview-skills-and-social-media/2023-12-12/
LOCATION:Via Zoom Conference Call
CATEGORIES:AJCC - East Valley,AJCC - High Desert,AJCC - West Valley,Job Seeker Workshops
ATTACH;FMTTYPE=image/jpeg:https://workforce.sbcounty.gov/wp-content/uploads/sites/104/2024/11/AdobeStock_164418667.bak-scaled.jpeg
END:VEVENT
BEGIN:VEVENT
DTSTART;TZID=UTC:20231206T130000
DTEND;TZID=UTC:20231206T140000
DTSTAMP:20260424T080705
CREATED:20231014T013009Z
LAST-MODIFIED:20231014T013009Z
UID:10019247-1701867600-1701871200@workforce.sbcounty.gov
SUMMARY:Harassment Prevention for Employees
DESCRIPTION:​This course is designed to raise awareness about workplace harassment and discrimination and reduce or prevent incidents of misconduct. \nTo Register:  Harassment Prevention-Employees Registration Link
URL:https://workforce.sbcounty.gov/event/harassment-prevention-for-employees-3/
LOCATION:Via Zoom Conference Call
CATEGORIES:Employer Workshops,Recruitments/Job Fairs
END:VEVENT
BEGIN:VEVENT
DTSTART;TZID=UTC:20231206T100000
DTEND;TZID=UTC:20231206T120000
DTSTAMP:20260424T080705
CREATED:20231014T012805Z
LAST-MODIFIED:20231014T012805Z
UID:10019244-1701856800-1701864000@workforce.sbcounty.gov
SUMMARY:Harassment Prevention Training for Supervisors
DESCRIPTION:Effective January 1\, 2019\, California businesses with 5 or more employees MUST provide harassment prevention training every two years (SB1343). Training must be conducted every two years\, so if you trained your team in 2021\, 2023 is your training year. New employees must be trained within six (6) months of hire or promotion to a supervisory position.\nLearning Objectives:\n• A fresh look at harassment\, discrimination\, retaliation\, and governing laws\n• Examine scenarios & incidents and discuss possible appropriate responses\n• Talk about your role in harassment prevention\n• Discuss practical measures to create a safe and respectful workplace\n\nTo Register:  Harassment Prevention for Supervisors Registration Link
URL:https://workforce.sbcounty.gov/event/harassment-prevention-training-for-supervisors-3/
LOCATION:Via Zoom Conference Call
CATEGORIES:Employer Workshops,Recruitments/Job Fairs
END:VEVENT
BEGIN:VEVENT
DTSTART;TZID=America/Denver:20231206T100000
DTEND;TZID=America/Denver:20231206T120000
DTSTAMP:20260424T080705
CREATED:20201031T033303Z
LAST-MODIFIED:20240403T155408Z
UID:10016931-1701856800-1701864000@workforce.sbcounty.gov
SUMMARY:Resume Workshop
DESCRIPTION:This workshop covers the purpose of a resume\, what recruiters want to see\, how to create an updated resume for the current workforce\, and types of resumes.  This workshop is available every Wednesday.\nTo register:  Resume Workshop Webinar Link
URL:https://workforce.sbcounty.gov/event/ajcc-virtual-resume-workshop-2022-08-03/2023-12-06/
LOCATION:Via Zoom Conference Call
CATEGORIES:AJCC - East Valley,AJCC - High Desert,AJCC - West Valley,Job Seeker Workshops
ATTACH;FMTTYPE=image/jpeg:https://workforce.sbcounty.gov/wp-content/uploads/sites/104/2020/10/ISS_10434_00192-1.jpg
END:VEVENT
END:VCALENDAR