BEGIN:VCALENDAR
VERSION:2.0
PRODID:-//Workforce Development - ECPv6.15.14//NONSGML v1.0//EN
CALSCALE:GREGORIAN
METHOD:PUBLISH
X-WR-CALNAME:Workforce Development
X-ORIGINAL-URL:https://workforce.sbcounty.gov
X-WR-CALDESC:Events for Workforce Development
REFRESH-INTERVAL;VALUE=DURATION:PT1H
X-Robots-Tag:noindex
X-PUBLISHED-TTL:PT1H
BEGIN:VTIMEZONE
TZID:America/Los_Angeles
BEGIN:DAYLIGHT
TZOFFSETFROM:-0800
TZOFFSETTO:-0700
TZNAME:PDT
DTSTART:20240310T100000
END:DAYLIGHT
BEGIN:STANDARD
TZOFFSETFROM:-0700
TZOFFSETTO:-0800
TZNAME:PST
DTSTART:20241103T090000
END:STANDARD
BEGIN:DAYLIGHT
TZOFFSETFROM:-0800
TZOFFSETTO:-0700
TZNAME:PDT
DTSTART:20250309T100000
END:DAYLIGHT
BEGIN:STANDARD
TZOFFSETFROM:-0700
TZOFFSETTO:-0800
TZNAME:PST
DTSTART:20251102T090000
END:STANDARD
BEGIN:DAYLIGHT
TZOFFSETFROM:-0800
TZOFFSETTO:-0700
TZNAME:PDT
DTSTART:20260308T100000
END:DAYLIGHT
BEGIN:STANDARD
TZOFFSETFROM:-0700
TZOFFSETTO:-0800
TZNAME:PST
DTSTART:20261101T090000
END:STANDARD
END:VTIMEZONE
BEGIN:VTIMEZONE
TZID:America/Denver
BEGIN:DAYLIGHT
TZOFFSETFROM:-0700
TZOFFSETTO:-0600
TZNAME:MDT
DTSTART:20240310T090000
END:DAYLIGHT
BEGIN:STANDARD
TZOFFSETFROM:-0600
TZOFFSETTO:-0700
TZNAME:MST
DTSTART:20241103T080000
END:STANDARD
BEGIN:DAYLIGHT
TZOFFSETFROM:-0700
TZOFFSETTO:-0600
TZNAME:MDT
DTSTART:20250309T090000
END:DAYLIGHT
BEGIN:STANDARD
TZOFFSETFROM:-0600
TZOFFSETTO:-0700
TZNAME:MST
DTSTART:20251102T080000
END:STANDARD
BEGIN:DAYLIGHT
TZOFFSETFROM:-0700
TZOFFSETTO:-0600
TZNAME:MDT
DTSTART:20260308T090000
END:DAYLIGHT
BEGIN:STANDARD
TZOFFSETFROM:-0600
TZOFFSETTO:-0700
TZNAME:MST
DTSTART:20261101T080000
END:STANDARD
END:VTIMEZONE
BEGIN:VEVENT
DTSTART;TZID=America/Los_Angeles:20250717T100000
DTEND;TZID=America/Los_Angeles:20250717T113000
DTSTAMP:20260420T063624
CREATED:20250623T223608Z
LAST-MODIFIED:20250623T223608Z
UID:10023323-1752746400-1752751800@workforce.sbcounty.gov
SUMMARY:So You Want to Be a Truck Driver - Job Seeker Workshop
DESCRIPTION:This workshop provides information about the realities of working as a truck driver.  It also provides information about where the jobs are and how much time is involved in the training.  This workshop will be available every Thursday. \nTo Register:  So You Want to Be a Truck Driver Webinar Link 
URL:https://workforce.sbcounty.gov/event/so-you-want-to-be-a-truck-driver-job-seeker-workshop/2025-07-17/
LOCATION:Via Zoom Conference Call
CATEGORIES:AJCC - East Valley,AJCC - High Desert,AJCC - West Valley,Job Seeker Workshops
ATTACH;FMTTYPE=image/jpeg:https://workforce.sbcounty.gov/wp-content/uploads/sites/104/2021/01/Truck-Driver-Webinar-1.jpg
END:VEVENT
BEGIN:VEVENT
DTSTART;TZID=America/Los_Angeles:20250717T100000
DTEND;TZID=America/Los_Angeles:20250717T110000
DTSTAMP:20260420T063624
CREATED:20250522T211512Z
LAST-MODIFIED:20250611T165713Z
UID:10023017-1752746400-1752750000@workforce.sbcounty.gov
SUMMARY:2025 Mid-Year Labor Law Update - Employer Workshop
DESCRIPTION:California employers continue to face new challenges in 2025. Join CEA’s HR experts for a brief\, interactive update covering key legal changes\, common HR issues\, and trending workplace topics. \nTopics include: \n\n\nNew employment laws \n\n\nTop HR Hotline concerns \n\n\nWorkplace trends \n\n\nRegister here: 2025 Mid-Year Labor Law Registration Link
URL:https://workforce.sbcounty.gov/event/2025-mid-year-labor-law-update-workshop/
LOCATION:Via Zoom Conference Call
CATEGORIES:Employer Workshops,Recruitments/Job Fairs
ATTACH;FMTTYPE=image/jpeg:https://workforce.sbcounty.gov/wp-content/uploads/sites/104/MidLaborLawUpdate-scaled.jpeg
END:VEVENT
BEGIN:VEVENT
DTSTART;TZID=America/Denver:20250716T100000
DTEND;TZID=America/Denver:20250716T120000
DTSTAMP:20260420T063624
CREATED:20240514T210235Z
LAST-MODIFIED:20250611T164834Z
UID:10017177-1752660000-1752667200@workforce.sbcounty.gov
SUMMARY:Resume - Job Seeker Workshop
DESCRIPTION:This workshop covers the purpose of a resume\, what recruiters want to see\, how to create an updated resume for the current workforce\, and types of resumes.  This workshop is available every Wednesday.\nTo register:  Resume Workshop Webinar Link
URL:https://workforce.sbcounty.gov/event/ajcc-virtual-resume-workshop-2022-08-03-2/2025-07-16/
LOCATION:Via Zoom Conference Call
CATEGORIES:AJCC - East Valley,AJCC - High Desert,AJCC - West Valley,Job Seeker Workshops
ATTACH;FMTTYPE=image/jpeg:https://workforce.sbcounty.gov/wp-content/uploads/sites/104/2020/10/ISS_10434_00192-1.jpg
END:VEVENT
BEGIN:VEVENT
DTSTART;TZID=America/Denver:20250715T100000
DTEND;TZID=America/Denver:20250715T113000
DTSTAMP:20260420T063624
CREATED:20210126T173001Z
LAST-MODIFIED:20250611T165055Z
UID:10020026-1752573600-1752579000@workforce.sbcounty.gov
SUMMARY:Interview Skills and Social Media - Job Seeker Workshop
DESCRIPTION:This workshop provides information about contemporary interviewing techniques.  You will learn the purpose of an interview\, types of interviews\, best practices\, and questions that may be asked.  This workshop will be available every Tuesday. \nTo register:  Interview Skills and Social Media Webinar Link
URL:https://workforce.sbcounty.gov/event/interview-skills-and-social-media/2025-07-15/
LOCATION:Via Zoom Conference Call
CATEGORIES:AJCC - East Valley,AJCC - High Desert,AJCC - West Valley,Job Seeker Workshops
ATTACH;FMTTYPE=image/jpeg:https://workforce.sbcounty.gov/wp-content/uploads/sites/104/2024/11/AdobeStock_164418667.bak-scaled.jpeg
END:VEVENT
BEGIN:VEVENT
DTSTART;TZID=America/Los_Angeles:20250714T100000
DTEND;TZID=America/Los_Angeles:20250714T113000
DTSTAMP:20260420T063624
CREATED:20210126T170213Z
LAST-MODIFIED:20250611T164938Z
UID:10018203-1752487200-1752492600@workforce.sbcounty.gov
SUMMARY:How to Get a Government Job - Job Seeker Workshop
DESCRIPTION:This workshop will guide you on how to find government employment\, how to create accounts\, search for jobs and apply for jobs on various government websites.  This workshop is available every Monday.\nTo register:  How to Get a Government Job Webinar Link
URL:https://workforce.sbcounty.gov/event/how-to-get-a-government-job-2024-02-19/2025-07-14/
LOCATION:Via Zoom Conference Call
CATEGORIES:AJCC - East Valley,AJCC - High Desert,AJCC - West Valley,Job Seeker Workshops
ATTACH;FMTTYPE=image/jpeg:https://workforce.sbcounty.gov/wp-content/uploads/sites/104/2021/01/Government-Job.jpg
END:VEVENT
BEGIN:VEVENT
DTSTART;TZID=America/Denver:20250709T100000
DTEND;TZID=America/Denver:20250709T120000
DTSTAMP:20260420T063624
CREATED:20240514T210235Z
LAST-MODIFIED:20250611T164834Z
UID:10017174-1752055200-1752062400@workforce.sbcounty.gov
SUMMARY:Resume - Job Seeker Workshop
DESCRIPTION:This workshop covers the purpose of a resume\, what recruiters want to see\, how to create an updated resume for the current workforce\, and types of resumes.  This workshop is available every Wednesday.\nTo register:  Resume Workshop Webinar Link
URL:https://workforce.sbcounty.gov/event/ajcc-virtual-resume-workshop-2022-08-03-2/2025-07-09/
LOCATION:Via Zoom Conference Call
CATEGORIES:AJCC - East Valley,AJCC - High Desert,AJCC - West Valley,Job Seeker Workshops
ATTACH;FMTTYPE=image/jpeg:https://workforce.sbcounty.gov/wp-content/uploads/sites/104/2020/10/ISS_10434_00192-1.jpg
END:VEVENT
BEGIN:VEVENT
DTSTART;TZID=America/Denver:20250708T100000
DTEND;TZID=America/Denver:20250708T113000
DTSTAMP:20260420T063624
CREATED:20210126T173001Z
LAST-MODIFIED:20250611T165055Z
UID:10020023-1751968800-1751974200@workforce.sbcounty.gov
SUMMARY:Interview Skills and Social Media - Job Seeker Workshop
DESCRIPTION:This workshop provides information about contemporary interviewing techniques.  You will learn the purpose of an interview\, types of interviews\, best practices\, and questions that may be asked.  This workshop will be available every Tuesday. \nTo register:  Interview Skills and Social Media Webinar Link
URL:https://workforce.sbcounty.gov/event/interview-skills-and-social-media/2025-07-08/
LOCATION:Via Zoom Conference Call
CATEGORIES:AJCC - East Valley,AJCC - High Desert,AJCC - West Valley,Job Seeker Workshops
ATTACH;FMTTYPE=image/jpeg:https://workforce.sbcounty.gov/wp-content/uploads/sites/104/2024/11/AdobeStock_164418667.bak-scaled.jpeg
END:VEVENT
BEGIN:VEVENT
DTSTART;TZID=America/Los_Angeles:20250707T100000
DTEND;TZID=America/Los_Angeles:20250707T113000
DTSTAMP:20260420T063624
CREATED:20210126T170213Z
LAST-MODIFIED:20250611T164938Z
UID:10018200-1751882400-1751887800@workforce.sbcounty.gov
SUMMARY:How to Get a Government Job - Job Seeker Workshop
DESCRIPTION:This workshop will guide you on how to find government employment\, how to create accounts\, search for jobs and apply for jobs on various government websites.  This workshop is available every Monday.\nTo register:  How to Get a Government Job Webinar Link
URL:https://workforce.sbcounty.gov/event/how-to-get-a-government-job-2024-02-19/2025-07-07/
LOCATION:Via Zoom Conference Call
CATEGORIES:AJCC - East Valley,AJCC - High Desert,AJCC - West Valley,Job Seeker Workshops
ATTACH;FMTTYPE=image/jpeg:https://workforce.sbcounty.gov/wp-content/uploads/sites/104/2021/01/Government-Job.jpg
END:VEVENT
BEGIN:VEVENT
DTSTART;TZID=America/Denver:20250702T100000
DTEND;TZID=America/Denver:20250702T120000
DTSTAMP:20260420T063624
CREATED:20240514T210235Z
LAST-MODIFIED:20250611T164834Z
UID:10017171-1751450400-1751457600@workforce.sbcounty.gov
SUMMARY:Resume - Job Seeker Workshop
DESCRIPTION:This workshop covers the purpose of a resume\, what recruiters want to see\, how to create an updated resume for the current workforce\, and types of resumes.  This workshop is available every Wednesday.\nTo register:  Resume Workshop Webinar Link
URL:https://workforce.sbcounty.gov/event/ajcc-virtual-resume-workshop-2022-08-03-2/2025-07-02/
LOCATION:Via Zoom Conference Call
CATEGORIES:AJCC - East Valley,AJCC - High Desert,AJCC - West Valley,Job Seeker Workshops
ATTACH;FMTTYPE=image/jpeg:https://workforce.sbcounty.gov/wp-content/uploads/sites/104/2020/10/ISS_10434_00192-1.jpg
END:VEVENT
BEGIN:VEVENT
DTSTART;TZID=America/Denver:20250701T100000
DTEND;TZID=America/Denver:20250701T113000
DTSTAMP:20260420T063624
CREATED:20210126T173001Z
LAST-MODIFIED:20250611T165055Z
UID:10020020-1751364000-1751369400@workforce.sbcounty.gov
SUMMARY:Interview Skills and Social Media - Job Seeker Workshop
DESCRIPTION:This workshop provides information about contemporary interviewing techniques.  You will learn the purpose of an interview\, types of interviews\, best practices\, and questions that may be asked.  This workshop will be available every Tuesday. \nTo register:  Interview Skills and Social Media Webinar Link
URL:https://workforce.sbcounty.gov/event/interview-skills-and-social-media/2025-07-01/
LOCATION:Via Zoom Conference Call
CATEGORIES:AJCC - East Valley,AJCC - High Desert,AJCC - West Valley,Job Seeker Workshops
ATTACH;FMTTYPE=image/jpeg:https://workforce.sbcounty.gov/wp-content/uploads/sites/104/2024/11/AdobeStock_164418667.bak-scaled.jpeg
END:VEVENT
BEGIN:VEVENT
DTSTART;TZID=America/Los_Angeles:20250630T100000
DTEND;TZID=America/Los_Angeles:20250630T113000
DTSTAMP:20260420T063624
CREATED:20210126T170213Z
LAST-MODIFIED:20250611T164938Z
UID:10018197-1751277600-1751283000@workforce.sbcounty.gov
SUMMARY:How to Get a Government Job - Job Seeker Workshop
DESCRIPTION:This workshop will guide you on how to find government employment\, how to create accounts\, search for jobs and apply for jobs on various government websites.  This workshop is available every Monday.\nTo register:  How to Get a Government Job Webinar Link
URL:https://workforce.sbcounty.gov/event/how-to-get-a-government-job-2024-02-19/2025-06-30/
LOCATION:Via Zoom Conference Call
CATEGORIES:AJCC - East Valley,AJCC - High Desert,AJCC - West Valley,Job Seeker Workshops
ATTACH;FMTTYPE=image/jpeg:https://workforce.sbcounty.gov/wp-content/uploads/sites/104/2021/01/Government-Job.jpg
END:VEVENT
BEGIN:VEVENT
DTSTART;TZID=America/Denver:20250625T100000
DTEND;TZID=America/Denver:20250625T120000
DTSTAMP:20260420T063624
CREATED:20240514T210235Z
LAST-MODIFIED:20250611T164834Z
UID:10017168-1750845600-1750852800@workforce.sbcounty.gov
SUMMARY:Resume - Job Seeker Workshop
DESCRIPTION:This workshop covers the purpose of a resume\, what recruiters want to see\, how to create an updated resume for the current workforce\, and types of resumes.  This workshop is available every Wednesday.\nTo register:  Resume Workshop Webinar Link
URL:https://workforce.sbcounty.gov/event/ajcc-virtual-resume-workshop-2022-08-03-2/2025-06-25/
LOCATION:Via Zoom Conference Call
CATEGORIES:AJCC - East Valley,AJCC - High Desert,AJCC - West Valley,Job Seeker Workshops
ATTACH;FMTTYPE=image/jpeg:https://workforce.sbcounty.gov/wp-content/uploads/sites/104/2020/10/ISS_10434_00192-1.jpg
END:VEVENT
BEGIN:VEVENT
DTSTART;TZID=America/Denver:20250624T100000
DTEND;TZID=America/Denver:20250624T113000
DTSTAMP:20260420T063624
CREATED:20210126T173001Z
LAST-MODIFIED:20250611T165055Z
UID:10020017-1750759200-1750764600@workforce.sbcounty.gov
SUMMARY:Interview Skills and Social Media - Job Seeker Workshop
DESCRIPTION:This workshop provides information about contemporary interviewing techniques.  You will learn the purpose of an interview\, types of interviews\, best practices\, and questions that may be asked.  This workshop will be available every Tuesday. \nTo register:  Interview Skills and Social Media Webinar Link
URL:https://workforce.sbcounty.gov/event/interview-skills-and-social-media/2025-06-24/
LOCATION:Via Zoom Conference Call
CATEGORIES:AJCC - East Valley,AJCC - High Desert,AJCC - West Valley,Job Seeker Workshops
ATTACH;FMTTYPE=image/jpeg:https://workforce.sbcounty.gov/wp-content/uploads/sites/104/2024/11/AdobeStock_164418667.bak-scaled.jpeg
END:VEVENT
BEGIN:VEVENT
DTSTART;TZID=America/Los_Angeles:20250623T100000
DTEND;TZID=America/Los_Angeles:20250623T113000
DTSTAMP:20260420T063624
CREATED:20210126T170213Z
LAST-MODIFIED:20250611T164938Z
UID:10018194-1750672800-1750678200@workforce.sbcounty.gov
SUMMARY:How to Get a Government Job - Job Seeker Workshop
DESCRIPTION:This workshop will guide you on how to find government employment\, how to create accounts\, search for jobs and apply for jobs on various government websites.  This workshop is available every Monday.\nTo register:  How to Get a Government Job Webinar Link
URL:https://workforce.sbcounty.gov/event/how-to-get-a-government-job-2024-02-19/2025-06-23/
LOCATION:Via Zoom Conference Call
CATEGORIES:AJCC - East Valley,AJCC - High Desert,AJCC - West Valley,Job Seeker Workshops
ATTACH;FMTTYPE=image/jpeg:https://workforce.sbcounty.gov/wp-content/uploads/sites/104/2021/01/Government-Job.jpg
END:VEVENT
BEGIN:VEVENT
DTSTART;TZID=America/Denver:20250618T100000
DTEND;TZID=America/Denver:20250618T120000
DTSTAMP:20260420T063624
CREATED:20240514T210235Z
LAST-MODIFIED:20250611T164834Z
UID:10017165-1750240800-1750248000@workforce.sbcounty.gov
SUMMARY:Resume - Job Seeker Workshop
DESCRIPTION:This workshop covers the purpose of a resume\, what recruiters want to see\, how to create an updated resume for the current workforce\, and types of resumes.  This workshop is available every Wednesday.\nTo register:  Resume Workshop Webinar Link
URL:https://workforce.sbcounty.gov/event/ajcc-virtual-resume-workshop-2022-08-03-2/2025-06-18/
LOCATION:Via Zoom Conference Call
CATEGORIES:AJCC - East Valley,AJCC - High Desert,AJCC - West Valley,Job Seeker Workshops
ATTACH;FMTTYPE=image/jpeg:https://workforce.sbcounty.gov/wp-content/uploads/sites/104/2020/10/ISS_10434_00192-1.jpg
END:VEVENT
BEGIN:VEVENT
DTSTART;TZID=America/Denver:20250617T100000
DTEND;TZID=America/Denver:20250617T113000
DTSTAMP:20260420T063624
CREATED:20210126T173001Z
LAST-MODIFIED:20250611T165055Z
UID:10020014-1750154400-1750159800@workforce.sbcounty.gov
SUMMARY:Interview Skills and Social Media - Job Seeker Workshop
DESCRIPTION:This workshop provides information about contemporary interviewing techniques.  You will learn the purpose of an interview\, types of interviews\, best practices\, and questions that may be asked.  This workshop will be available every Tuesday. \nTo register:  Interview Skills and Social Media Webinar Link
URL:https://workforce.sbcounty.gov/event/interview-skills-and-social-media/2025-06-17/
LOCATION:Via Zoom Conference Call
CATEGORIES:AJCC - East Valley,AJCC - High Desert,AJCC - West Valley,Job Seeker Workshops
ATTACH;FMTTYPE=image/jpeg:https://workforce.sbcounty.gov/wp-content/uploads/sites/104/2024/11/AdobeStock_164418667.bak-scaled.jpeg
END:VEVENT
BEGIN:VEVENT
DTSTART;TZID=America/Los_Angeles:20250616T100000
DTEND;TZID=America/Los_Angeles:20250616T113000
DTSTAMP:20260420T063624
CREATED:20210126T170213Z
LAST-MODIFIED:20250611T164938Z
UID:10018191-1750068000-1750073400@workforce.sbcounty.gov
SUMMARY:How to Get a Government Job - Job Seeker Workshop
DESCRIPTION:This workshop will guide you on how to find government employment\, how to create accounts\, search for jobs and apply for jobs on various government websites.  This workshop is available every Monday.\nTo register:  How to Get a Government Job Webinar Link
URL:https://workforce.sbcounty.gov/event/how-to-get-a-government-job-2024-02-19/2025-06-16/
LOCATION:Via Zoom Conference Call
CATEGORIES:AJCC - East Valley,AJCC - High Desert,AJCC - West Valley,Job Seeker Workshops
ATTACH;FMTTYPE=image/jpeg:https://workforce.sbcounty.gov/wp-content/uploads/sites/104/2021/01/Government-Job.jpg
END:VEVENT
BEGIN:VEVENT
DTSTART;TZID=America/Denver:20250611T100000
DTEND;TZID=America/Denver:20250611T120000
DTSTAMP:20260420T063624
CREATED:20240514T210235Z
LAST-MODIFIED:20250611T164834Z
UID:10017162-1749636000-1749643200@workforce.sbcounty.gov
SUMMARY:Resume - Job Seeker Workshop
DESCRIPTION:This workshop covers the purpose of a resume\, what recruiters want to see\, how to create an updated resume for the current workforce\, and types of resumes.  This workshop is available every Wednesday.\nTo register:  Resume Workshop Webinar Link
URL:https://workforce.sbcounty.gov/event/ajcc-virtual-resume-workshop-2022-08-03-2/2025-06-11/
LOCATION:Via Zoom Conference Call
CATEGORIES:AJCC - East Valley,AJCC - High Desert,AJCC - West Valley,Job Seeker Workshops
ATTACH;FMTTYPE=image/jpeg:https://workforce.sbcounty.gov/wp-content/uploads/sites/104/2020/10/ISS_10434_00192-1.jpg
END:VEVENT
BEGIN:VEVENT
DTSTART;TZID=America/Denver:20250610T100000
DTEND;TZID=America/Denver:20250610T113000
DTSTAMP:20260420T063624
CREATED:20210126T173001Z
LAST-MODIFIED:20250611T165055Z
UID:10020011-1749549600-1749555000@workforce.sbcounty.gov
SUMMARY:Interview Skills and Social Media - Job Seeker Workshop
DESCRIPTION:This workshop provides information about contemporary interviewing techniques.  You will learn the purpose of an interview\, types of interviews\, best practices\, and questions that may be asked.  This workshop will be available every Tuesday. \nTo register:  Interview Skills and Social Media Webinar Link
URL:https://workforce.sbcounty.gov/event/interview-skills-and-social-media/2025-06-10/
LOCATION:Via Zoom Conference Call
CATEGORIES:AJCC - East Valley,AJCC - High Desert,AJCC - West Valley,Job Seeker Workshops
ATTACH;FMTTYPE=image/jpeg:https://workforce.sbcounty.gov/wp-content/uploads/sites/104/2024/11/AdobeStock_164418667.bak-scaled.jpeg
END:VEVENT
BEGIN:VEVENT
DTSTART;TZID=America/Los_Angeles:20250610T100000
DTEND;TZID=America/Los_Angeles:20250610T110000
DTSTAMP:20260420T063624
CREATED:20250521T205213Z
LAST-MODIFIED:20250521T205213Z
UID:10023008-1749549600-1749553200@workforce.sbcounty.gov
SUMMARY:Employee Handbooks
DESCRIPTION:An employee handbook is essential for setting expectations and ensuring legal compliance. In this training\, you’ll learn the key benefits and risks\, required policies under California and federal law\, and recommended additions like social media guidelines. We’ll also highlight what to avoid\, helping you build a clear\, compliant\, and effective handbook. \nRegister now:  Handbook Webinar Link
URL:https://workforce.sbcounty.gov/event/employee-handbooks/
LOCATION:Via Zoom Conference Call
CATEGORIES:Employer Workshops,Recruitments/Job Fairs
ATTACH;FMTTYPE=image/jpeg:https://workforce.sbcounty.gov/wp-content/uploads/sites/104/Workshops-scaled.jpeg
END:VEVENT
BEGIN:VEVENT
DTSTART;TZID=America/Los_Angeles:20250609T100000
DTEND;TZID=America/Los_Angeles:20250609T113000
DTSTAMP:20260420T063624
CREATED:20210126T170213Z
LAST-MODIFIED:20250611T164938Z
UID:10018188-1749463200-1749468600@workforce.sbcounty.gov
SUMMARY:How to Get a Government Job - Job Seeker Workshop
DESCRIPTION:This workshop will guide you on how to find government employment\, how to create accounts\, search for jobs and apply for jobs on various government websites.  This workshop is available every Monday.\nTo register:  How to Get a Government Job Webinar Link
URL:https://workforce.sbcounty.gov/event/how-to-get-a-government-job-2024-02-19/2025-06-09/
LOCATION:Via Zoom Conference Call
CATEGORIES:AJCC - East Valley,AJCC - High Desert,AJCC - West Valley,Job Seeker Workshops
ATTACH;FMTTYPE=image/jpeg:https://workforce.sbcounty.gov/wp-content/uploads/sites/104/2021/01/Government-Job.jpg
END:VEVENT
BEGIN:VEVENT
DTSTART;TZID=America/Denver:20250604T100000
DTEND;TZID=America/Denver:20250604T120000
DTSTAMP:20260420T063624
CREATED:20240514T210235Z
LAST-MODIFIED:20250611T164834Z
UID:10017159-1749031200-1749038400@workforce.sbcounty.gov
SUMMARY:Resume - Job Seeker Workshop
DESCRIPTION:This workshop covers the purpose of a resume\, what recruiters want to see\, how to create an updated resume for the current workforce\, and types of resumes.  This workshop is available every Wednesday.\nTo register:  Resume Workshop Webinar Link
URL:https://workforce.sbcounty.gov/event/ajcc-virtual-resume-workshop-2022-08-03-2/2025-06-04/
LOCATION:Via Zoom Conference Call
CATEGORIES:AJCC - East Valley,AJCC - High Desert,AJCC - West Valley,Job Seeker Workshops
ATTACH;FMTTYPE=image/jpeg:https://workforce.sbcounty.gov/wp-content/uploads/sites/104/2020/10/ISS_10434_00192-1.jpg
END:VEVENT
BEGIN:VEVENT
DTSTART;TZID=America/Denver:20250603T100000
DTEND;TZID=America/Denver:20250603T113000
DTSTAMP:20260420T063624
CREATED:20210126T173001Z
LAST-MODIFIED:20250611T165055Z
UID:10020008-1748944800-1748950200@workforce.sbcounty.gov
SUMMARY:Interview Skills and Social Media - Job Seeker Workshop
DESCRIPTION:This workshop provides information about contemporary interviewing techniques.  You will learn the purpose of an interview\, types of interviews\, best practices\, and questions that may be asked.  This workshop will be available every Tuesday. \nTo register:  Interview Skills and Social Media Webinar Link
URL:https://workforce.sbcounty.gov/event/interview-skills-and-social-media/2025-06-03/
LOCATION:Via Zoom Conference Call
CATEGORIES:AJCC - East Valley,AJCC - High Desert,AJCC - West Valley,Job Seeker Workshops
ATTACH;FMTTYPE=image/jpeg:https://workforce.sbcounty.gov/wp-content/uploads/sites/104/2024/11/AdobeStock_164418667.bak-scaled.jpeg
END:VEVENT
BEGIN:VEVENT
DTSTART;TZID=America/Los_Angeles:20250602T100000
DTEND;TZID=America/Los_Angeles:20250602T113000
DTSTAMP:20260420T063624
CREATED:20210126T170213Z
LAST-MODIFIED:20250611T164938Z
UID:10018185-1748858400-1748863800@workforce.sbcounty.gov
SUMMARY:How to Get a Government Job - Job Seeker Workshop
DESCRIPTION:This workshop will guide you on how to find government employment\, how to create accounts\, search for jobs and apply for jobs on various government websites.  This workshop is available every Monday.\nTo register:  How to Get a Government Job Webinar Link
URL:https://workforce.sbcounty.gov/event/how-to-get-a-government-job-2024-02-19/2025-06-02/
LOCATION:Via Zoom Conference Call
CATEGORIES:AJCC - East Valley,AJCC - High Desert,AJCC - West Valley,Job Seeker Workshops
ATTACH;FMTTYPE=image/jpeg:https://workforce.sbcounty.gov/wp-content/uploads/sites/104/2021/01/Government-Job.jpg
END:VEVENT
BEGIN:VEVENT
DTSTART;TZID=America/Denver:20250528T100000
DTEND;TZID=America/Denver:20250528T120000
DTSTAMP:20260420T063624
CREATED:20240514T210235Z
LAST-MODIFIED:20250611T164834Z
UID:10017156-1748426400-1748433600@workforce.sbcounty.gov
SUMMARY:Resume - Job Seeker Workshop
DESCRIPTION:This workshop covers the purpose of a resume\, what recruiters want to see\, how to create an updated resume for the current workforce\, and types of resumes.  This workshop is available every Wednesday.\nTo register:  Resume Workshop Webinar Link
URL:https://workforce.sbcounty.gov/event/ajcc-virtual-resume-workshop-2022-08-03-2/2025-05-28/
LOCATION:Via Zoom Conference Call
CATEGORIES:AJCC - East Valley,AJCC - High Desert,AJCC - West Valley,Job Seeker Workshops
ATTACH;FMTTYPE=image/jpeg:https://workforce.sbcounty.gov/wp-content/uploads/sites/104/2020/10/ISS_10434_00192-1.jpg
END:VEVENT
BEGIN:VEVENT
DTSTART;TZID=America/Denver:20250527T100000
DTEND;TZID=America/Denver:20250527T113000
DTSTAMP:20260420T063624
CREATED:20210126T173001Z
LAST-MODIFIED:20250611T165055Z
UID:10020005-1748340000-1748345400@workforce.sbcounty.gov
SUMMARY:Interview Skills and Social Media - Job Seeker Workshop
DESCRIPTION:This workshop provides information about contemporary interviewing techniques.  You will learn the purpose of an interview\, types of interviews\, best practices\, and questions that may be asked.  This workshop will be available every Tuesday. \nTo register:  Interview Skills and Social Media Webinar Link
URL:https://workforce.sbcounty.gov/event/interview-skills-and-social-media/2025-05-27/
LOCATION:Via Zoom Conference Call
CATEGORIES:AJCC - East Valley,AJCC - High Desert,AJCC - West Valley,Job Seeker Workshops
ATTACH;FMTTYPE=image/jpeg:https://workforce.sbcounty.gov/wp-content/uploads/sites/104/2024/11/AdobeStock_164418667.bak-scaled.jpeg
END:VEVENT
BEGIN:VEVENT
DTSTART;TZID=America/Los_Angeles:20250526T100000
DTEND;TZID=America/Los_Angeles:20250526T113000
DTSTAMP:20260420T063624
CREATED:20210126T170213Z
LAST-MODIFIED:20250611T164938Z
UID:10018182-1748253600-1748259000@workforce.sbcounty.gov
SUMMARY:How to Get a Government Job - Job Seeker Workshop
DESCRIPTION:This workshop will guide you on how to find government employment\, how to create accounts\, search for jobs and apply for jobs on various government websites.  This workshop is available every Monday.\nTo register:  How to Get a Government Job Webinar Link
URL:https://workforce.sbcounty.gov/event/how-to-get-a-government-job-2024-02-19/2025-05-26/
LOCATION:Via Zoom Conference Call
CATEGORIES:AJCC - East Valley,AJCC - High Desert,AJCC - West Valley,Job Seeker Workshops
ATTACH;FMTTYPE=image/jpeg:https://workforce.sbcounty.gov/wp-content/uploads/sites/104/2021/01/Government-Job.jpg
END:VEVENT
BEGIN:VEVENT
DTSTART;TZID=America/Denver:20250521T100000
DTEND;TZID=America/Denver:20250521T120000
DTSTAMP:20260420T063624
CREATED:20240514T210235Z
LAST-MODIFIED:20250611T164834Z
UID:10017153-1747821600-1747828800@workforce.sbcounty.gov
SUMMARY:Resume - Job Seeker Workshop
DESCRIPTION:This workshop covers the purpose of a resume\, what recruiters want to see\, how to create an updated resume for the current workforce\, and types of resumes.  This workshop is available every Wednesday.\nTo register:  Resume Workshop Webinar Link
URL:https://workforce.sbcounty.gov/event/ajcc-virtual-resume-workshop-2022-08-03-2/2025-05-21/
LOCATION:Via Zoom Conference Call
CATEGORIES:AJCC - East Valley,AJCC - High Desert,AJCC - West Valley,Job Seeker Workshops
ATTACH;FMTTYPE=image/jpeg:https://workforce.sbcounty.gov/wp-content/uploads/sites/104/2020/10/ISS_10434_00192-1.jpg
END:VEVENT
BEGIN:VEVENT
DTSTART;TZID=America/Denver:20250520T100000
DTEND;TZID=America/Denver:20250520T113000
DTSTAMP:20260420T063624
CREATED:20210126T173001Z
LAST-MODIFIED:20250611T165055Z
UID:10020002-1747735200-1747740600@workforce.sbcounty.gov
SUMMARY:Interview Skills and Social Media - Job Seeker Workshop
DESCRIPTION:This workshop provides information about contemporary interviewing techniques.  You will learn the purpose of an interview\, types of interviews\, best practices\, and questions that may be asked.  This workshop will be available every Tuesday. \nTo register:  Interview Skills and Social Media Webinar Link
URL:https://workforce.sbcounty.gov/event/interview-skills-and-social-media/2025-05-20/
LOCATION:Via Zoom Conference Call
CATEGORIES:AJCC - East Valley,AJCC - High Desert,AJCC - West Valley,Job Seeker Workshops
ATTACH;FMTTYPE=image/jpeg:https://workforce.sbcounty.gov/wp-content/uploads/sites/104/2024/11/AdobeStock_164418667.bak-scaled.jpeg
END:VEVENT
BEGIN:VEVENT
DTSTART;TZID=America/Los_Angeles:20250519T100000
DTEND;TZID=America/Los_Angeles:20250519T113000
DTSTAMP:20260420T063624
CREATED:20210126T170213Z
LAST-MODIFIED:20250611T164938Z
UID:10018179-1747648800-1747654200@workforce.sbcounty.gov
SUMMARY:How to Get a Government Job - Job Seeker Workshop
DESCRIPTION:This workshop will guide you on how to find government employment\, how to create accounts\, search for jobs and apply for jobs on various government websites.  This workshop is available every Monday.\nTo register:  How to Get a Government Job Webinar Link
URL:https://workforce.sbcounty.gov/event/how-to-get-a-government-job-2024-02-19/2025-05-19/
LOCATION:Via Zoom Conference Call
CATEGORIES:AJCC - East Valley,AJCC - High Desert,AJCC - West Valley,Job Seeker Workshops
ATTACH;FMTTYPE=image/jpeg:https://workforce.sbcounty.gov/wp-content/uploads/sites/104/2021/01/Government-Job.jpg
END:VEVENT
END:VCALENDAR