BEGIN:VCALENDAR
VERSION:2.0
PRODID:-//Workforce Development - ECPv6.15.14//NONSGML v1.0//EN
CALSCALE:GREGORIAN
METHOD:PUBLISH
X-ORIGINAL-URL:https://workforce.sbcounty.gov
X-WR-CALDESC:Events for Workforce Development
REFRESH-INTERVAL;VALUE=DURATION:PT1H
X-Robots-Tag:noindex
X-PUBLISHED-TTL:PT1H
BEGIN:VTIMEZONE
TZID:America/Los_Angeles
BEGIN:DAYLIGHT
TZOFFSETFROM:-0800
TZOFFSETTO:-0700
TZNAME:PDT
DTSTART:20220313T100000
END:DAYLIGHT
BEGIN:STANDARD
TZOFFSETFROM:-0700
TZOFFSETTO:-0800
TZNAME:PST
DTSTART:20221106T090000
END:STANDARD
BEGIN:DAYLIGHT
TZOFFSETFROM:-0800
TZOFFSETTO:-0700
TZNAME:PDT
DTSTART:20230312T100000
END:DAYLIGHT
BEGIN:STANDARD
TZOFFSETFROM:-0700
TZOFFSETTO:-0800
TZNAME:PST
DTSTART:20231105T090000
END:STANDARD
BEGIN:DAYLIGHT
TZOFFSETFROM:-0800
TZOFFSETTO:-0700
TZNAME:PDT
DTSTART:20240310T100000
END:DAYLIGHT
BEGIN:STANDARD
TZOFFSETFROM:-0700
TZOFFSETTO:-0800
TZNAME:PST
DTSTART:20241103T090000
END:STANDARD
BEGIN:DAYLIGHT
TZOFFSETFROM:-0800
TZOFFSETTO:-0700
TZNAME:PDT
DTSTART:20250309T100000
END:DAYLIGHT
BEGIN:STANDARD
TZOFFSETFROM:-0700
TZOFFSETTO:-0800
TZNAME:PST
DTSTART:20251102T090000
END:STANDARD
BEGIN:DAYLIGHT
TZOFFSETFROM:-0800
TZOFFSETTO:-0700
TZNAME:PDT
DTSTART:20260308T100000
END:DAYLIGHT
BEGIN:STANDARD
TZOFFSETFROM:-0700
TZOFFSETTO:-0800
TZNAME:PST
DTSTART:20261101T090000
END:STANDARD
END:VTIMEZONE
BEGIN:VEVENT
DTSTART;TZID=America/Los_Angeles:20250626T100000
DTEND;TZID=America/Los_Angeles:20250626T140000
DTSTAMP:20260420T180735
CREATED:20250612T233830Z
LAST-MODIFIED:20250612T233830Z
UID:10023321-1750932000-1750946400@workforce.sbcounty.gov
SUMMARY:Hiring Event - High Desert
DESCRIPTION:Join our hiring event featuring a diverse range of employers!\nRegister now and present your ticket upon arrival. \nEmployers and Resource Partners: Please use this registration link as well.\nRegister here: High Desert Hiring Event Registration
URL:https://workforce.sbcounty.gov/event/hiring-event-high-desert-12/
LOCATION:Spirit Filled Family Church\, 9980 Hesperia Road\, Hesperia\, CA\, 92345\, United States
CATEGORIES:AJCC - High Desert,Employer Workshops,Recruitments/Job Fairs
ATTACH;FMTTYPE=image/jpeg:https://workforce.sbcounty.gov/wp-content/uploads/sites/104/Hiring-Event-New-scaled.jpeg
END:VEVENT
BEGIN:VEVENT
DTSTART;TZID=America/Los_Angeles:20231129T100000
DTEND;TZID=America/Los_Angeles:20231129T130000
DTSTAMP:20260420T180735
CREATED:20221129T225550Z
LAST-MODIFIED:20231108T084834Z
UID:10019127-1701252000-1701262800@workforce.sbcounty.gov
SUMMARY:Hiring Event - High Desert America’s Job Center of California
DESCRIPTION:​In-person hiring event for job seekers!  This month we are honoring our veterans and military families. \nEmployers who are interested in participating should contact our High Desert office\, directly.\nIndividuals seeking work\, Register today!! Hiring event with a wide range of employers. \nRegister Here:  High Desert Hiring Event Registration
URL:https://workforce.sbcounty.gov/event/hiring-event-high-desert-americas-job-center-of-california-9-2023-06-22-2023-07-27-2023-08-24-2023-11-23/
LOCATION:Spirit Filled Family Church\, 9980 Hesperia Road\, Hesperia\, CA\, 92345\, United States
CATEGORIES:AJCC - High Desert,Recruitments/Job Fairs
END:VEVENT
END:VCALENDAR