BEGIN:VCALENDAR
VERSION:2.0
PRODID:-//Workforce Development - ECPv6.15.14//NONSGML v1.0//EN
CALSCALE:GREGORIAN
METHOD:PUBLISH
X-ORIGINAL-URL:https://workforce.sbcounty.gov
X-WR-CALDESC:Events for Workforce Development
REFRESH-INTERVAL;VALUE=DURATION:PT1H
X-Robots-Tag:noindex
X-PUBLISHED-TTL:PT1H
BEGIN:VTIMEZONE
TZID:America/Los_Angeles
BEGIN:DAYLIGHT
TZOFFSETFROM:-0800
TZOFFSETTO:-0700
TZNAME:PDT
DTSTART:20210314T100000
END:DAYLIGHT
BEGIN:STANDARD
TZOFFSETFROM:-0700
TZOFFSETTO:-0800
TZNAME:PST
DTSTART:20211107T090000
END:STANDARD
BEGIN:DAYLIGHT
TZOFFSETFROM:-0800
TZOFFSETTO:-0700
TZNAME:PDT
DTSTART:20220313T100000
END:DAYLIGHT
BEGIN:STANDARD
TZOFFSETFROM:-0700
TZOFFSETTO:-0800
TZNAME:PST
DTSTART:20221106T090000
END:STANDARD
BEGIN:DAYLIGHT
TZOFFSETFROM:-0800
TZOFFSETTO:-0700
TZNAME:PDT
DTSTART:20230312T100000
END:DAYLIGHT
BEGIN:STANDARD
TZOFFSETFROM:-0700
TZOFFSETTO:-0800
TZNAME:PST
DTSTART:20231105T090000
END:STANDARD
BEGIN:DAYLIGHT
TZOFFSETFROM:-0800
TZOFFSETTO:-0700
TZNAME:PDT
DTSTART:20240310T100000
END:DAYLIGHT
BEGIN:STANDARD
TZOFFSETFROM:-0700
TZOFFSETTO:-0800
TZNAME:PST
DTSTART:20241103T090000
END:STANDARD
BEGIN:DAYLIGHT
TZOFFSETFROM:-0800
TZOFFSETTO:-0700
TZNAME:PDT
DTSTART:20250309T100000
END:DAYLIGHT
BEGIN:STANDARD
TZOFFSETFROM:-0700
TZOFFSETTO:-0800
TZNAME:PST
DTSTART:20251102T090000
END:STANDARD
BEGIN:DAYLIGHT
TZOFFSETFROM:-0800
TZOFFSETTO:-0700
TZNAME:PDT
DTSTART:20260308T100000
END:DAYLIGHT
BEGIN:STANDARD
TZOFFSETFROM:-0700
TZOFFSETTO:-0800
TZNAME:PST
DTSTART:20261101T090000
END:STANDARD
END:VTIMEZONE
BEGIN:VTIMEZONE
TZID:UTC
BEGIN:STANDARD
TZOFFSETFROM:+0000
TZOFFSETTO:+0000
TZNAME:UTC
DTSTART:20230101T000000
END:STANDARD
END:VTIMEZONE
BEGIN:VTIMEZONE
TZID:America/Denver
BEGIN:DAYLIGHT
TZOFFSETFROM:-0700
TZOFFSETTO:-0600
TZNAME:MDT
DTSTART:20170312T090000
END:DAYLIGHT
BEGIN:STANDARD
TZOFFSETFROM:-0600
TZOFFSETTO:-0700
TZNAME:MST
DTSTART:20171105T080000
END:STANDARD
BEGIN:DAYLIGHT
TZOFFSETFROM:-0700
TZOFFSETTO:-0600
TZNAME:MDT
DTSTART:20180311T090000
END:DAYLIGHT
BEGIN:STANDARD
TZOFFSETFROM:-0600
TZOFFSETTO:-0700
TZNAME:MST
DTSTART:20181104T080000
END:STANDARD
BEGIN:DAYLIGHT
TZOFFSETFROM:-0700
TZOFFSETTO:-0600
TZNAME:MDT
DTSTART:20190310T090000
END:DAYLIGHT
BEGIN:STANDARD
TZOFFSETFROM:-0600
TZOFFSETTO:-0700
TZNAME:MST
DTSTART:20191103T080000
END:STANDARD
BEGIN:DAYLIGHT
TZOFFSETFROM:-0700
TZOFFSETTO:-0600
TZNAME:MDT
DTSTART:20200308T090000
END:DAYLIGHT
BEGIN:STANDARD
TZOFFSETFROM:-0600
TZOFFSETTO:-0700
TZNAME:MST
DTSTART:20201101T080000
END:STANDARD
BEGIN:DAYLIGHT
TZOFFSETFROM:-0700
TZOFFSETTO:-0600
TZNAME:MDT
DTSTART:20210314T090000
END:DAYLIGHT
BEGIN:STANDARD
TZOFFSETFROM:-0600
TZOFFSETTO:-0700
TZNAME:MST
DTSTART:20211107T080000
END:STANDARD
BEGIN:DAYLIGHT
TZOFFSETFROM:-0700
TZOFFSETTO:-0600
TZNAME:MDT
DTSTART:20220313T090000
END:DAYLIGHT
BEGIN:STANDARD
TZOFFSETFROM:-0600
TZOFFSETTO:-0700
TZNAME:MST
DTSTART:20221106T080000
END:STANDARD
BEGIN:DAYLIGHT
TZOFFSETFROM:-0700
TZOFFSETTO:-0600
TZNAME:MDT
DTSTART:20230312T090000
END:DAYLIGHT
BEGIN:STANDARD
TZOFFSETFROM:-0600
TZOFFSETTO:-0700
TZNAME:MST
DTSTART:20231105T080000
END:STANDARD
END:VTIMEZONE
BEGIN:VEVENT
DTSTART;TZID=America/Los_Angeles:20250418T083000
DTEND;TZID=America/Los_Angeles:20250418T100000
DTSTAMP:20260421T075011
CREATED:20250401T205802Z
LAST-MODIFIED:20250407T192911Z
UID:10022936-1744965000-1744970400@workforce.sbcounty.gov
SUMMARY:WDB Executive Board Meeting
DESCRIPTION:​​For more information\, please visit our Board Agenda/Minutes Page:\nhttps://workforce.sbcounty.gov/board-agenda-minutes/
URL:https://workforce.sbcounty.gov/event/wdb-executive-board-meeting-32/
LOCATION:Lake Arrowhead Resort and Spa\, 27984 Highway 189\, Lake Arrowhead\, CA\, 92352\, United States
CATEGORIES:WDB Meeting
END:VEVENT
BEGIN:VEVENT
DTSTART;TZID=America/Los_Angeles:20250417T150000
DTEND;TZID=America/Los_Angeles:20250417T170000
DTSTAMP:20260421T075011
CREATED:20250401T205438Z
LAST-MODIFIED:20250401T205438Z
UID:10022933-1744902000-1744909200@workforce.sbcounty.gov
SUMMARY:WDB Executive Board Meeting
DESCRIPTION:​​For more information\, please visit our Board Agenda/Minutes Page:\nhttps://workforce.sbcounty.gov/board-agenda-minutes/
URL:https://workforce.sbcounty.gov/event/wdb-executive-board-meeting-31/
LOCATION:Lake Arrowhead Resort and Spa\, 27984 Highway 189\, Lake Arrowhead\, CA\, 92352\, United States
CATEGORIES:WDB Meeting
END:VEVENT
BEGIN:VEVENT
DTSTART;TZID=America/Los_Angeles:20250417T083000
DTEND;TZID=America/Los_Angeles:20250417T140000
DTSTAMP:20260421T075011
CREATED:20250401T205302Z
LAST-MODIFIED:20250403T173233Z
UID:10022930-1744878600-1744898400@workforce.sbcounty.gov
SUMMARY:WDB General Board Meeting
DESCRIPTION:​​For more information\, please visit our Board Agenda/Minutes Page:\nhttps://workforce.sbcounty.gov/board-agenda-minutes/
URL:https://workforce.sbcounty.gov/event/wdb-general-board-meeting-22/
LOCATION:Lake Arrowhead Resort and Spa\, 27984 Highway 189\, Lake Arrowhead\, CA\, 92352\, United States
CATEGORIES:WDB Meeting
END:VEVENT
BEGIN:VEVENT
DTSTART;TZID=America/Los_Angeles:20250416T130000
DTEND;TZID=America/Los_Angeles:20250416T160000
DTSTAMP:20260421T075011
CREATED:20250401T205006Z
LAST-MODIFIED:20250401T205006Z
UID:10022927-1744808400-1744819200@workforce.sbcounty.gov
SUMMARY:WDB Economic Development and Business Resource Committee Meeting
DESCRIPTION:​​For more information\, please visit our Board Agenda/Minutes Page:\nhttps://workforce.sbcounty.gov/board-agenda-minutes/
URL:https://workforce.sbcounty.gov/event/wdb-economic-development-and-business-resource-committee-meeting-4/
LOCATION:Lake Arrowhead Resort and Spa\, 27984 Highway 189\, Lake Arrowhead\, CA\, 92352\, United States
CATEGORIES:WDB Meeting
END:VEVENT
BEGIN:VEVENT
DTSTART;TZID=America/Los_Angeles:20250416T130000
DTEND;TZID=America/Los_Angeles:20250416T160000
DTSTAMP:20260421T075011
CREATED:20250401T204732Z
LAST-MODIFIED:20250401T204732Z
UID:10022924-1744808400-1744819200@workforce.sbcounty.gov
SUMMARY:WDB Special Populations Committee Meeting
DESCRIPTION:For more information\, please visit our Board Agenda/Minutes page:  https://workforce.sbcounty.gov/board-agenda-minutes/
URL:https://workforce.sbcounty.gov/event/wdb-special-populations-committee-meeting-17/
LOCATION:Lake Arrowhead Resort and Spa\, 27984 Highway 189\, Lake Arrowhead\, CA\, 92352\, United States
CATEGORIES:WDB Meeting
END:VEVENT
BEGIN:VEVENT
DTSTART;TZID=America/Los_Angeles:20250416T130000
DTEND;TZID=America/Los_Angeles:20250416T160000
DTSTAMP:20260421T075011
CREATED:20250401T160305Z
LAST-MODIFIED:20250401T160305Z
UID:10022921-1744808400-1744819200@workforce.sbcounty.gov
SUMMARY:WDB Youth Committee Meeting
DESCRIPTION:
URL:https://workforce.sbcounty.gov/event/wdb-youth-committee-meeting-17/
LOCATION:Lake Arrowhead Resort and Spa\, 27984 Highway 189\, Lake Arrowhead\, CA\, 92352\, United States
CATEGORIES:WDB Meeting
END:VEVENT
BEGIN:VEVENT
DTSTART;TZID=America/Los_Angeles:20250416T100000
DTEND;TZID=America/Los_Angeles:20250416T170000
DTSTAMP:20260421T075011
CREATED:20250403T180058Z
LAST-MODIFIED:20250403T180058Z
UID:10023002-1744797600-1744822800@workforce.sbcounty.gov
SUMMARY:WDB General Board Meeting
DESCRIPTION:​​For more information\, please visit our Board Agenda/Minutes Page:\nhttps://workforce.sbcounty.gov/board-agenda-minutes/
URL:https://workforce.sbcounty.gov/event/wdb-general-board-meeting-23/
LOCATION:Lake Arrowhead Resort and Spa\, 27984 Highway 189\, Lake Arrowhead\, CA\, 92352\, United States
CATEGORIES:WDB Meeting
END:VEVENT
BEGIN:VEVENT
DTSTART;TZID=UTC:20240510T083000
DTEND;TZID=UTC:20240510T140000
DTSTAMP:20260421T075011
CREATED:20240123T045959Z
LAST-MODIFIED:20240123T045959Z
UID:10019310-1715329800-1715349600@workforce.sbcounty.gov
SUMMARY:WDB Executive Board Meeting
DESCRIPTION:
URL:https://workforce.sbcounty.gov/event/wdb-executive-board-meeting-22/2024-05-10/
LOCATION:Lake Arrowhead Resort and Spa\, 27984 Highway 189\, Lake Arrowhead\, CA\, 92352\, United States
CATEGORIES:WDB Meeting
END:VEVENT
BEGIN:VEVENT
DTSTART;TZID=UTC:20240509T150000
DTEND;TZID=UTC:20240509T170000
DTSTAMP:20260421T075011
CREATED:20240123T045959Z
LAST-MODIFIED:20240123T045959Z
UID:10019307-1715266800-1715274000@workforce.sbcounty.gov
SUMMARY:WDB Executive Board Meeting
DESCRIPTION:
URL:https://workforce.sbcounty.gov/event/wdb-executive-board-meeting-22/2024-05-09/
LOCATION:Lake Arrowhead Resort and Spa\, 27984 Highway 189\, Lake Arrowhead\, CA\, 92352\, United States
CATEGORIES:WDB Meeting
END:VEVENT
BEGIN:VEVENT
DTSTART;TZID=UTC:20240509T083000
DTEND;TZID=UTC:20240509T140000
DTSTAMP:20260421T075011
CREATED:20240123T045746Z
LAST-MODIFIED:20240123T045746Z
UID:10019298-1715243400-1715263200@workforce.sbcounty.gov
SUMMARY:WDB General Board Meeting
DESCRIPTION:
URL:https://workforce.sbcounty.gov/event/wdb-general-board-meeting-17/2024-05-09/
LOCATION:Lake Arrowhead Resort and Spa\, 27984 Highway 189\, Lake Arrowhead\, CA\, 92352\, United States
CATEGORIES:WDB Meeting
END:VEVENT
BEGIN:VEVENT
DTSTART;TZID=UTC:20240508T100000
DTEND;TZID=UTC:20240508T170000
DTSTAMP:20260421T075011
CREATED:20240123T045746Z
LAST-MODIFIED:20240123T045746Z
UID:10019295-1715162400-1715187600@workforce.sbcounty.gov
SUMMARY:WDB General Board Meeting
DESCRIPTION:
URL:https://workforce.sbcounty.gov/event/wdb-general-board-meeting-17/2024-05-08/
LOCATION:Lake Arrowhead Resort and Spa\, 27984 Highway 189\, Lake Arrowhead\, CA\, 92352\, United States
CATEGORIES:WDB Meeting
END:VEVENT
BEGIN:VEVENT
DTSTART;TZID=America/Los_Angeles:20220916T083000
DTEND;TZID=America/Los_Angeles:20220916T140000
DTSTAMP:20260421T075011
CREATED:20220824T211814Z
LAST-MODIFIED:20220824T211814Z
UID:10018827-1663317000-1663336800@workforce.sbcounty.gov
SUMMARY:WDB General Board Meeting
DESCRIPTION:
URL:https://workforce.sbcounty.gov/event/wdb-general-board-meeting-11/2022-09-16/
LOCATION:Lake Arrowhead Resort and Spa\, 27984 Highway 189\, Lake Arrowhead\, CA\, 92352\, United States
CATEGORIES:WDB Meeting
ATTACH;FMTTYPE=image/jpeg:https://workforce.sbcounty.gov/wp-content/uploads/sites/104/2022/01/Board-Meeting-1-1.jpg
END:VEVENT
BEGIN:VEVENT
DTSTART;TZID=America/Los_Angeles:20220915T090000
DTEND;TZID=America/Los_Angeles:20220915T170000
DTSTAMP:20260421T075011
CREATED:20220824T211814Z
LAST-MODIFIED:20220824T211814Z
UID:10018824-1663232400-1663261200@workforce.sbcounty.gov
SUMMARY:WDB General Board Meeting
DESCRIPTION:
URL:https://workforce.sbcounty.gov/event/wdb-general-board-meeting-11/2022-09-15/
LOCATION:Lake Arrowhead Resort and Spa\, 27984 Highway 189\, Lake Arrowhead\, CA\, 92352\, United States
CATEGORIES:WDB Meeting
ATTACH;FMTTYPE=image/jpeg:https://workforce.sbcounty.gov/wp-content/uploads/sites/104/2022/01/Board-Meeting-1-1.jpg
END:VEVENT
BEGIN:VEVENT
DTSTART;TZID=America/Denver:20220914T130000
DTEND;TZID=America/Denver:20220914T170000
DTSTAMP:20260421T075011
CREATED:20220104T195714Z
LAST-MODIFIED:20220104T195714Z
UID:10017882-1663160400-1663174800@workforce.sbcounty.gov
SUMMARY:WDB Executive Board Meeting
DESCRIPTION:
URL:https://workforce.sbcounty.gov/event/wdb-executive-board-meeting-18-2022-09-14/
LOCATION:Lake Arrowhead Resort and Spa\, 27984 Highway 189\, Lake Arrowhead\, CA\, 92352\, United States
CATEGORIES:WDB Meeting
ATTACH;FMTTYPE=image/jpeg:https://workforce.sbcounty.gov/wp-content/uploads/sites/104/2022/01/Board-Meeting-1-1.jpg
END:VEVENT
BEGIN:VEVENT
DTSTART;TZID=America/Denver:20210716T090000
DTEND;TZID=America/Denver:20210716T130000
DTSTAMP:20260421T075011
CREATED:20210628T190927Z
LAST-MODIFIED:20210628T190927Z
UID:10017789-1626426000-1626440400@workforce.sbcounty.gov
SUMMARY:WDB General Board Meeting
DESCRIPTION:
URL:https://workforce.sbcounty.gov/event/wdb-general-board-meeting-9/
LOCATION:Lake Arrowhead Resort and Spa\, 27984 Highway 189\, Lake Arrowhead\, CA\, 92352\, United States
CATEGORIES:WDB Meeting
END:VEVENT
BEGIN:VEVENT
DTSTART;TZID=America/Denver:20210715T133000
DTEND;TZID=America/Denver:20210715T170000
DTSTAMP:20260421T075011
CREATED:20210628T190804Z
LAST-MODIFIED:20210628T190804Z
UID:10017783-1626355800-1626368400@workforce.sbcounty.gov
SUMMARY:WDB General Board Meeting
DESCRIPTION:
URL:https://workforce.sbcounty.gov/event/wdb-general-board-meeting-8/
LOCATION:Lake Arrowhead Resort and Spa\, 27984 Highway 189\, Lake Arrowhead\, CA\, 92352\, United States
CATEGORIES:WDB Meeting
END:VEVENT
BEGIN:VEVENT
DTSTART;TZID=America/Denver:20210715T090000
DTEND;TZID=America/Denver:20210715T120000
DTSTAMP:20260421T075011
CREATED:20210628T190524Z
LAST-MODIFIED:20210628T190524Z
UID:10017780-1626339600-1626350400@workforce.sbcounty.gov
SUMMARY:WDB Executive Board Meeting
DESCRIPTION:
URL:https://workforce.sbcounty.gov/event/wdb-executive-board-meeting-12/
LOCATION:Lake Arrowhead Resort and Spa\, 27984 Highway 189\, Lake Arrowhead\, CA\, 92352\, United States
CATEGORIES:WDB Meeting
END:VEVENT
BEGIN:VEVENT
DTSTART;TZID=America/Denver:20210714T150000
DTEND;TZID=America/Denver:20210714T170000
DTSTAMP:20260421T075011
CREATED:20210628T190316Z
LAST-MODIFIED:20210628T190316Z
UID:10017777-1626274800-1626282000@workforce.sbcounty.gov
SUMMARY:WDB Executive Board Meeting
DESCRIPTION:
URL:https://workforce.sbcounty.gov/event/wdb-executive-board-meeting-11/
LOCATION:Lake Arrowhead Resort and Spa\, 27984 Highway 189\, Lake Arrowhead\, CA\, 92352\, United States
CATEGORIES:WDB Meeting
END:VEVENT
BEGIN:VEVENT
DTSTART;TZID=America/Denver:20190529T180000
DTEND;TZID=America/Denver:20190531T140000
DTSTAMP:20260421T075011
CREATED:20181109T204147Z
LAST-MODIFIED:20181109T204147Z
UID:10012122-1559152800-1559311200@workforce.sbcounty.gov
SUMMARY:WDB General Board Meeting
DESCRIPTION:*Meeting Dates/Times subject to change \nFor agendas: See the Board Agendas & Minutes Page – 72 hours before the meeting
URL:https://workforce.sbcounty.gov/event/wdb-general-board-meeting-2019-05-29/
LOCATION:Lake Arrowhead Resort and Spa\, 27984 Highway 189\, Lake Arrowhead\, CA\, 92352\, United States
CATEGORIES:WDB Meeting
END:VEVENT
BEGIN:VEVENT
DTSTART;TZID=America/Denver:20180518T083000
DTEND;TZID=America/Denver:20180518T140000
DTSTAMP:20260421T075011
CREATED:20180503T160307Z
LAST-MODIFIED:20180503T160307Z
UID:10011030-1526632200-1526652000@workforce.sbcounty.gov
SUMMARY:WDB Strategic Planning Workshop
DESCRIPTION:
URL:https://workforce.sbcounty.gov/event/wdb-strategic-planning-workshop-4/
LOCATION:Lake Arrowhead Resort and Spa\, 27984 Highway 189\, Lake Arrowhead\, CA\, 92352\, United States
CATEGORIES:WDB Meeting
END:VEVENT
BEGIN:VEVENT
DTSTART;TZID=America/Denver:20180517T090000
DTEND;TZID=America/Denver:20180517T170000
DTSTAMP:20260421T075011
CREATED:20180503T160119Z
LAST-MODIFIED:20180503T160119Z
UID:10011027-1526547600-1526576400@workforce.sbcounty.gov
SUMMARY:WDB Strategic Planning Workshop
DESCRIPTION:
URL:https://workforce.sbcounty.gov/event/wdb-strategic-planning-workshop-3/
LOCATION:Lake Arrowhead Resort and Spa\, 27984 Highway 189\, Lake Arrowhead\, CA\, 92352\, United States
CATEGORIES:WDB Meeting
END:VEVENT
BEGIN:VEVENT
DTSTART;TZID=America/Denver:20180516T180000
DTEND;TZID=America/Denver:20180516T200000
DTSTAMP:20260421T075011
CREATED:20180503T155918Z
LAST-MODIFIED:20180503T155918Z
UID:10011024-1526493600-1526500800@workforce.sbcounty.gov
SUMMARY:WDB Strategic Planning Workshop
DESCRIPTION:
URL:https://workforce.sbcounty.gov/event/wdb-strategic-planning-workshop-2/
LOCATION:Lake Arrowhead Resort and Spa\, 27984 Highway 189\, Lake Arrowhead\, CA\, 92352\, United States
CATEGORIES:WDB Meeting
END:VEVENT
END:VCALENDAR