BEGIN:VCALENDAR
VERSION:2.0
PRODID:-//Workforce Development - ECPv6.15.14//NONSGML v1.0//EN
CALSCALE:GREGORIAN
METHOD:PUBLISH
X-WR-CALNAME:Workforce Development
X-ORIGINAL-URL:https://workforce.sbcounty.gov
X-WR-CALDESC:Events for Workforce Development
REFRESH-INTERVAL;VALUE=DURATION:PT1H
X-Robots-Tag:noindex
X-PUBLISHED-TTL:PT1H
BEGIN:VTIMEZONE
TZID:America/Denver
BEGIN:DAYLIGHT
TZOFFSETFROM:-0700
TZOFFSETTO:-0600
TZNAME:MDT
DTSTART:20180311T090000
END:DAYLIGHT
BEGIN:STANDARD
TZOFFSETFROM:-0600
TZOFFSETTO:-0700
TZNAME:MST
DTSTART:20181104T080000
END:STANDARD
BEGIN:DAYLIGHT
TZOFFSETFROM:-0700
TZOFFSETTO:-0600
TZNAME:MDT
DTSTART:20190310T090000
END:DAYLIGHT
BEGIN:STANDARD
TZOFFSETFROM:-0600
TZOFFSETTO:-0700
TZNAME:MST
DTSTART:20191103T080000
END:STANDARD
BEGIN:DAYLIGHT
TZOFFSETFROM:-0700
TZOFFSETTO:-0600
TZNAME:MDT
DTSTART:20200308T090000
END:DAYLIGHT
BEGIN:STANDARD
TZOFFSETFROM:-0600
TZOFFSETTO:-0700
TZNAME:MST
DTSTART:20201101T080000
END:STANDARD
END:VTIMEZONE
BEGIN:VEVENT
DTSTART;TZID=America/Denver:20190711T133000
DTEND;TZID=America/Denver:20190711T153000
DTSTAMP:20260424T041807
CREATED:20190606T154303Z
LAST-MODIFIED:20190606T154303Z
UID:10013151-1562851800-1562859000@workforce.sbcounty.gov
SUMMARY:How to get a County Job
DESCRIPTION:See Reception to make an appointment. Please check in 15 minutes before the start of the workshop.
URL:https://workforce.sbcounty.gov/event/how-to-get-a-county-job-2/2019-07-11/
LOCATION:High Desert America’s Job Center\, 17310 Bear Valley Rd.\, Suite 109\, Victorville\, CA\, 92395\, United States
CATEGORIES:AJCC - High Desert,Job Seeker Workshops
GEO:34.4720748;-117.2842146
X-APPLE-STRUCTURED-LOCATION;VALUE=URI;X-ADDRESS=High Desert America’s Job Center 17310 Bear Valley Rd. Suite 109 Victorville CA 92395 United States;X-APPLE-RADIUS=500;X-TITLE=17310 Bear Valley Rd.\, Suite 109:geo:-117.2842146,34.4720748
END:VEVENT
BEGIN:VEVENT
DTSTART;TZID=America/Denver:20190710T090000
DTEND;TZID=America/Denver:20190710T153000
DTSTAMP:20260424T041807
CREATED:20190606T153612Z
LAST-MODIFIED:20190606T153612Z
UID:10013115-1562749200-1562772600@workforce.sbcounty.gov
SUMMARY:Professional Edge
DESCRIPTION:See Reception to make an appointment. Please check in 15 minutes before the start of the workshop.
URL:https://workforce.sbcounty.gov/event/professional-edge-4/2019-07-10/
LOCATION:High Desert America’s Job Center\, 17310 Bear Valley Rd.\, Suite 109\, Victorville\, CA\, 92395\, United States
CATEGORIES:AJCC - High Desert,Job Seeker Workshops
GEO:34.4720748;-117.2842146
X-APPLE-STRUCTURED-LOCATION;VALUE=URI;X-ADDRESS=High Desert America’s Job Center 17310 Bear Valley Rd. Suite 109 Victorville CA 92395 United States;X-APPLE-RADIUS=500;X-TITLE=17310 Bear Valley Rd.\, Suite 109:geo:-117.2842146,34.4720748
END:VEVENT
BEGIN:VEVENT
DTSTART;TZID=America/Denver:20190709T080000
DTEND;TZID=America/Denver:20190709T170000
DTSTAMP:20260424T041807
CREATED:20190606T153737Z
LAST-MODIFIED:20190606T153737Z
UID:10013145-1562659200-1562691600@workforce.sbcounty.gov
SUMMARY:STEPS Workshop
DESCRIPTION:See Reception to make an appointment. Please check in 15 minutes before the start of the workshop.
URL:https://workforce.sbcounty.gov/event/steps-workshop-14/2019-07-09/
LOCATION:High Desert America’s Job Center\, 17310 Bear Valley Rd.\, Suite 109\, Victorville\, CA\, 92395\, United States
CATEGORIES:AJCC - High Desert,Job Seeker Workshops
GEO:34.4720748;-117.2842146
X-APPLE-STRUCTURED-LOCATION;VALUE=URI;X-ADDRESS=High Desert America’s Job Center 17310 Bear Valley Rd. Suite 109 Victorville CA 92395 United States;X-APPLE-RADIUS=500;X-TITLE=17310 Bear Valley Rd.\, Suite 109:geo:-117.2842146,34.4720748
END:VEVENT
BEGIN:VEVENT
DTSTART;TZID=America/Denver:20190708T130000
DTEND;TZID=America/Denver:20190708T150000
DTSTAMP:20260424T041807
CREATED:20190606T154531Z
LAST-MODIFIED:20190606T154531Z
UID:10013160-1562590800-1562598000@workforce.sbcounty.gov
SUMMARY:How to apply for a State Job
DESCRIPTION:See Reception to make an appointment. Please check in 15 minutes before the start of the workshop.
URL:https://workforce.sbcounty.gov/event/how-to-apply-for-a-state-job-2/2019-07-08/
LOCATION:High Desert America’s Job Center\, 17310 Bear Valley Rd.\, Suite 109\, Victorville\, CA\, 92395\, United States
CATEGORIES:AJCC - High Desert,Job Seeker Workshops
GEO:34.4720748;-117.2842146
X-APPLE-STRUCTURED-LOCATION;VALUE=URI;X-ADDRESS=High Desert America’s Job Center 17310 Bear Valley Rd. Suite 109 Victorville CA 92395 United States;X-APPLE-RADIUS=500;X-TITLE=17310 Bear Valley Rd.\, Suite 109:geo:-117.2842146,34.4720748
END:VEVENT
BEGIN:VEVENT
DTSTART;TZID=America/Denver:20190708T080000
DTEND;TZID=America/Denver:20190708T170000
DTSTAMP:20260424T041807
CREATED:20190606T153737Z
LAST-MODIFIED:20190606T153737Z
UID:10013142-1562572800-1562605200@workforce.sbcounty.gov
SUMMARY:STEPS Workshop
DESCRIPTION:See Reception to make an appointment. Please check in 15 minutes before the start of the workshop.
URL:https://workforce.sbcounty.gov/event/steps-workshop-14/2019-07-08/
LOCATION:High Desert America’s Job Center\, 17310 Bear Valley Rd.\, Suite 109\, Victorville\, CA\, 92395\, United States
CATEGORIES:AJCC - High Desert,Job Seeker Workshops
GEO:34.4720748;-117.2842146
X-APPLE-STRUCTURED-LOCATION;VALUE=URI;X-ADDRESS=High Desert America’s Job Center 17310 Bear Valley Rd. Suite 109 Victorville CA 92395 United States;X-APPLE-RADIUS=500;X-TITLE=17310 Bear Valley Rd.\, Suite 109:geo:-117.2842146,34.4720748
END:VEVENT
BEGIN:VEVENT
DTSTART;TZID=America/Denver:20190703T090000
DTEND;TZID=America/Denver:20190703T153000
DTSTAMP:20260424T041807
CREATED:20190606T153612Z
LAST-MODIFIED:20190606T153612Z
UID:10013112-1562144400-1562167800@workforce.sbcounty.gov
SUMMARY:Professional Edge
DESCRIPTION:See Reception to make an appointment. Please check in 15 minutes before the start of the workshop.
URL:https://workforce.sbcounty.gov/event/professional-edge-4/2019-07-03/
LOCATION:High Desert America’s Job Center\, 17310 Bear Valley Rd.\, Suite 109\, Victorville\, CA\, 92395\, United States
CATEGORIES:AJCC - High Desert,Job Seeker Workshops
GEO:34.4720748;-117.2842146
X-APPLE-STRUCTURED-LOCATION;VALUE=URI;X-ADDRESS=High Desert America’s Job Center 17310 Bear Valley Rd. Suite 109 Victorville CA 92395 United States;X-APPLE-RADIUS=500;X-TITLE=17310 Bear Valley Rd.\, Suite 109:geo:-117.2842146,34.4720748
END:VEVENT
BEGIN:VEVENT
DTSTART;TZID=America/Denver:20190701T130000
DTEND;TZID=America/Denver:20190701T150000
DTSTAMP:20260424T041807
CREATED:20190606T152824Z
LAST-MODIFIED:20190606T152824Z
UID:10013103-1561986000-1561993200@workforce.sbcounty.gov
SUMMARY:Resume 2.0
DESCRIPTION:See Reception to make an appointment. Please check in 15 minutes before the start of the workshop.
URL:https://workforce.sbcounty.gov/event/resume-2-0/2019-07-01/
LOCATION:High Desert America’s Job Center\, 17310 Bear Valley Rd.\, Suite 109\, Victorville\, CA\, 92395\, United States
CATEGORIES:AJCC - High Desert,Job Seeker Workshops
GEO:34.4720748;-117.2842146
X-APPLE-STRUCTURED-LOCATION;VALUE=URI;X-ADDRESS=High Desert America’s Job Center 17310 Bear Valley Rd. Suite 109 Victorville CA 92395 United States;X-APPLE-RADIUS=500;X-TITLE=17310 Bear Valley Rd.\, Suite 109:geo:-117.2842146,34.4720748
END:VEVENT
BEGIN:VEVENT
DTSTART;TZID=America/Denver:20190627T133000
DTEND;TZID=America/Denver:20190627T153000
DTSTAMP:20260424T041807
CREATED:20190430T001133Z
LAST-MODIFIED:20190430T001133Z
UID:10011507-1561642200-1561649400@workforce.sbcounty.gov
SUMMARY:How to get a County Job
DESCRIPTION:See Reception to make an appointment. Please check in 15 minutes before the start of the workshop.
URL:https://workforce.sbcounty.gov/event/how-to-get-a-county-job/2019-06-27/
LOCATION:High Desert America’s Job Center\, 17310 Bear Valley Rd.\, Suite 109\, Victorville\, CA\, 92395\, United States
CATEGORIES:AJCC - High Desert,Job Seeker Workshops
GEO:34.4720748;-117.2842146
X-APPLE-STRUCTURED-LOCATION;VALUE=URI;X-ADDRESS=High Desert America’s Job Center 17310 Bear Valley Rd. Suite 109 Victorville CA 92395 United States;X-APPLE-RADIUS=500;X-TITLE=17310 Bear Valley Rd.\, Suite 109:geo:-117.2842146,34.4720748
END:VEVENT
BEGIN:VEVENT
DTSTART;TZID=America/Denver:20190626T090000
DTEND;TZID=America/Denver:20190626T153000
DTSTAMP:20260424T041807
CREATED:20190430T001551Z
LAST-MODIFIED:20190430T001551Z
UID:10011537-1561539600-1561563000@workforce.sbcounty.gov
SUMMARY:Professional Edge
DESCRIPTION:See Reception to make an appointment. Please check in 15 minutes before the start of the workshop.
URL:https://workforce.sbcounty.gov/event/professional-edge-workshop-12/2019-06-26/
LOCATION:High Desert America’s Job Center\, 17310 Bear Valley Rd.\, Suite 109\, Victorville\, CA\, 92395\, United States
CATEGORIES:AJCC - High Desert,Job Seeker Workshops
GEO:34.4720748;-117.2842146
X-APPLE-STRUCTURED-LOCATION;VALUE=URI;X-ADDRESS=High Desert America’s Job Center 17310 Bear Valley Rd. Suite 109 Victorville CA 92395 United States;X-APPLE-RADIUS=500;X-TITLE=17310 Bear Valley Rd.\, Suite 109:geo:-117.2842146,34.4720748
END:VEVENT
BEGIN:VEVENT
DTSTART;TZID=America/Denver:20190625T133000
DTEND;TZID=America/Denver:20190625T153000
DTSTAMP:20260424T041807
CREATED:20190430T000949Z
LAST-MODIFIED:20190430T000949Z
UID:10011489-1561469400-1561476600@workforce.sbcounty.gov
SUMMARY:How to Job Search Using Indeed/Glassdoor
DESCRIPTION:See Reception to make an appointment. Please check in 15 minutes before the start of the workshop.
URL:https://workforce.sbcounty.gov/event/how-to-indeed-glassdoor-2/2019-06-25/
LOCATION:High Desert America’s Job Center\, 17310 Bear Valley Rd.\, Suite 109\, Victorville\, CA\, 92395\, United States
CATEGORIES:AJCC - High Desert,Job Seeker Workshops
GEO:34.4720748;-117.2842146
X-APPLE-STRUCTURED-LOCATION;VALUE=URI;X-ADDRESS=High Desert America’s Job Center 17310 Bear Valley Rd. Suite 109 Victorville CA 92395 United States;X-APPLE-RADIUS=500;X-TITLE=17310 Bear Valley Rd.\, Suite 109:geo:-117.2842146,34.4720748
END:VEVENT
BEGIN:VEVENT
DTSTART;TZID=America/Denver:20190625T080000
DTEND;TZID=America/Denver:20190625T170000
DTSTAMP:20260424T041807
CREATED:20190430T000822Z
LAST-MODIFIED:20190430T000822Z
UID:10011477-1561449600-1561482000@workforce.sbcounty.gov
SUMMARY:STEPS
DESCRIPTION:See Reception to make an appointment. Please check in 15 minutes before the start of the workshop.
URL:https://workforce.sbcounty.gov/event/steps-workshop-12/2019-06-25/
LOCATION:High Desert America’s Job Center\, 17310 Bear Valley Rd.\, Suite 109\, Victorville\, CA\, 92395\, United States
CATEGORIES:AJCC - High Desert,Job Seeker Workshops
GEO:34.4720748;-117.2842146
X-APPLE-STRUCTURED-LOCATION;VALUE=URI;X-ADDRESS=High Desert America’s Job Center 17310 Bear Valley Rd. Suite 109 Victorville CA 92395 United States;X-APPLE-RADIUS=500;X-TITLE=17310 Bear Valley Rd.\, Suite 109:geo:-117.2842146,34.4720748
END:VEVENT
BEGIN:VEVENT
DTSTART;TZID=America/Denver:20190624T130000
DTEND;TZID=America/Denver:20190624T150000
DTSTAMP:20260424T041807
CREATED:20190430T001248Z
LAST-MODIFIED:20190430T001248Z
UID:10011525-1561381200-1561388400@workforce.sbcounty.gov
SUMMARY:How to apply for a State Job
DESCRIPTION:See Reception to make an appointment. Please check in 15 minutes before the start of the workshop.
URL:https://workforce.sbcounty.gov/event/how-to-apply-for-a-state-job/2019-06-24/
LOCATION:High Desert America’s Job Center\, 17310 Bear Valley Rd.\, Suite 109\, Victorville\, CA\, 92395\, United States
CATEGORIES:AJCC - High Desert,Job Seeker Workshops
GEO:34.4720748;-117.2842146
X-APPLE-STRUCTURED-LOCATION;VALUE=URI;X-ADDRESS=High Desert America’s Job Center 17310 Bear Valley Rd. Suite 109 Victorville CA 92395 United States;X-APPLE-RADIUS=500;X-TITLE=17310 Bear Valley Rd.\, Suite 109:geo:-117.2842146,34.4720748
END:VEVENT
BEGIN:VEVENT
DTSTART;TZID=America/Denver:20190620T130000
DTEND;TZID=America/Denver:20190620T150000
DTSTAMP:20260424T041807
CREATED:20190514T200101Z
LAST-MODIFIED:20190514T200101Z
UID:10011546-1561035600-1561042800@workforce.sbcounty.gov
SUMMARY:Resume 1.0 Workshop
DESCRIPTION:See Reception to make an appointment. Please check in 15 minutes before the start of the workshop.
URL:https://workforce.sbcounty.gov/event/resume-1-0-workshop/
LOCATION:High Desert America’s Job Center\, 17310 Bear Valley Rd.\, Suite 109\, Victorville\, CA\, 92395\, United States
CATEGORIES:AJCC - High Desert,Job Seeker Workshops
GEO:34.4720748;-117.2842146
X-APPLE-STRUCTURED-LOCATION;VALUE=URI;X-ADDRESS=High Desert America’s Job Center 17310 Bear Valley Rd. Suite 109 Victorville CA 92395 United States;X-APPLE-RADIUS=500;X-TITLE=17310 Bear Valley Rd.\, Suite 109:geo:-117.2842146,34.4720748
END:VEVENT
BEGIN:VEVENT
DTSTART;TZID=America/Denver:20190618T133000
DTEND;TZID=America/Denver:20190618T153000
DTSTAMP:20260424T041807
CREATED:20190430T000949Z
LAST-MODIFIED:20190430T000949Z
UID:10011486-1560864600-1560871800@workforce.sbcounty.gov
SUMMARY:How to Job Search Using Indeed/Glassdoor
DESCRIPTION:See Reception to make an appointment. Please check in 15 minutes before the start of the workshop.
URL:https://workforce.sbcounty.gov/event/how-to-indeed-glassdoor-2/2019-06-18/
LOCATION:High Desert America’s Job Center\, 17310 Bear Valley Rd.\, Suite 109\, Victorville\, CA\, 92395\, United States
CATEGORIES:AJCC - High Desert,Job Seeker Workshops
GEO:34.4720748;-117.2842146
X-APPLE-STRUCTURED-LOCATION;VALUE=URI;X-ADDRESS=High Desert America’s Job Center 17310 Bear Valley Rd. Suite 109 Victorville CA 92395 United States;X-APPLE-RADIUS=500;X-TITLE=17310 Bear Valley Rd.\, Suite 109:geo:-117.2842146,34.4720748
END:VEVENT
BEGIN:VEVENT
DTSTART;TZID=America/Denver:20190617T090000
DTEND;TZID=America/Denver:20190617T110000
DTSTAMP:20260424T041807
CREATED:20190430T000619Z
LAST-MODIFIED:20190430T000619Z
UID:10011465-1560762000-1560769200@workforce.sbcounty.gov
SUMMARY:Resume 2.0 Workshop
DESCRIPTION:See Reception to make an appointment. Please check in 15 minutes before the start of the workshop.
URL:https://workforce.sbcounty.gov/event/build-my-resume-workshop/2019-06-17/
LOCATION:High Desert America’s Job Center\, 17310 Bear Valley Rd.\, Suite 109\, Victorville\, CA\, 92395\, United States
CATEGORIES:AJCC - High Desert,Job Seeker Workshops
GEO:34.4720748;-117.2842146
X-APPLE-STRUCTURED-LOCATION;VALUE=URI;X-ADDRESS=High Desert America’s Job Center 17310 Bear Valley Rd. Suite 109 Victorville CA 92395 United States;X-APPLE-RADIUS=500;X-TITLE=17310 Bear Valley Rd.\, Suite 109:geo:-117.2842146,34.4720748
END:VEVENT
BEGIN:VEVENT
DTSTART;TZID=America/Denver:20190613T133000
DTEND;TZID=America/Denver:20190613T153000
DTSTAMP:20260424T041807
CREATED:20190430T001133Z
LAST-MODIFIED:20190430T001133Z
UID:10011504-1560432600-1560439800@workforce.sbcounty.gov
SUMMARY:How to get a County Job
DESCRIPTION:See Reception to make an appointment. Please check in 15 minutes before the start of the workshop.
URL:https://workforce.sbcounty.gov/event/how-to-get-a-county-job/2019-06-13/
LOCATION:High Desert America’s Job Center\, 17310 Bear Valley Rd.\, Suite 109\, Victorville\, CA\, 92395\, United States
CATEGORIES:AJCC - High Desert,Job Seeker Workshops
GEO:34.4720748;-117.2842146
X-APPLE-STRUCTURED-LOCATION;VALUE=URI;X-ADDRESS=High Desert America’s Job Center 17310 Bear Valley Rd. Suite 109 Victorville CA 92395 United States;X-APPLE-RADIUS=500;X-TITLE=17310 Bear Valley Rd.\, Suite 109:geo:-117.2842146,34.4720748
END:VEVENT
BEGIN:VEVENT
DTSTART;TZID=America/Denver:20190612T090000
DTEND;TZID=America/Denver:20190612T153000
DTSTAMP:20260424T041807
CREATED:20190430T001551Z
LAST-MODIFIED:20190430T001551Z
UID:10011534-1560330000-1560353400@workforce.sbcounty.gov
SUMMARY:Professional Edge
DESCRIPTION:See Reception to make an appointment. Please check in 15 minutes before the start of the workshop.
URL:https://workforce.sbcounty.gov/event/professional-edge-workshop-12/2019-06-12/
LOCATION:High Desert America’s Job Center\, 17310 Bear Valley Rd.\, Suite 109\, Victorville\, CA\, 92395\, United States
CATEGORIES:AJCC - High Desert,Job Seeker Workshops
GEO:34.4720748;-117.2842146
X-APPLE-STRUCTURED-LOCATION;VALUE=URI;X-ADDRESS=High Desert America’s Job Center 17310 Bear Valley Rd. Suite 109 Victorville CA 92395 United States;X-APPLE-RADIUS=500;X-TITLE=17310 Bear Valley Rd.\, Suite 109:geo:-117.2842146,34.4720748
END:VEVENT
BEGIN:VEVENT
DTSTART;TZID=America/Denver:20190611T080000
DTEND;TZID=America/Denver:20190611T170000
DTSTAMP:20260424T041807
CREATED:20190430T000822Z
LAST-MODIFIED:20190430T000822Z
UID:10011474-1560240000-1560272400@workforce.sbcounty.gov
SUMMARY:STEPS
DESCRIPTION:See Reception to make an appointment. Please check in 15 minutes before the start of the workshop.
URL:https://workforce.sbcounty.gov/event/steps-workshop-12/2019-06-11/
LOCATION:High Desert America’s Job Center\, 17310 Bear Valley Rd.\, Suite 109\, Victorville\, CA\, 92395\, United States
CATEGORIES:AJCC - High Desert,Job Seeker Workshops
GEO:34.4720748;-117.2842146
X-APPLE-STRUCTURED-LOCATION;VALUE=URI;X-ADDRESS=High Desert America’s Job Center 17310 Bear Valley Rd. Suite 109 Victorville CA 92395 United States;X-APPLE-RADIUS=500;X-TITLE=17310 Bear Valley Rd.\, Suite 109:geo:-117.2842146,34.4720748
END:VEVENT
BEGIN:VEVENT
DTSTART;TZID=America/Denver:20190610T130000
DTEND;TZID=America/Denver:20190610T150000
DTSTAMP:20260424T041807
CREATED:20190430T001248Z
LAST-MODIFIED:20190430T001248Z
UID:10011522-1560171600-1560178800@workforce.sbcounty.gov
SUMMARY:How to apply for a State Job
DESCRIPTION:See Reception to make an appointment. Please check in 15 minutes before the start of the workshop.
URL:https://workforce.sbcounty.gov/event/how-to-apply-for-a-state-job/2019-06-10/
LOCATION:High Desert America’s Job Center\, 17310 Bear Valley Rd.\, Suite 109\, Victorville\, CA\, 92395\, United States
CATEGORIES:AJCC - High Desert,Job Seeker Workshops
GEO:34.4720748;-117.2842146
X-APPLE-STRUCTURED-LOCATION;VALUE=URI;X-ADDRESS=High Desert America’s Job Center 17310 Bear Valley Rd. Suite 109 Victorville CA 92395 United States;X-APPLE-RADIUS=500;X-TITLE=17310 Bear Valley Rd.\, Suite 109:geo:-117.2842146,34.4720748
END:VEVENT
BEGIN:VEVENT
DTSTART;TZID=America/Denver:20190610T080000
DTEND;TZID=America/Denver:20190610T170000
DTSTAMP:20260424T041807
CREATED:20190430T000822Z
LAST-MODIFIED:20190430T000822Z
UID:10011471-1560153600-1560186000@workforce.sbcounty.gov
SUMMARY:STEPS
DESCRIPTION:See Reception to make an appointment. Please check in 15 minutes before the start of the workshop.
URL:https://workforce.sbcounty.gov/event/steps-workshop-12/2019-06-10/
LOCATION:High Desert America’s Job Center\, 17310 Bear Valley Rd.\, Suite 109\, Victorville\, CA\, 92395\, United States
CATEGORIES:AJCC - High Desert,Job Seeker Workshops
GEO:34.4720748;-117.2842146
X-APPLE-STRUCTURED-LOCATION;VALUE=URI;X-ADDRESS=High Desert America’s Job Center 17310 Bear Valley Rd. Suite 109 Victorville CA 92395 United States;X-APPLE-RADIUS=500;X-TITLE=17310 Bear Valley Rd.\, Suite 109:geo:-117.2842146,34.4720748
END:VEVENT
BEGIN:VEVENT
DTSTART;TZID=America/Denver:20190605T090000
DTEND;TZID=America/Denver:20190605T153000
DTSTAMP:20260424T041807
CREATED:20190430T001551Z
LAST-MODIFIED:20190430T001551Z
UID:10011531-1559725200-1559748600@workforce.sbcounty.gov
SUMMARY:Professional Edge
DESCRIPTION:See Reception to make an appointment. Please check in 15 minutes before the start of the workshop.
URL:https://workforce.sbcounty.gov/event/professional-edge-workshop-12/2019-06-05/
LOCATION:High Desert America’s Job Center\, 17310 Bear Valley Rd.\, Suite 109\, Victorville\, CA\, 92395\, United States
CATEGORIES:AJCC - High Desert,Job Seeker Workshops
GEO:34.4720748;-117.2842146
X-APPLE-STRUCTURED-LOCATION;VALUE=URI;X-ADDRESS=High Desert America’s Job Center 17310 Bear Valley Rd. Suite 109 Victorville CA 92395 United States;X-APPLE-RADIUS=500;X-TITLE=17310 Bear Valley Rd.\, Suite 109:geo:-117.2842146,34.4720748
END:VEVENT
BEGIN:VEVENT
DTSTART;TZID=America/Denver:20190603T130000
DTEND;TZID=America/Denver:20190603T150000
DTSTAMP:20260424T041807
CREATED:20190430T000619Z
LAST-MODIFIED:20190430T000619Z
UID:10011462-1559566800-1559574000@workforce.sbcounty.gov
SUMMARY:Resume 2.0 Workshop
DESCRIPTION:See Reception to make an appointment. Please check in 15 minutes before the start of the workshop.
URL:https://workforce.sbcounty.gov/event/build-my-resume-workshop/2019-06-03/
LOCATION:High Desert America’s Job Center\, 17310 Bear Valley Rd.\, Suite 109\, Victorville\, CA\, 92395\, United States
CATEGORIES:AJCC - High Desert,Job Seeker Workshops
GEO:34.4720748;-117.2842146
X-APPLE-STRUCTURED-LOCATION;VALUE=URI;X-ADDRESS=High Desert America’s Job Center 17310 Bear Valley Rd. Suite 109 Victorville CA 92395 United States;X-APPLE-RADIUS=500;X-TITLE=17310 Bear Valley Rd.\, Suite 109:geo:-117.2842146,34.4720748
END:VEVENT
BEGIN:VEVENT
DTSTART;TZID=America/Denver:20190528T133000
DTEND;TZID=America/Denver:20190528T153000
DTSTAMP:20260424T041807
CREATED:20190411T221714Z
LAST-MODIFIED:20190411T221714Z
UID:10012914-1559050200-1559057400@workforce.sbcounty.gov
SUMMARY:How to Indeed/Glassdoor
DESCRIPTION:See Reception to make an appointment. Please check in 15 minutes before the start of the workshop.
URL:https://workforce.sbcounty.gov/event/how-to-indeed-glassdoor/2019-05-28/
LOCATION:High Desert America’s Job Center\, 17310 Bear Valley Rd.\, Suite 109\, Victorville\, CA\, 92395\, United States
CATEGORIES:AJCC - High Desert,Job Seeker Workshops
GEO:34.4720748;-117.2842146
X-APPLE-STRUCTURED-LOCATION;VALUE=URI;X-ADDRESS=High Desert America’s Job Center 17310 Bear Valley Rd. Suite 109 Victorville CA 92395 United States;X-APPLE-RADIUS=500;X-TITLE=17310 Bear Valley Rd.\, Suite 109:geo:-117.2842146,34.4720748
END:VEVENT
BEGIN:VEVENT
DTSTART;TZID=America/Denver:20190523T133000
DTEND;TZID=America/Denver:20190523T153000
DTSTAMP:20260424T041807
CREATED:20190411T222024Z
LAST-MODIFIED:20190411T222024Z
UID:10011444-1558618200-1558625400@workforce.sbcounty.gov
SUMMARY:How to get a SB County Job
DESCRIPTION:See Reception to make an appointment. Please check in 15 minutes before the start of the workshop.
URL:https://workforce.sbcounty.gov/event/how-to-get-a-sb-county-job/2019-05-23/
LOCATION:High Desert America’s Job Center\, 17310 Bear Valley Rd.\, Suite 109\, Victorville\, CA\, 92395\, United States
CATEGORIES:AJCC - High Desert,Job Seeker Workshops
GEO:34.4720748;-117.2842146
X-APPLE-STRUCTURED-LOCATION;VALUE=URI;X-ADDRESS=High Desert America’s Job Center 17310 Bear Valley Rd. Suite 109 Victorville CA 92395 United States;X-APPLE-RADIUS=500;X-TITLE=17310 Bear Valley Rd.\, Suite 109:geo:-117.2842146,34.4720748
END:VEVENT
BEGIN:VEVENT
DTSTART;TZID=America/Denver:20190520T130000
DTEND;TZID=America/Denver:20190520T160000
DTSTAMP:20260424T041807
CREATED:20190411T221343Z
LAST-MODIFIED:20190411T221343Z
UID:10012905-1558357200-1558368000@workforce.sbcounty.gov
SUMMARY:Build My Resume
DESCRIPTION:See Reception to make an appointment. Please check in 15 minutes before the start of the workshop.
URL:https://workforce.sbcounty.gov/event/build-my-resume/2019-05-20/
LOCATION:High Desert America’s Job Center\, 17310 Bear Valley Rd.\, Suite 109\, Victorville\, CA\, 92395\, United States
CATEGORIES:AJCC - High Desert,Job Seeker Workshops
GEO:34.4720748;-117.2842146
X-APPLE-STRUCTURED-LOCATION;VALUE=URI;X-ADDRESS=High Desert America’s Job Center 17310 Bear Valley Rd. Suite 109 Victorville CA 92395 United States;X-APPLE-RADIUS=500;X-TITLE=17310 Bear Valley Rd.\, Suite 109:geo:-117.2842146,34.4720748
END:VEVENT
BEGIN:VEVENT
DTSTART;TZID=America/Denver:20190516T090000
DTEND;TZID=America/Denver:20190516T100000
DTSTAMP:20260424T041807
CREATED:20190411T221135Z
LAST-MODIFIED:20190411T221135Z
UID:10012899-1557997200-1558000800@workforce.sbcounty.gov
SUMMARY:Monster Workshop
DESCRIPTION:See Reception to make an appointment. Please check in 15 minutes before the start of the workshop.
URL:https://workforce.sbcounty.gov/event/monster-workshop-31/2019-05-16/
LOCATION:High Desert America’s Job Center\, 17310 Bear Valley Rd.\, Suite 109\, Victorville\, CA\, 92395\, United States
CATEGORIES:AJCC - High Desert,Job Seeker Workshops
GEO:34.4720748;-117.2842146
X-APPLE-STRUCTURED-LOCATION;VALUE=URI;X-ADDRESS=High Desert America’s Job Center 17310 Bear Valley Rd. Suite 109 Victorville CA 92395 United States;X-APPLE-RADIUS=500;X-TITLE=17310 Bear Valley Rd.\, Suite 109:geo:-117.2842146,34.4720748
END:VEVENT
BEGIN:VEVENT
DTSTART;TZID=America/Denver:20190514T133000
DTEND;TZID=America/Denver:20190514T153000
DTSTAMP:20260424T041807
CREATED:20190411T221714Z
LAST-MODIFIED:20190411T221714Z
UID:10012911-1557840600-1557847800@workforce.sbcounty.gov
SUMMARY:How to Indeed/Glassdoor
DESCRIPTION:See Reception to make an appointment. Please check in 15 minutes before the start of the workshop.
URL:https://workforce.sbcounty.gov/event/how-to-indeed-glassdoor/2019-05-14/
LOCATION:High Desert America’s Job Center\, 17310 Bear Valley Rd.\, Suite 109\, Victorville\, CA\, 92395\, United States
CATEGORIES:AJCC - High Desert,Job Seeker Workshops
GEO:34.4720748;-117.2842146
X-APPLE-STRUCTURED-LOCATION;VALUE=URI;X-ADDRESS=High Desert America’s Job Center 17310 Bear Valley Rd. Suite 109 Victorville CA 92395 United States;X-APPLE-RADIUS=500;X-TITLE=17310 Bear Valley Rd.\, Suite 109:geo:-117.2842146,34.4720748
END:VEVENT
BEGIN:VEVENT
DTSTART;TZID=America/Denver:20190514T080000
DTEND;TZID=America/Denver:20190514T170000
DTSTAMP:20260424T041807
CREATED:20190411T221542Z
LAST-MODIFIED:20190411T221542Z
UID:10012908-1557820800-1557853200@workforce.sbcounty.gov
SUMMARY:STEPS Workshop
DESCRIPTION:See Reception to make an appointment. Please check in 15 minutes before the start of the workshop.
URL:https://workforce.sbcounty.gov/event/steps-workshop-11/
LOCATION:High Desert America’s Job Center\, 17310 Bear Valley Rd.\, Suite 109\, Victorville\, CA\, 92395\, United States
CATEGORIES:AJCC - High Desert,Job Seeker Workshops
GEO:34.4720748;-117.2842146
X-APPLE-STRUCTURED-LOCATION;VALUE=URI;X-ADDRESS=High Desert America’s Job Center 17310 Bear Valley Rd. Suite 109 Victorville CA 92395 United States;X-APPLE-RADIUS=500;X-TITLE=17310 Bear Valley Rd.\, Suite 109:geo:-117.2842146,34.4720748
END:VEVENT
BEGIN:VEVENT
DTSTART;TZID=America/Denver:20190509T133000
DTEND;TZID=America/Denver:20190509T153000
DTSTAMP:20260424T041807
CREATED:20190411T222024Z
LAST-MODIFIED:20190411T222024Z
UID:10011441-1557408600-1557415800@workforce.sbcounty.gov
SUMMARY:How to get a SB County Job
DESCRIPTION:See Reception to make an appointment. Please check in 15 minutes before the start of the workshop.
URL:https://workforce.sbcounty.gov/event/how-to-get-a-sb-county-job/2019-05-09/
LOCATION:High Desert America’s Job Center\, 17310 Bear Valley Rd.\, Suite 109\, Victorville\, CA\, 92395\, United States
CATEGORIES:AJCC - High Desert,Job Seeker Workshops
GEO:34.4720748;-117.2842146
X-APPLE-STRUCTURED-LOCATION;VALUE=URI;X-ADDRESS=High Desert America’s Job Center 17310 Bear Valley Rd. Suite 109 Victorville CA 92395 United States;X-APPLE-RADIUS=500;X-TITLE=17310 Bear Valley Rd.\, Suite 109:geo:-117.2842146,34.4720748
END:VEVENT
BEGIN:VEVENT
DTSTART;TZID=America/Denver:20190506T130000
DTEND;TZID=America/Denver:20190506T160000
DTSTAMP:20260424T041807
CREATED:20190411T221343Z
LAST-MODIFIED:20190411T221343Z
UID:10012902-1557147600-1557158400@workforce.sbcounty.gov
SUMMARY:Build My Resume
DESCRIPTION:See Reception to make an appointment. Please check in 15 minutes before the start of the workshop.
URL:https://workforce.sbcounty.gov/event/build-my-resume/2019-05-06/
LOCATION:High Desert America’s Job Center\, 17310 Bear Valley Rd.\, Suite 109\, Victorville\, CA\, 92395\, United States
CATEGORIES:AJCC - High Desert,Job Seeker Workshops
GEO:34.4720748;-117.2842146
X-APPLE-STRUCTURED-LOCATION;VALUE=URI;X-ADDRESS=High Desert America’s Job Center 17310 Bear Valley Rd. Suite 109 Victorville CA 92395 United States;X-APPLE-RADIUS=500;X-TITLE=17310 Bear Valley Rd.\, Suite 109:geo:-117.2842146,34.4720748
END:VEVENT
END:VCALENDAR