BEGIN:VCALENDAR
VERSION:2.0
PRODID:-//Workforce Development - ECPv6.15.14//NONSGML v1.0//EN
CALSCALE:GREGORIAN
METHOD:PUBLISH
X-WR-CALNAME:Workforce Development
X-ORIGINAL-URL:https://workforce.sbcounty.gov
X-WR-CALDESC:Events for Workforce Development
REFRESH-INTERVAL;VALUE=DURATION:PT1H
X-Robots-Tag:noindex
X-PUBLISHED-TTL:PT1H
BEGIN:VTIMEZONE
TZID:America/Denver
BEGIN:DAYLIGHT
TZOFFSETFROM:-0700
TZOFFSETTO:-0600
TZNAME:MDT
DTSTART:20180311T090000
END:DAYLIGHT
BEGIN:STANDARD
TZOFFSETFROM:-0600
TZOFFSETTO:-0700
TZNAME:MST
DTSTART:20181104T080000
END:STANDARD
BEGIN:DAYLIGHT
TZOFFSETFROM:-0700
TZOFFSETTO:-0600
TZNAME:MDT
DTSTART:20190310T090000
END:DAYLIGHT
BEGIN:STANDARD
TZOFFSETFROM:-0600
TZOFFSETTO:-0700
TZNAME:MST
DTSTART:20191103T080000
END:STANDARD
BEGIN:DAYLIGHT
TZOFFSETFROM:-0700
TZOFFSETTO:-0600
TZNAME:MDT
DTSTART:20200308T090000
END:DAYLIGHT
BEGIN:STANDARD
TZOFFSETFROM:-0600
TZOFFSETTO:-0700
TZNAME:MST
DTSTART:20201101T080000
END:STANDARD
END:VTIMEZONE
BEGIN:VEVENT
DTSTART;TZID=America/Denver:20191104T130000
DTEND;TZID=America/Denver:20191104T150000
DTSTAMP:20260424T070929
CREATED:20191031T205613Z
LAST-MODIFIED:20191031T205613Z
UID:10013904-1572872400-1572879600@workforce.sbcounty.gov
SUMMARY:Resume 2.0
DESCRIPTION:See Reception to make an appointment. Please check in 15 minutes before the start of the workshop.
URL:https://workforce.sbcounty.gov/event/resume-2-0-3/2019-11-04/
LOCATION:High Desert America’s Job Center\, 17310 Bear Valley Rd.\, Suite 109\, Victorville\, CA\, 92395\, United States
CATEGORIES:AJCC - High Desert,Job Seeker Workshops
GEO:34.4720748;-117.2842146
X-APPLE-STRUCTURED-LOCATION;VALUE=URI;X-ADDRESS=High Desert America’s Job Center 17310 Bear Valley Rd. Suite 109 Victorville CA 92395 United States;X-APPLE-RADIUS=500;X-TITLE=17310 Bear Valley Rd.\, Suite 109:geo:-117.2842146,34.4720748
END:VEVENT
BEGIN:VEVENT
DTSTART;TZID=America/Denver:20191104T080000
DTEND;TZID=America/Denver:20191104T160000
DTSTAMP:20260424T070929
CREATED:20191031T205809Z
LAST-MODIFIED:20191031T205809Z
UID:10013922-1572854400-1572883200@workforce.sbcounty.gov
SUMMARY:STEPS
DESCRIPTION:See Reception to make an appointment. Please check in 15 minutes before the start of the workshop.
URL:https://workforce.sbcounty.gov/event/steps-16/2019-11-04/
LOCATION:High Desert America’s Job Center\, 17310 Bear Valley Rd.\, Suite 109\, Victorville\, CA\, 92395\, United States
CATEGORIES:AJCC - High Desert,Job Seeker Workshops
GEO:34.4720748;-117.2842146
X-APPLE-STRUCTURED-LOCATION;VALUE=URI;X-ADDRESS=High Desert America’s Job Center 17310 Bear Valley Rd. Suite 109 Victorville CA 92395 United States;X-APPLE-RADIUS=500;X-TITLE=17310 Bear Valley Rd.\, Suite 109:geo:-117.2842146,34.4720748
END:VEVENT
BEGIN:VEVENT
DTSTART;TZID=America/Denver:20191028T130000
DTEND;TZID=America/Denver:20191028T150000
DTSTAMP:20260424T070929
CREATED:20190725T223351Z
LAST-MODIFIED:20190725T223351Z
UID:10013838-1572267600-1572274800@workforce.sbcounty.gov
SUMMARY:How to apply for a State Job
DESCRIPTION:See Reception to make an appointment. Please check in 15 minutes before the start of the workshop.
URL:https://workforce.sbcounty.gov/event/how-to-apply-for-a-state-job-3/2019-10-28/
LOCATION:High Desert America’s Job Center\, 17310 Bear Valley Rd.\, Suite 109\, Victorville\, CA\, 92395\, United States
CATEGORIES:AJCC - High Desert,Job Seeker Workshops
GEO:34.4720748;-117.2842146
X-APPLE-STRUCTURED-LOCATION;VALUE=URI;X-ADDRESS=High Desert America’s Job Center 17310 Bear Valley Rd. Suite 109 Victorville CA 92395 United States;X-APPLE-RADIUS=500;X-TITLE=17310 Bear Valley Rd.\, Suite 109:geo:-117.2842146,34.4720748
END:VEVENT
BEGIN:VEVENT
DTSTART;TZID=America/Denver:20191024T133000
DTEND;TZID=America/Denver:20191024T153000
DTSTAMP:20260424T070929
CREATED:20190725T223226Z
LAST-MODIFIED:20190725T223226Z
UID:10013805-1571923800-1571931000@workforce.sbcounty.gov
SUMMARY:How to get a County Job
DESCRIPTION:See Reception to make an appointment. Please check in 15 minutes before the start of the workshop.
URL:https://workforce.sbcounty.gov/event/how-to-get-a-county-job-3/2019-10-24/
LOCATION:High Desert America’s Job Center\, 17310 Bear Valley Rd.\, Suite 109\, Victorville\, CA\, 92395\, United States
CATEGORIES:AJCC - High Desert,Job Seeker Workshops
GEO:34.4720748;-117.2842146
X-APPLE-STRUCTURED-LOCATION;VALUE=URI;X-ADDRESS=High Desert America’s Job Center 17310 Bear Valley Rd. Suite 109 Victorville CA 92395 United States;X-APPLE-RADIUS=500;X-TITLE=17310 Bear Valley Rd.\, Suite 109:geo:-117.2842146,34.4720748
END:VEVENT
BEGIN:VEVENT
DTSTART;TZID=America/Denver:20191023T133000
DTEND;TZID=America/Denver:20191023T153000
DTSTAMP:20260424T070929
CREATED:20190606T154649Z
LAST-MODIFIED:20190606T154649Z
UID:10013178-1571837400-1571844600@workforce.sbcounty.gov
SUMMARY:How to Job Search using Indeed/Glassdoor
DESCRIPTION:See Reception to make an appointment. Please check in 15 minutes before the start of the workshop.
URL:https://workforce.sbcounty.gov/event/how-to-job-search-using-indeed-glassdoor/2019-10-23/
LOCATION:High Desert America’s Job Center\, 17310 Bear Valley Rd.\, Suite 109\, Victorville\, CA\, 92395\, United States
CATEGORIES:AJCC - High Desert,Job Seeker Workshops
GEO:34.4720748;-117.2842146
X-APPLE-STRUCTURED-LOCATION;VALUE=URI;X-ADDRESS=High Desert America’s Job Center 17310 Bear Valley Rd. Suite 109 Victorville CA 92395 United States;X-APPLE-RADIUS=500;X-TITLE=17310 Bear Valley Rd.\, Suite 109:geo:-117.2842146,34.4720748
END:VEVENT
BEGIN:VEVENT
DTSTART;TZID=America/Denver:20191017T130000
DTEND;TZID=America/Denver:20191017T150000
DTSTAMP:20260424T070929
CREATED:20190725T222919Z
LAST-MODIFIED:20190725T222919Z
UID:10013757-1571317200-1571324400@workforce.sbcounty.gov
SUMMARY:Resume 1.0
DESCRIPTION:See Reception to make an appointment. Please check in 15 minutes before the start of the workshop.
URL:https://workforce.sbcounty.gov/event/resume-1-0-2/2019-10-17/
LOCATION:High Desert America’s Job Center\, 17310 Bear Valley Rd.\, Suite 109\, Victorville\, CA\, 92395\, United States
CATEGORIES:AJCC - High Desert,Job Seeker Workshops
GEO:34.4720748;-117.2842146
X-APPLE-STRUCTURED-LOCATION;VALUE=URI;X-ADDRESS=High Desert America’s Job Center 17310 Bear Valley Rd. Suite 109 Victorville CA 92395 United States;X-APPLE-RADIUS=500;X-TITLE=17310 Bear Valley Rd.\, Suite 109:geo:-117.2842146,34.4720748
END:VEVENT
BEGIN:VEVENT
DTSTART;TZID=America/Denver:20191010T133000
DTEND;TZID=America/Denver:20191010T153000
DTSTAMP:20260424T070929
CREATED:20190725T223226Z
LAST-MODIFIED:20190725T223226Z
UID:10013802-1570714200-1570721400@workforce.sbcounty.gov
SUMMARY:How to get a County Job
DESCRIPTION:See Reception to make an appointment. Please check in 15 minutes before the start of the workshop.
URL:https://workforce.sbcounty.gov/event/how-to-get-a-county-job-3/2019-10-10/
LOCATION:High Desert America’s Job Center\, 17310 Bear Valley Rd.\, Suite 109\, Victorville\, CA\, 92395\, United States
CATEGORIES:AJCC - High Desert,Job Seeker Workshops
GEO:34.4720748;-117.2842146
X-APPLE-STRUCTURED-LOCATION;VALUE=URI;X-ADDRESS=High Desert America’s Job Center 17310 Bear Valley Rd. Suite 109 Victorville CA 92395 United States;X-APPLE-RADIUS=500;X-TITLE=17310 Bear Valley Rd.\, Suite 109:geo:-117.2842146,34.4720748
END:VEVENT
BEGIN:VEVENT
DTSTART;TZID=America/Denver:20191003T130000
DTEND;TZID=America/Denver:20191003T150000
DTSTAMP:20260424T070929
CREATED:20190725T222919Z
LAST-MODIFIED:20190725T222919Z
UID:10013754-1570107600-1570114800@workforce.sbcounty.gov
SUMMARY:Resume 1.0
DESCRIPTION:See Reception to make an appointment. Please check in 15 minutes before the start of the workshop.
URL:https://workforce.sbcounty.gov/event/resume-1-0-2/2019-10-03/
LOCATION:High Desert America’s Job Center\, 17310 Bear Valley Rd.\, Suite 109\, Victorville\, CA\, 92395\, United States
CATEGORIES:AJCC - High Desert,Job Seeker Workshops
GEO:34.4720748;-117.2842146
X-APPLE-STRUCTURED-LOCATION;VALUE=URI;X-ADDRESS=High Desert America’s Job Center 17310 Bear Valley Rd. Suite 109 Victorville CA 92395 United States;X-APPLE-RADIUS=500;X-TITLE=17310 Bear Valley Rd.\, Suite 109:geo:-117.2842146,34.4720748
END:VEVENT
BEGIN:VEVENT
DTSTART;TZID=America/Denver:20190826T130000
DTEND;TZID=America/Denver:20190826T150000
DTSTAMP:20260424T070929
CREATED:20190725T223351Z
LAST-MODIFIED:20190725T223351Z
UID:10013835-1566824400-1566831600@workforce.sbcounty.gov
SUMMARY:How to apply for a State Job
DESCRIPTION:See Reception to make an appointment. Please check in 15 minutes before the start of the workshop.
URL:https://workforce.sbcounty.gov/event/how-to-apply-for-a-state-job-3/2019-08-26/
LOCATION:High Desert America’s Job Center\, 17310 Bear Valley Rd.\, Suite 109\, Victorville\, CA\, 92395\, United States
CATEGORIES:AJCC - High Desert,Job Seeker Workshops
GEO:34.4720748;-117.2842146
X-APPLE-STRUCTURED-LOCATION;VALUE=URI;X-ADDRESS=High Desert America’s Job Center 17310 Bear Valley Rd. Suite 109 Victorville CA 92395 United States;X-APPLE-RADIUS=500;X-TITLE=17310 Bear Valley Rd.\, Suite 109:geo:-117.2842146,34.4720748
END:VEVENT
BEGIN:VEVENT
DTSTART;TZID=America/Denver:20190822T133000
DTEND;TZID=America/Denver:20190822T153000
DTSTAMP:20260424T070929
CREATED:20190725T223226Z
LAST-MODIFIED:20190725T223226Z
UID:10013799-1566480600-1566487800@workforce.sbcounty.gov
SUMMARY:How to get a County Job
DESCRIPTION:See Reception to make an appointment. Please check in 15 minutes before the start of the workshop.
URL:https://workforce.sbcounty.gov/event/how-to-get-a-county-job-3/2019-08-22/
LOCATION:High Desert America’s Job Center\, 17310 Bear Valley Rd.\, Suite 109\, Victorville\, CA\, 92395\, United States
CATEGORIES:AJCC - High Desert,Job Seeker Workshops
GEO:34.4720748;-117.2842146
X-APPLE-STRUCTURED-LOCATION;VALUE=URI;X-ADDRESS=High Desert America’s Job Center 17310 Bear Valley Rd. Suite 109 Victorville CA 92395 United States;X-APPLE-RADIUS=500;X-TITLE=17310 Bear Valley Rd.\, Suite 109:geo:-117.2842146,34.4720748
END:VEVENT
BEGIN:VEVENT
DTSTART;TZID=America/Denver:20190819T130000
DTEND;TZID=America/Denver:20190819T150000
DTSTAMP:20260424T070929
CREATED:20190725T223051Z
LAST-MODIFIED:20190725T223051Z
UID:10013787-1566219600-1566226800@workforce.sbcounty.gov
SUMMARY:Resume 2.0
DESCRIPTION:See Reception to make an appointment. Please check in 15 minutes before the start of the workshop.
URL:https://workforce.sbcounty.gov/event/resume-2-0-2/2019-08-19/
LOCATION:High Desert America’s Job Center\, 17310 Bear Valley Rd.\, Suite 109\, Victorville\, CA\, 92395\, United States
CATEGORIES:AJCC - High Desert,Job Seeker Workshops
GEO:34.4720748;-117.2842146
X-APPLE-STRUCTURED-LOCATION;VALUE=URI;X-ADDRESS=High Desert America’s Job Center 17310 Bear Valley Rd. Suite 109 Victorville CA 92395 United States;X-APPLE-RADIUS=500;X-TITLE=17310 Bear Valley Rd.\, Suite 109:geo:-117.2842146,34.4720748
END:VEVENT
BEGIN:VEVENT
DTSTART;TZID=America/Denver:20190815T130000
DTEND;TZID=America/Denver:20190815T150000
DTSTAMP:20260424T070929
CREATED:20190725T222919Z
LAST-MODIFIED:20190725T222919Z
UID:10013751-1565874000-1565881200@workforce.sbcounty.gov
SUMMARY:Resume 1.0
DESCRIPTION:See Reception to make an appointment. Please check in 15 minutes before the start of the workshop.
URL:https://workforce.sbcounty.gov/event/resume-1-0-2/2019-08-15/
LOCATION:High Desert America’s Job Center\, 17310 Bear Valley Rd.\, Suite 109\, Victorville\, CA\, 92395\, United States
CATEGORIES:AJCC - High Desert,Job Seeker Workshops
GEO:34.4720748;-117.2842146
X-APPLE-STRUCTURED-LOCATION;VALUE=URI;X-ADDRESS=High Desert America’s Job Center 17310 Bear Valley Rd. Suite 109 Victorville CA 92395 United States;X-APPLE-RADIUS=500;X-TITLE=17310 Bear Valley Rd.\, Suite 109:geo:-117.2842146,34.4720748
END:VEVENT
BEGIN:VEVENT
DTSTART;TZID=America/Denver:20190813T080000
DTEND;TZID=America/Denver:20190813T160000
DTSTAMP:20260424T070929
CREATED:20190725T223517Z
LAST-MODIFIED:20190725T223517Z
UID:10013871-1565683200-1565712000@workforce.sbcounty.gov
SUMMARY:STEPS
DESCRIPTION:See Reception to make an appointment. Please check in 15 minutes before the start of the workshop.
URL:https://workforce.sbcounty.gov/event/steps-15/2019-08-13/
LOCATION:High Desert America’s Job Center\, 17310 Bear Valley Rd.\, Suite 109\, Victorville\, CA\, 92395\, United States
CATEGORIES:AJCC - High Desert,Job Seeker Workshops
GEO:34.4720748;-117.2842146
X-APPLE-STRUCTURED-LOCATION;VALUE=URI;X-ADDRESS=High Desert America’s Job Center 17310 Bear Valley Rd. Suite 109 Victorville CA 92395 United States;X-APPLE-RADIUS=500;X-TITLE=17310 Bear Valley Rd.\, Suite 109:geo:-117.2842146,34.4720748
END:VEVENT
BEGIN:VEVENT
DTSTART;TZID=America/Denver:20190812T130000
DTEND;TZID=America/Denver:20190812T150000
DTSTAMP:20260424T070929
CREATED:20190725T223351Z
LAST-MODIFIED:20190725T223351Z
UID:10013832-1565614800-1565622000@workforce.sbcounty.gov
SUMMARY:How to apply for a State Job
DESCRIPTION:See Reception to make an appointment. Please check in 15 minutes before the start of the workshop.
URL:https://workforce.sbcounty.gov/event/how-to-apply-for-a-state-job-3/2019-08-12/
LOCATION:High Desert America’s Job Center\, 17310 Bear Valley Rd.\, Suite 109\, Victorville\, CA\, 92395\, United States
CATEGORIES:AJCC - High Desert,Job Seeker Workshops
GEO:34.4720748;-117.2842146
X-APPLE-STRUCTURED-LOCATION;VALUE=URI;X-ADDRESS=High Desert America’s Job Center 17310 Bear Valley Rd. Suite 109 Victorville CA 92395 United States;X-APPLE-RADIUS=500;X-TITLE=17310 Bear Valley Rd.\, Suite 109:geo:-117.2842146,34.4720748
END:VEVENT
BEGIN:VEVENT
DTSTART;TZID=America/Denver:20190812T080000
DTEND;TZID=America/Denver:20190812T160000
DTSTAMP:20260424T070929
CREATED:20190725T223517Z
LAST-MODIFIED:20190725T223517Z
UID:10013868-1565596800-1565625600@workforce.sbcounty.gov
SUMMARY:STEPS
DESCRIPTION:See Reception to make an appointment. Please check in 15 minutes before the start of the workshop.
URL:https://workforce.sbcounty.gov/event/steps-15/2019-08-12/
LOCATION:High Desert America’s Job Center\, 17310 Bear Valley Rd.\, Suite 109\, Victorville\, CA\, 92395\, United States
CATEGORIES:AJCC - High Desert,Job Seeker Workshops
GEO:34.4720748;-117.2842146
X-APPLE-STRUCTURED-LOCATION;VALUE=URI;X-ADDRESS=High Desert America’s Job Center 17310 Bear Valley Rd. Suite 109 Victorville CA 92395 United States;X-APPLE-RADIUS=500;X-TITLE=17310 Bear Valley Rd.\, Suite 109:geo:-117.2842146,34.4720748
END:VEVENT
BEGIN:VEVENT
DTSTART;TZID=America/Denver:20190808T133000
DTEND;TZID=America/Denver:20190808T153000
DTSTAMP:20260424T070929
CREATED:20190725T223226Z
LAST-MODIFIED:20190725T223226Z
UID:10013796-1565271000-1565278200@workforce.sbcounty.gov
SUMMARY:How to get a County Job
DESCRIPTION:See Reception to make an appointment. Please check in 15 minutes before the start of the workshop.
URL:https://workforce.sbcounty.gov/event/how-to-get-a-county-job-3/2019-08-08/
LOCATION:High Desert America’s Job Center\, 17310 Bear Valley Rd.\, Suite 109\, Victorville\, CA\, 92395\, United States
CATEGORIES:AJCC - High Desert,Job Seeker Workshops
GEO:34.4720748;-117.2842146
X-APPLE-STRUCTURED-LOCATION;VALUE=URI;X-ADDRESS=High Desert America’s Job Center 17310 Bear Valley Rd. Suite 109 Victorville CA 92395 United States;X-APPLE-RADIUS=500;X-TITLE=17310 Bear Valley Rd.\, Suite 109:geo:-117.2842146,34.4720748
END:VEVENT
BEGIN:VEVENT
DTSTART;TZID=America/Denver:20190805T130000
DTEND;TZID=America/Denver:20190805T150000
DTSTAMP:20260424T070929
CREATED:20190725T223051Z
LAST-MODIFIED:20190725T223051Z
UID:10013784-1565010000-1565017200@workforce.sbcounty.gov
SUMMARY:Resume 2.0
DESCRIPTION:See Reception to make an appointment. Please check in 15 minutes before the start of the workshop.
URL:https://workforce.sbcounty.gov/event/resume-2-0-2/2019-08-05/
LOCATION:High Desert America’s Job Center\, 17310 Bear Valley Rd.\, Suite 109\, Victorville\, CA\, 92395\, United States
CATEGORIES:AJCC - High Desert,Job Seeker Workshops
GEO:34.4720748;-117.2842146
X-APPLE-STRUCTURED-LOCATION;VALUE=URI;X-ADDRESS=High Desert America’s Job Center 17310 Bear Valley Rd. Suite 109 Victorville CA 92395 United States;X-APPLE-RADIUS=500;X-TITLE=17310 Bear Valley Rd.\, Suite 109:geo:-117.2842146,34.4720748
END:VEVENT
BEGIN:VEVENT
DTSTART;TZID=America/Denver:20190801T130000
DTEND;TZID=America/Denver:20190801T150000
DTSTAMP:20260424T070929
CREATED:20190725T222919Z
LAST-MODIFIED:20190725T222919Z
UID:10013748-1564664400-1564671600@workforce.sbcounty.gov
SUMMARY:Resume 1.0
DESCRIPTION:See Reception to make an appointment. Please check in 15 minutes before the start of the workshop.
URL:https://workforce.sbcounty.gov/event/resume-1-0-2/2019-08-01/
LOCATION:High Desert America’s Job Center\, 17310 Bear Valley Rd.\, Suite 109\, Victorville\, CA\, 92395\, United States
CATEGORIES:AJCC - High Desert,Job Seeker Workshops
GEO:34.4720748;-117.2842146
X-APPLE-STRUCTURED-LOCATION;VALUE=URI;X-ADDRESS=High Desert America’s Job Center 17310 Bear Valley Rd. Suite 109 Victorville CA 92395 United States;X-APPLE-RADIUS=500;X-TITLE=17310 Bear Valley Rd.\, Suite 109:geo:-117.2842146,34.4720748
END:VEVENT
BEGIN:VEVENT
DTSTART;TZID=America/Denver:20190730T133000
DTEND;TZID=America/Denver:20190730T153000
DTSTAMP:20260424T070929
CREATED:20190606T154649Z
LAST-MODIFIED:20190606T154649Z
UID:10013175-1564493400-1564500600@workforce.sbcounty.gov
SUMMARY:How to Job Search using Indeed/Glassdoor
DESCRIPTION:See Reception to make an appointment. Please check in 15 minutes before the start of the workshop.
URL:https://workforce.sbcounty.gov/event/how-to-job-search-using-indeed-glassdoor/2019-07-30/
LOCATION:High Desert America’s Job Center\, 17310 Bear Valley Rd.\, Suite 109\, Victorville\, CA\, 92395\, United States
CATEGORIES:AJCC - High Desert,Job Seeker Workshops
GEO:34.4720748;-117.2842146
X-APPLE-STRUCTURED-LOCATION;VALUE=URI;X-ADDRESS=High Desert America’s Job Center 17310 Bear Valley Rd. Suite 109 Victorville CA 92395 United States;X-APPLE-RADIUS=500;X-TITLE=17310 Bear Valley Rd.\, Suite 109:geo:-117.2842146,34.4720748
END:VEVENT
BEGIN:VEVENT
DTSTART;TZID=America/Denver:20190725T133000
DTEND;TZID=America/Denver:20190725T153000
DTSTAMP:20260424T070929
CREATED:20190606T154303Z
LAST-MODIFIED:20190606T154303Z
UID:10013154-1564061400-1564068600@workforce.sbcounty.gov
SUMMARY:How to get a County Job
DESCRIPTION:See Reception to make an appointment. Please check in 15 minutes before the start of the workshop.
URL:https://workforce.sbcounty.gov/event/how-to-get-a-county-job-2/2019-07-25/
LOCATION:High Desert America’s Job Center\, 17310 Bear Valley Rd.\, Suite 109\, Victorville\, CA\, 92395\, United States
CATEGORIES:AJCC - High Desert,Job Seeker Workshops
GEO:34.4720748;-117.2842146
X-APPLE-STRUCTURED-LOCATION;VALUE=URI;X-ADDRESS=High Desert America’s Job Center 17310 Bear Valley Rd. Suite 109 Victorville CA 92395 United States;X-APPLE-RADIUS=500;X-TITLE=17310 Bear Valley Rd.\, Suite 109:geo:-117.2842146,34.4720748
END:VEVENT
BEGIN:VEVENT
DTSTART;TZID=America/Denver:20190722T130000
DTEND;TZID=America/Denver:20190722T150000
DTSTAMP:20260424T070929
CREATED:20190606T154531Z
LAST-MODIFIED:20190606T154531Z
UID:10013163-1563800400-1563807600@workforce.sbcounty.gov
SUMMARY:How to apply for a State Job
DESCRIPTION:See Reception to make an appointment. Please check in 15 minutes before the start of the workshop.
URL:https://workforce.sbcounty.gov/event/how-to-apply-for-a-state-job-2/2019-07-22/
LOCATION:High Desert America’s Job Center\, 17310 Bear Valley Rd.\, Suite 109\, Victorville\, CA\, 92395\, United States
CATEGORIES:AJCC - High Desert,Job Seeker Workshops
GEO:34.4720748;-117.2842146
X-APPLE-STRUCTURED-LOCATION;VALUE=URI;X-ADDRESS=High Desert America’s Job Center 17310 Bear Valley Rd. Suite 109 Victorville CA 92395 United States;X-APPLE-RADIUS=500;X-TITLE=17310 Bear Valley Rd.\, Suite 109:geo:-117.2842146,34.4720748
END:VEVENT
BEGIN:VEVENT
DTSTART;TZID=America/Denver:20190718T130000
DTEND;TZID=America/Denver:20190718T150000
DTSTAMP:20260424T070929
CREATED:20190606T154812Z
LAST-MODIFIED:20190606T154812Z
UID:10013190-1563454800-1563462000@workforce.sbcounty.gov
SUMMARY:Resume 1.0
DESCRIPTION:See Reception to make an appointment. Please check in 15 minutes before the start of the workshop.
URL:https://workforce.sbcounty.gov/event/resume-1-0/
LOCATION:High Desert America’s Job Center\, 17310 Bear Valley Rd.\, Suite 109\, Victorville\, CA\, 92395\, United States
CATEGORIES:AJCC - High Desert,Job Seeker Workshops
GEO:34.4720748;-117.2842146
X-APPLE-STRUCTURED-LOCATION;VALUE=URI;X-ADDRESS=High Desert America’s Job Center 17310 Bear Valley Rd. Suite 109 Victorville CA 92395 United States;X-APPLE-RADIUS=500;X-TITLE=17310 Bear Valley Rd.\, Suite 109:geo:-117.2842146,34.4720748
END:VEVENT
BEGIN:VEVENT
DTSTART;TZID=America/Denver:20190717T090000
DTEND;TZID=America/Denver:20190717T153000
DTSTAMP:20260424T070929
CREATED:20190606T153612Z
LAST-MODIFIED:20190606T153612Z
UID:10013118-1563354000-1563377400@workforce.sbcounty.gov
SUMMARY:Professional Edge
DESCRIPTION:See Reception to make an appointment. Please check in 15 minutes before the start of the workshop.
URL:https://workforce.sbcounty.gov/event/professional-edge-4/2019-07-17/
LOCATION:High Desert America’s Job Center\, 17310 Bear Valley Rd.\, Suite 109\, Victorville\, CA\, 92395\, United States
CATEGORIES:AJCC - High Desert,Job Seeker Workshops
GEO:34.4720748;-117.2842146
X-APPLE-STRUCTURED-LOCATION;VALUE=URI;X-ADDRESS=High Desert America’s Job Center 17310 Bear Valley Rd. Suite 109 Victorville CA 92395 United States;X-APPLE-RADIUS=500;X-TITLE=17310 Bear Valley Rd.\, Suite 109:geo:-117.2842146,34.4720748
END:VEVENT
BEGIN:VEVENT
DTSTART;TZID=America/Denver:20190715T130000
DTEND;TZID=America/Denver:20190715T150000
DTSTAMP:20260424T070929
CREATED:20190606T152824Z
LAST-MODIFIED:20190606T152824Z
UID:10013106-1563195600-1563202800@workforce.sbcounty.gov
SUMMARY:Resume 2.0
DESCRIPTION:See Reception to make an appointment. Please check in 15 minutes before the start of the workshop.
URL:https://workforce.sbcounty.gov/event/resume-2-0/2019-07-15/
LOCATION:High Desert America’s Job Center\, 17310 Bear Valley Rd.\, Suite 109\, Victorville\, CA\, 92395\, United States
CATEGORIES:AJCC - High Desert,Job Seeker Workshops
GEO:34.4720748;-117.2842146
X-APPLE-STRUCTURED-LOCATION;VALUE=URI;X-ADDRESS=High Desert America’s Job Center 17310 Bear Valley Rd. Suite 109 Victorville CA 92395 United States;X-APPLE-RADIUS=500;X-TITLE=17310 Bear Valley Rd.\, Suite 109:geo:-117.2842146,34.4720748
END:VEVENT
BEGIN:VEVENT
DTSTART;TZID=America/Denver:20190711T133000
DTEND;TZID=America/Denver:20190711T153000
DTSTAMP:20260424T070929
CREATED:20190606T154303Z
LAST-MODIFIED:20190606T154303Z
UID:10013151-1562851800-1562859000@workforce.sbcounty.gov
SUMMARY:How to get a County Job
DESCRIPTION:See Reception to make an appointment. Please check in 15 minutes before the start of the workshop.
URL:https://workforce.sbcounty.gov/event/how-to-get-a-county-job-2/2019-07-11/
LOCATION:High Desert America’s Job Center\, 17310 Bear Valley Rd.\, Suite 109\, Victorville\, CA\, 92395\, United States
CATEGORIES:AJCC - High Desert,Job Seeker Workshops
GEO:34.4720748;-117.2842146
X-APPLE-STRUCTURED-LOCATION;VALUE=URI;X-ADDRESS=High Desert America’s Job Center 17310 Bear Valley Rd. Suite 109 Victorville CA 92395 United States;X-APPLE-RADIUS=500;X-TITLE=17310 Bear Valley Rd.\, Suite 109:geo:-117.2842146,34.4720748
END:VEVENT
BEGIN:VEVENT
DTSTART;TZID=America/Denver:20190710T090000
DTEND;TZID=America/Denver:20190710T153000
DTSTAMP:20260424T070929
CREATED:20190606T153612Z
LAST-MODIFIED:20190606T153612Z
UID:10013115-1562749200-1562772600@workforce.sbcounty.gov
SUMMARY:Professional Edge
DESCRIPTION:See Reception to make an appointment. Please check in 15 minutes before the start of the workshop.
URL:https://workforce.sbcounty.gov/event/professional-edge-4/2019-07-10/
LOCATION:High Desert America’s Job Center\, 17310 Bear Valley Rd.\, Suite 109\, Victorville\, CA\, 92395\, United States
CATEGORIES:AJCC - High Desert,Job Seeker Workshops
GEO:34.4720748;-117.2842146
X-APPLE-STRUCTURED-LOCATION;VALUE=URI;X-ADDRESS=High Desert America’s Job Center 17310 Bear Valley Rd. Suite 109 Victorville CA 92395 United States;X-APPLE-RADIUS=500;X-TITLE=17310 Bear Valley Rd.\, Suite 109:geo:-117.2842146,34.4720748
END:VEVENT
BEGIN:VEVENT
DTSTART;TZID=America/Denver:20190709T080000
DTEND;TZID=America/Denver:20190709T170000
DTSTAMP:20260424T070929
CREATED:20190606T153737Z
LAST-MODIFIED:20190606T153737Z
UID:10013145-1562659200-1562691600@workforce.sbcounty.gov
SUMMARY:STEPS Workshop
DESCRIPTION:See Reception to make an appointment. Please check in 15 minutes before the start of the workshop.
URL:https://workforce.sbcounty.gov/event/steps-workshop-14/2019-07-09/
LOCATION:High Desert America’s Job Center\, 17310 Bear Valley Rd.\, Suite 109\, Victorville\, CA\, 92395\, United States
CATEGORIES:AJCC - High Desert,Job Seeker Workshops
GEO:34.4720748;-117.2842146
X-APPLE-STRUCTURED-LOCATION;VALUE=URI;X-ADDRESS=High Desert America’s Job Center 17310 Bear Valley Rd. Suite 109 Victorville CA 92395 United States;X-APPLE-RADIUS=500;X-TITLE=17310 Bear Valley Rd.\, Suite 109:geo:-117.2842146,34.4720748
END:VEVENT
BEGIN:VEVENT
DTSTART;TZID=America/Denver:20190708T130000
DTEND;TZID=America/Denver:20190708T150000
DTSTAMP:20260424T070929
CREATED:20190606T154531Z
LAST-MODIFIED:20190606T154531Z
UID:10013160-1562590800-1562598000@workforce.sbcounty.gov
SUMMARY:How to apply for a State Job
DESCRIPTION:See Reception to make an appointment. Please check in 15 minutes before the start of the workshop.
URL:https://workforce.sbcounty.gov/event/how-to-apply-for-a-state-job-2/2019-07-08/
LOCATION:High Desert America’s Job Center\, 17310 Bear Valley Rd.\, Suite 109\, Victorville\, CA\, 92395\, United States
CATEGORIES:AJCC - High Desert,Job Seeker Workshops
GEO:34.4720748;-117.2842146
X-APPLE-STRUCTURED-LOCATION;VALUE=URI;X-ADDRESS=High Desert America’s Job Center 17310 Bear Valley Rd. Suite 109 Victorville CA 92395 United States;X-APPLE-RADIUS=500;X-TITLE=17310 Bear Valley Rd.\, Suite 109:geo:-117.2842146,34.4720748
END:VEVENT
BEGIN:VEVENT
DTSTART;TZID=America/Denver:20190708T080000
DTEND;TZID=America/Denver:20190708T170000
DTSTAMP:20260424T070929
CREATED:20190606T153737Z
LAST-MODIFIED:20190606T153737Z
UID:10013142-1562572800-1562605200@workforce.sbcounty.gov
SUMMARY:STEPS Workshop
DESCRIPTION:See Reception to make an appointment. Please check in 15 minutes before the start of the workshop.
URL:https://workforce.sbcounty.gov/event/steps-workshop-14/2019-07-08/
LOCATION:High Desert America’s Job Center\, 17310 Bear Valley Rd.\, Suite 109\, Victorville\, CA\, 92395\, United States
CATEGORIES:AJCC - High Desert,Job Seeker Workshops
GEO:34.4720748;-117.2842146
X-APPLE-STRUCTURED-LOCATION;VALUE=URI;X-ADDRESS=High Desert America’s Job Center 17310 Bear Valley Rd. Suite 109 Victorville CA 92395 United States;X-APPLE-RADIUS=500;X-TITLE=17310 Bear Valley Rd.\, Suite 109:geo:-117.2842146,34.4720748
END:VEVENT
BEGIN:VEVENT
DTSTART;TZID=America/Denver:20190703T090000
DTEND;TZID=America/Denver:20190703T153000
DTSTAMP:20260424T070929
CREATED:20190606T153612Z
LAST-MODIFIED:20190606T153612Z
UID:10013112-1562144400-1562167800@workforce.sbcounty.gov
SUMMARY:Professional Edge
DESCRIPTION:See Reception to make an appointment. Please check in 15 minutes before the start of the workshop.
URL:https://workforce.sbcounty.gov/event/professional-edge-4/2019-07-03/
LOCATION:High Desert America’s Job Center\, 17310 Bear Valley Rd.\, Suite 109\, Victorville\, CA\, 92395\, United States
CATEGORIES:AJCC - High Desert,Job Seeker Workshops
GEO:34.4720748;-117.2842146
X-APPLE-STRUCTURED-LOCATION;VALUE=URI;X-ADDRESS=High Desert America’s Job Center 17310 Bear Valley Rd. Suite 109 Victorville CA 92395 United States;X-APPLE-RADIUS=500;X-TITLE=17310 Bear Valley Rd.\, Suite 109:geo:-117.2842146,34.4720748
END:VEVENT
END:VCALENDAR