BEGIN:VCALENDAR
VERSION:2.0
PRODID:-//Workforce Development - ECPv6.15.14//NONSGML v1.0//EN
CALSCALE:GREGORIAN
METHOD:PUBLISH
X-WR-CALNAME:Workforce Development
X-ORIGINAL-URL:https://workforce.sbcounty.gov
X-WR-CALDESC:Events for Workforce Development
REFRESH-INTERVAL;VALUE=DURATION:PT1H
X-Robots-Tag:noindex
X-PUBLISHED-TTL:PT1H
BEGIN:VTIMEZONE
TZID:America/Denver
BEGIN:DAYLIGHT
TZOFFSETFROM:-0700
TZOFFSETTO:-0600
TZNAME:MDT
DTSTART:20180311T090000
END:DAYLIGHT
BEGIN:STANDARD
TZOFFSETFROM:-0600
TZOFFSETTO:-0700
TZNAME:MST
DTSTART:20181104T080000
END:STANDARD
BEGIN:DAYLIGHT
TZOFFSETFROM:-0700
TZOFFSETTO:-0600
TZNAME:MDT
DTSTART:20190310T090000
END:DAYLIGHT
BEGIN:STANDARD
TZOFFSETFROM:-0600
TZOFFSETTO:-0700
TZNAME:MST
DTSTART:20191103T080000
END:STANDARD
BEGIN:DAYLIGHT
TZOFFSETFROM:-0700
TZOFFSETTO:-0600
TZNAME:MDT
DTSTART:20200308T090000
END:DAYLIGHT
BEGIN:STANDARD
TZOFFSETFROM:-0600
TZOFFSETTO:-0700
TZNAME:MST
DTSTART:20201101T080000
END:STANDARD
BEGIN:DAYLIGHT
TZOFFSETFROM:-0700
TZOFFSETTO:-0600
TZNAME:MDT
DTSTART:20210314T090000
END:DAYLIGHT
BEGIN:STANDARD
TZOFFSETFROM:-0600
TZOFFSETTO:-0700
TZNAME:MST
DTSTART:20211107T080000
END:STANDARD
END:VTIMEZONE
BEGIN:VEVENT
DTSTART;TZID=America/Denver:20200206T130000
DTEND;TZID=America/Denver:20200206T150000
DTSTAMP:20260423T042042
CREATED:20190725T222919Z
LAST-MODIFIED:20190725T222919Z
UID:10013775-1580994000-1581001200@workforce.sbcounty.gov
SUMMARY:Resume 1.0
DESCRIPTION:See Reception to make an appointment. Please check in 15 minutes before the start of the workshop.
URL:https://workforce.sbcounty.gov/event/resume-1-0-2/2020-02-06/
LOCATION:High Desert America’s Job Center\, 17310 Bear Valley Rd.\, Suite 109\, Victorville\, CA\, 92395\, United States
CATEGORIES:AJCC - High Desert,Job Seeker Workshops
GEO:34.4720748;-117.2842146
X-APPLE-STRUCTURED-LOCATION;VALUE=URI;X-ADDRESS=High Desert America’s Job Center 17310 Bear Valley Rd. Suite 109 Victorville CA 92395 United States;X-APPLE-RADIUS=500;X-TITLE=17310 Bear Valley Rd.\, Suite 109:geo:-117.2842146,34.4720748
END:VEVENT
BEGIN:VEVENT
DTSTART;TZID=America/Denver:20200203T130000
DTEND;TZID=America/Denver:20200203T150000
DTSTAMP:20260423T042042
CREATED:20191031T205613Z
LAST-MODIFIED:20191031T205613Z
UID:10013916-1580734800-1580742000@workforce.sbcounty.gov
SUMMARY:Resume 2.0
DESCRIPTION:See Reception to make an appointment. Please check in 15 minutes before the start of the workshop.
URL:https://workforce.sbcounty.gov/event/resume-2-0-3/2020-02-03/
LOCATION:High Desert America’s Job Center\, 17310 Bear Valley Rd.\, Suite 109\, Victorville\, CA\, 92395\, United States
CATEGORIES:AJCC - High Desert,Job Seeker Workshops
GEO:34.4720748;-117.2842146
X-APPLE-STRUCTURED-LOCATION;VALUE=URI;X-ADDRESS=High Desert America’s Job Center 17310 Bear Valley Rd. Suite 109 Victorville CA 92395 United States;X-APPLE-RADIUS=500;X-TITLE=17310 Bear Valley Rd.\, Suite 109:geo:-117.2842146,34.4720748
END:VEVENT
BEGIN:VEVENT
DTSTART;TZID=America/Denver:20200129T090000
DTEND;TZID=America/Denver:20200129T153000
DTSTAMP:20260423T042042
CREATED:20190606T153612Z
LAST-MODIFIED:20190606T153612Z
UID:10013130-1580288400-1580311800@workforce.sbcounty.gov
SUMMARY:Professional Edge
DESCRIPTION:See Reception to make an appointment. Please check in 15 minutes before the start of the workshop.
URL:https://workforce.sbcounty.gov/event/professional-edge-4/2020-01-29/
LOCATION:High Desert America’s Job Center\, 17310 Bear Valley Rd.\, Suite 109\, Victorville\, CA\, 92395\, United States
CATEGORIES:AJCC - High Desert,Job Seeker Workshops
GEO:34.4720748;-117.2842146
X-APPLE-STRUCTURED-LOCATION;VALUE=URI;X-ADDRESS=High Desert America’s Job Center 17310 Bear Valley Rd. Suite 109 Victorville CA 92395 United States;X-APPLE-RADIUS=500;X-TITLE=17310 Bear Valley Rd.\, Suite 109:geo:-117.2842146,34.4720748
END:VEVENT
BEGIN:VEVENT
DTSTART;TZID=America/Denver:20200127T130000
DTEND;TZID=America/Denver:20200127T150000
DTSTAMP:20260423T042042
CREATED:20190725T223351Z
LAST-MODIFIED:20190725T223351Z
UID:10013850-1580130000-1580137200@workforce.sbcounty.gov
SUMMARY:How to apply for a State Job
DESCRIPTION:See Reception to make an appointment. Please check in 15 minutes before the start of the workshop.
URL:https://workforce.sbcounty.gov/event/how-to-apply-for-a-state-job-3/2020-01-27/
LOCATION:High Desert America’s Job Center\, 17310 Bear Valley Rd.\, Suite 109\, Victorville\, CA\, 92395\, United States
CATEGORIES:AJCC - High Desert,Job Seeker Workshops
GEO:34.4720748;-117.2842146
X-APPLE-STRUCTURED-LOCATION;VALUE=URI;X-ADDRESS=High Desert America’s Job Center 17310 Bear Valley Rd. Suite 109 Victorville CA 92395 United States;X-APPLE-RADIUS=500;X-TITLE=17310 Bear Valley Rd.\, Suite 109:geo:-117.2842146,34.4720748
END:VEVENT
BEGIN:VEVENT
DTSTART;TZID=America/Denver:20200123T133000
DTEND;TZID=America/Denver:20200123T153000
DTSTAMP:20260423T042042
CREATED:20190725T223226Z
LAST-MODIFIED:20190725T223226Z
UID:10013817-1579786200-1579793400@workforce.sbcounty.gov
SUMMARY:How to get a County Job
DESCRIPTION:See Reception to make an appointment. Please check in 15 minutes before the start of the workshop.
URL:https://workforce.sbcounty.gov/event/how-to-get-a-county-job-3/2020-01-23/
LOCATION:High Desert America’s Job Center\, 17310 Bear Valley Rd.\, Suite 109\, Victorville\, CA\, 92395\, United States
CATEGORIES:AJCC - High Desert,Job Seeker Workshops
GEO:34.4720748;-117.2842146
X-APPLE-STRUCTURED-LOCATION;VALUE=URI;X-ADDRESS=High Desert America’s Job Center 17310 Bear Valley Rd. Suite 109 Victorville CA 92395 United States;X-APPLE-RADIUS=500;X-TITLE=17310 Bear Valley Rd.\, Suite 109:geo:-117.2842146,34.4720748
END:VEVENT
BEGIN:VEVENT
DTSTART;TZID=America/Denver:20200122T090000
DTEND;TZID=America/Denver:20200122T153000
DTSTAMP:20260423T042042
CREATED:20190606T153612Z
LAST-MODIFIED:20190606T153612Z
UID:10013127-1579683600-1579707000@workforce.sbcounty.gov
SUMMARY:Professional Edge
DESCRIPTION:See Reception to make an appointment. Please check in 15 minutes before the start of the workshop.
URL:https://workforce.sbcounty.gov/event/professional-edge-4/2020-01-22/
LOCATION:High Desert America’s Job Center\, 17310 Bear Valley Rd.\, Suite 109\, Victorville\, CA\, 92395\, United States
CATEGORIES:AJCC - High Desert,Job Seeker Workshops
GEO:34.4720748;-117.2842146
X-APPLE-STRUCTURED-LOCATION;VALUE=URI;X-ADDRESS=High Desert America’s Job Center 17310 Bear Valley Rd. Suite 109 Victorville CA 92395 United States;X-APPLE-RADIUS=500;X-TITLE=17310 Bear Valley Rd.\, Suite 109:geo:-117.2842146,34.4720748
END:VEVENT
BEGIN:VEVENT
DTSTART;TZID=America/Denver:20200116T130000
DTEND;TZID=America/Denver:20200116T133000
DTSTAMP:20260423T042042
CREATED:20190725T222919Z
LAST-MODIFIED:20190725T222919Z
UID:10013772-1579179600-1579181400@workforce.sbcounty.gov
SUMMARY:Resume 1.0
DESCRIPTION:See Reception to make an appointment. Please check in 15 minutes before the start of the workshop.
URL:https://workforce.sbcounty.gov/event/resume-1-0-2/2020-01-16/
LOCATION:High Desert America’s Job Center\, 17310 Bear Valley Rd.\, Suite 109\, Victorville\, CA\, 92395\, United States
CATEGORIES:AJCC - High Desert,Job Seeker Workshops
GEO:34.4720748;-117.2842146
X-APPLE-STRUCTURED-LOCATION;VALUE=URI;X-ADDRESS=High Desert America’s Job Center 17310 Bear Valley Rd. Suite 109 Victorville CA 92395 United States;X-APPLE-RADIUS=500;X-TITLE=17310 Bear Valley Rd.\, Suite 109:geo:-117.2842146,34.4720748
END:VEVENT
BEGIN:VEVENT
DTSTART;TZID=America/Denver:20200115T090000
DTEND;TZID=America/Denver:20200115T153000
DTSTAMP:20260423T042042
CREATED:20190606T153612Z
LAST-MODIFIED:20190606T153612Z
UID:10013124-1579078800-1579102200@workforce.sbcounty.gov
SUMMARY:Professional Edge
DESCRIPTION:See Reception to make an appointment. Please check in 15 minutes before the start of the workshop.
URL:https://workforce.sbcounty.gov/event/professional-edge-4/2020-01-15/
LOCATION:High Desert America’s Job Center\, 17310 Bear Valley Rd.\, Suite 109\, Victorville\, CA\, 92395\, United States
CATEGORIES:AJCC - High Desert,Job Seeker Workshops
GEO:34.4720748;-117.2842146
X-APPLE-STRUCTURED-LOCATION;VALUE=URI;X-ADDRESS=High Desert America’s Job Center 17310 Bear Valley Rd. Suite 109 Victorville CA 92395 United States;X-APPLE-RADIUS=500;X-TITLE=17310 Bear Valley Rd.\, Suite 109:geo:-117.2842146,34.4720748
END:VEVENT
BEGIN:VEVENT
DTSTART;TZID=America/Denver:20200114T080000
DTEND;TZID=America/Denver:20200114T160000
DTSTAMP:20260423T042042
CREATED:20191031T205809Z
LAST-MODIFIED:20191031T205809Z
UID:10013928-1578988800-1579017600@workforce.sbcounty.gov
SUMMARY:STEPS
DESCRIPTION:See Reception to make an appointment. Please check in 15 minutes before the start of the workshop.
URL:https://workforce.sbcounty.gov/event/steps-16/2020-01-14/
LOCATION:High Desert America’s Job Center\, 17310 Bear Valley Rd.\, Suite 109\, Victorville\, CA\, 92395\, United States
CATEGORIES:AJCC - High Desert,Job Seeker Workshops
GEO:34.4720748;-117.2842146
X-APPLE-STRUCTURED-LOCATION;VALUE=URI;X-ADDRESS=High Desert America’s Job Center 17310 Bear Valley Rd. Suite 109 Victorville CA 92395 United States;X-APPLE-RADIUS=500;X-TITLE=17310 Bear Valley Rd.\, Suite 109:geo:-117.2842146,34.4720748
END:VEVENT
BEGIN:VEVENT
DTSTART;TZID=America/Denver:20200113T130000
DTEND;TZID=America/Denver:20200113T150000
DTSTAMP:20260423T042042
CREATED:20190725T223351Z
LAST-MODIFIED:20190725T223351Z
UID:10013847-1578920400-1578927600@workforce.sbcounty.gov
SUMMARY:How to apply for a State Job
DESCRIPTION:See Reception to make an appointment. Please check in 15 minutes before the start of the workshop.
URL:https://workforce.sbcounty.gov/event/how-to-apply-for-a-state-job-3/2020-01-13/
LOCATION:High Desert America’s Job Center\, 17310 Bear Valley Rd.\, Suite 109\, Victorville\, CA\, 92395\, United States
CATEGORIES:AJCC - High Desert,Job Seeker Workshops
GEO:34.4720748;-117.2842146
X-APPLE-STRUCTURED-LOCATION;VALUE=URI;X-ADDRESS=High Desert America’s Job Center 17310 Bear Valley Rd. Suite 109 Victorville CA 92395 United States;X-APPLE-RADIUS=500;X-TITLE=17310 Bear Valley Rd.\, Suite 109:geo:-117.2842146,34.4720748
END:VEVENT
BEGIN:VEVENT
DTSTART;TZID=America/Denver:20200109T133000
DTEND;TZID=America/Denver:20200109T153000
DTSTAMP:20260423T042042
CREATED:20190725T223226Z
LAST-MODIFIED:20190725T223226Z
UID:10013814-1578576600-1578583800@workforce.sbcounty.gov
SUMMARY:How to get a County Job
DESCRIPTION:See Reception to make an appointment. Please check in 15 minutes before the start of the workshop.
URL:https://workforce.sbcounty.gov/event/how-to-get-a-county-job-3/2020-01-09/
LOCATION:High Desert America’s Job Center\, 17310 Bear Valley Rd.\, Suite 109\, Victorville\, CA\, 92395\, United States
CATEGORIES:AJCC - High Desert,Job Seeker Workshops
GEO:34.4720748;-117.2842146
X-APPLE-STRUCTURED-LOCATION;VALUE=URI;X-ADDRESS=High Desert America’s Job Center 17310 Bear Valley Rd. Suite 109 Victorville CA 92395 United States;X-APPLE-RADIUS=500;X-TITLE=17310 Bear Valley Rd.\, Suite 109:geo:-117.2842146,34.4720748
END:VEVENT
BEGIN:VEVENT
DTSTART;TZID=America/Denver:20200108T090000
DTEND;TZID=America/Denver:20200108T153000
DTSTAMP:20260423T042042
CREATED:20190606T153612Z
LAST-MODIFIED:20190606T153612Z
UID:10013121-1578474000-1578497400@workforce.sbcounty.gov
SUMMARY:Professional Edge
DESCRIPTION:See Reception to make an appointment. Please check in 15 minutes before the start of the workshop.
URL:https://workforce.sbcounty.gov/event/professional-edge-4/2020-01-08/
LOCATION:High Desert America’s Job Center\, 17310 Bear Valley Rd.\, Suite 109\, Victorville\, CA\, 92395\, United States
CATEGORIES:AJCC - High Desert,Job Seeker Workshops
GEO:34.4720748;-117.2842146
X-APPLE-STRUCTURED-LOCATION;VALUE=URI;X-ADDRESS=High Desert America’s Job Center 17310 Bear Valley Rd. Suite 109 Victorville CA 92395 United States;X-APPLE-RADIUS=500;X-TITLE=17310 Bear Valley Rd.\, Suite 109:geo:-117.2842146,34.4720748
END:VEVENT
BEGIN:VEVENT
DTSTART;TZID=America/Denver:20200106T130000
DTEND;TZID=America/Denver:20200106T150000
DTSTAMP:20260423T042042
CREATED:20191031T205613Z
LAST-MODIFIED:20191031T205613Z
UID:10013913-1578315600-1578322800@workforce.sbcounty.gov
SUMMARY:Resume 2.0
DESCRIPTION:See Reception to make an appointment. Please check in 15 minutes before the start of the workshop.
URL:https://workforce.sbcounty.gov/event/resume-2-0-3/2020-01-06/
LOCATION:High Desert America’s Job Center\, 17310 Bear Valley Rd.\, Suite 109\, Victorville\, CA\, 92395\, United States
CATEGORIES:AJCC - High Desert,Job Seeker Workshops
GEO:34.4720748;-117.2842146
X-APPLE-STRUCTURED-LOCATION;VALUE=URI;X-ADDRESS=High Desert America’s Job Center 17310 Bear Valley Rd. Suite 109 Victorville CA 92395 United States;X-APPLE-RADIUS=500;X-TITLE=17310 Bear Valley Rd.\, Suite 109:geo:-117.2842146,34.4720748
END:VEVENT
BEGIN:VEVENT
DTSTART;TZID=America/Denver:20191219T130000
DTEND;TZID=America/Denver:20191219T150000
DTSTAMP:20260423T042042
CREATED:20190725T222919Z
LAST-MODIFIED:20190725T222919Z
UID:10013769-1576760400-1576767600@workforce.sbcounty.gov
SUMMARY:Resume 1.0
DESCRIPTION:See Reception to make an appointment. Please check in 15 minutes before the start of the workshop.
URL:https://workforce.sbcounty.gov/event/resume-1-0-2/2019-12-19/
LOCATION:High Desert America’s Job Center\, 17310 Bear Valley Rd.\, Suite 109\, Victorville\, CA\, 92395\, United States
CATEGORIES:AJCC - High Desert,Job Seeker Workshops
GEO:34.4720748;-117.2842146
X-APPLE-STRUCTURED-LOCATION;VALUE=URI;X-ADDRESS=High Desert America’s Job Center 17310 Bear Valley Rd. Suite 109 Victorville CA 92395 United States;X-APPLE-RADIUS=500;X-TITLE=17310 Bear Valley Rd.\, Suite 109:geo:-117.2842146,34.4720748
END:VEVENT
BEGIN:VEVENT
DTSTART;TZID=America/Denver:20191212T133000
DTEND;TZID=America/Denver:20191212T153000
DTSTAMP:20260423T042042
CREATED:20190725T223226Z
LAST-MODIFIED:20190725T223226Z
UID:10013811-1576157400-1576164600@workforce.sbcounty.gov
SUMMARY:How to get a County Job
DESCRIPTION:See Reception to make an appointment. Please check in 15 minutes before the start of the workshop.
URL:https://workforce.sbcounty.gov/event/how-to-get-a-county-job-3/2019-12-12/
LOCATION:High Desert America’s Job Center\, 17310 Bear Valley Rd.\, Suite 109\, Victorville\, CA\, 92395\, United States
CATEGORIES:AJCC - High Desert,Job Seeker Workshops
GEO:34.4720748;-117.2842146
X-APPLE-STRUCTURED-LOCATION;VALUE=URI;X-ADDRESS=High Desert America’s Job Center 17310 Bear Valley Rd. Suite 109 Victorville CA 92395 United States;X-APPLE-RADIUS=500;X-TITLE=17310 Bear Valley Rd.\, Suite 109:geo:-117.2842146,34.4720748
END:VEVENT
BEGIN:VEVENT
DTSTART;TZID=America/Denver:20191209T130000
DTEND;TZID=America/Denver:20191209T150000
DTSTAMP:20260423T042042
CREATED:20190725T223351Z
LAST-MODIFIED:20190725T223351Z
UID:10013844-1575896400-1575903600@workforce.sbcounty.gov
SUMMARY:How to apply for a State Job
DESCRIPTION:See Reception to make an appointment. Please check in 15 minutes before the start of the workshop.
URL:https://workforce.sbcounty.gov/event/how-to-apply-for-a-state-job-3/2019-12-09/
LOCATION:High Desert America’s Job Center\, 17310 Bear Valley Rd.\, Suite 109\, Victorville\, CA\, 92395\, United States
CATEGORIES:AJCC - High Desert,Job Seeker Workshops
GEO:34.4720748;-117.2842146
X-APPLE-STRUCTURED-LOCATION;VALUE=URI;X-ADDRESS=High Desert America’s Job Center 17310 Bear Valley Rd. Suite 109 Victorville CA 92395 United States;X-APPLE-RADIUS=500;X-TITLE=17310 Bear Valley Rd.\, Suite 109:geo:-117.2842146,34.4720748
END:VEVENT
BEGIN:VEVENT
DTSTART;TZID=America/Denver:20191205T130000
DTEND;TZID=America/Denver:20191205T150000
DTSTAMP:20260423T042042
CREATED:20190725T222919Z
LAST-MODIFIED:20190725T222919Z
UID:10013766-1575550800-1575558000@workforce.sbcounty.gov
SUMMARY:Resume 1.0
DESCRIPTION:See Reception to make an appointment. Please check in 15 minutes before the start of the workshop.
URL:https://workforce.sbcounty.gov/event/resume-1-0-2/2019-12-05/
LOCATION:High Desert America’s Job Center\, 17310 Bear Valley Rd.\, Suite 109\, Victorville\, CA\, 92395\, United States
CATEGORIES:AJCC - High Desert,Job Seeker Workshops
GEO:34.4720748;-117.2842146
X-APPLE-STRUCTURED-LOCATION;VALUE=URI;X-ADDRESS=High Desert America’s Job Center 17310 Bear Valley Rd. Suite 109 Victorville CA 92395 United States;X-APPLE-RADIUS=500;X-TITLE=17310 Bear Valley Rd.\, Suite 109:geo:-117.2842146,34.4720748
END:VEVENT
BEGIN:VEVENT
DTSTART;TZID=America/Denver:20191202T130000
DTEND;TZID=America/Denver:20191202T150000
DTSTAMP:20260423T042042
CREATED:20191031T205613Z
LAST-MODIFIED:20191031T205613Z
UID:10013910-1575291600-1575298800@workforce.sbcounty.gov
SUMMARY:Resume 2.0
DESCRIPTION:See Reception to make an appointment. Please check in 15 minutes before the start of the workshop.
URL:https://workforce.sbcounty.gov/event/resume-2-0-3/2019-12-02/
LOCATION:High Desert America’s Job Center\, 17310 Bear Valley Rd.\, Suite 109\, Victorville\, CA\, 92395\, United States
CATEGORIES:AJCC - High Desert,Job Seeker Workshops
GEO:34.4720748;-117.2842146
X-APPLE-STRUCTURED-LOCATION;VALUE=URI;X-ADDRESS=High Desert America’s Job Center 17310 Bear Valley Rd. Suite 109 Victorville CA 92395 United States;X-APPLE-RADIUS=500;X-TITLE=17310 Bear Valley Rd.\, Suite 109:geo:-117.2842146,34.4720748
END:VEVENT
BEGIN:VEVENT
DTSTART;TZID=America/Denver:20191125T130000
DTEND;TZID=America/Denver:20191125T150000
DTSTAMP:20260423T042042
CREATED:20190725T223351Z
LAST-MODIFIED:20190725T223351Z
UID:10013841-1574686800-1574694000@workforce.sbcounty.gov
SUMMARY:How to apply for a State Job
DESCRIPTION:See Reception to make an appointment. Please check in 15 minutes before the start of the workshop.
URL:https://workforce.sbcounty.gov/event/how-to-apply-for-a-state-job-3/2019-11-25/
LOCATION:High Desert America’s Job Center\, 17310 Bear Valley Rd.\, Suite 109\, Victorville\, CA\, 92395\, United States
CATEGORIES:AJCC - High Desert,Job Seeker Workshops
GEO:34.4720748;-117.2842146
X-APPLE-STRUCTURED-LOCATION;VALUE=URI;X-ADDRESS=High Desert America’s Job Center 17310 Bear Valley Rd. Suite 109 Victorville CA 92395 United States;X-APPLE-RADIUS=500;X-TITLE=17310 Bear Valley Rd.\, Suite 109:geo:-117.2842146,34.4720748
END:VEVENT
BEGIN:VEVENT
DTSTART;TZID=America/Denver:20191121T130000
DTEND;TZID=America/Denver:20191121T150000
DTSTAMP:20260423T042042
CREATED:20190725T222919Z
LAST-MODIFIED:20190725T222919Z
UID:10013763-1574341200-1574348400@workforce.sbcounty.gov
SUMMARY:Resume 1.0
DESCRIPTION:See Reception to make an appointment. Please check in 15 minutes before the start of the workshop.
URL:https://workforce.sbcounty.gov/event/resume-1-0-2/2019-11-21/
LOCATION:High Desert America’s Job Center\, 17310 Bear Valley Rd.\, Suite 109\, Victorville\, CA\, 92395\, United States
CATEGORIES:AJCC - High Desert,Job Seeker Workshops
GEO:34.4720748;-117.2842146
X-APPLE-STRUCTURED-LOCATION;VALUE=URI;X-ADDRESS=High Desert America’s Job Center 17310 Bear Valley Rd. Suite 109 Victorville CA 92395 United States;X-APPLE-RADIUS=500;X-TITLE=17310 Bear Valley Rd.\, Suite 109:geo:-117.2842146,34.4720748
END:VEVENT
BEGIN:VEVENT
DTSTART;TZID=America/Denver:20191118T130000
DTEND;TZID=America/Denver:20191118T150000
DTSTAMP:20260423T042042
CREATED:20191031T205613Z
LAST-MODIFIED:20191031T205613Z
UID:10013907-1574082000-1574089200@workforce.sbcounty.gov
SUMMARY:Resume 2.0
DESCRIPTION:See Reception to make an appointment. Please check in 15 minutes before the start of the workshop.
URL:https://workforce.sbcounty.gov/event/resume-2-0-3/2019-11-18/
LOCATION:High Desert America’s Job Center\, 17310 Bear Valley Rd.\, Suite 109\, Victorville\, CA\, 92395\, United States
CATEGORIES:AJCC - High Desert,Job Seeker Workshops
GEO:34.4720748;-117.2842146
X-APPLE-STRUCTURED-LOCATION;VALUE=URI;X-ADDRESS=High Desert America’s Job Center 17310 Bear Valley Rd. Suite 109 Victorville CA 92395 United States;X-APPLE-RADIUS=500;X-TITLE=17310 Bear Valley Rd.\, Suite 109:geo:-117.2842146,34.4720748
END:VEVENT
BEGIN:VEVENT
DTSTART;TZID=America/Denver:20191114T133000
DTEND;TZID=America/Denver:20191114T153000
DTSTAMP:20260423T042042
CREATED:20190725T223226Z
LAST-MODIFIED:20190725T223226Z
UID:10013808-1573738200-1573745400@workforce.sbcounty.gov
SUMMARY:How to get a County Job
DESCRIPTION:See Reception to make an appointment. Please check in 15 minutes before the start of the workshop.
URL:https://workforce.sbcounty.gov/event/how-to-get-a-county-job-3/2019-11-14/
LOCATION:High Desert America’s Job Center\, 17310 Bear Valley Rd.\, Suite 109\, Victorville\, CA\, 92395\, United States
CATEGORIES:AJCC - High Desert,Job Seeker Workshops
GEO:34.4720748;-117.2842146
X-APPLE-STRUCTURED-LOCATION;VALUE=URI;X-ADDRESS=High Desert America’s Job Center 17310 Bear Valley Rd. Suite 109 Victorville CA 92395 United States;X-APPLE-RADIUS=500;X-TITLE=17310 Bear Valley Rd.\, Suite 109:geo:-117.2842146,34.4720748
END:VEVENT
BEGIN:VEVENT
DTSTART;TZID=America/Denver:20191107T130000
DTEND;TZID=America/Denver:20191107T150000
DTSTAMP:20260423T042042
CREATED:20190725T222919Z
LAST-MODIFIED:20190725T222919Z
UID:10013760-1573131600-1573138800@workforce.sbcounty.gov
SUMMARY:Resume 1.0
DESCRIPTION:See Reception to make an appointment. Please check in 15 minutes before the start of the workshop.
URL:https://workforce.sbcounty.gov/event/resume-1-0-2/2019-11-07/
LOCATION:High Desert America’s Job Center\, 17310 Bear Valley Rd.\, Suite 109\, Victorville\, CA\, 92395\, United States
CATEGORIES:AJCC - High Desert,Job Seeker Workshops
GEO:34.4720748;-117.2842146
X-APPLE-STRUCTURED-LOCATION;VALUE=URI;X-ADDRESS=High Desert America’s Job Center 17310 Bear Valley Rd. Suite 109 Victorville CA 92395 United States;X-APPLE-RADIUS=500;X-TITLE=17310 Bear Valley Rd.\, Suite 109:geo:-117.2842146,34.4720748
END:VEVENT
BEGIN:VEVENT
DTSTART;TZID=America/Denver:20191105T080000
DTEND;TZID=America/Denver:20191105T160000
DTSTAMP:20260423T042042
CREATED:20191031T205809Z
LAST-MODIFIED:20191031T205809Z
UID:10013925-1572940800-1572969600@workforce.sbcounty.gov
SUMMARY:STEPS
DESCRIPTION:See Reception to make an appointment. Please check in 15 minutes before the start of the workshop.
URL:https://workforce.sbcounty.gov/event/steps-16/2019-11-05/
LOCATION:High Desert America’s Job Center\, 17310 Bear Valley Rd.\, Suite 109\, Victorville\, CA\, 92395\, United States
CATEGORIES:AJCC - High Desert,Job Seeker Workshops
GEO:34.4720748;-117.2842146
X-APPLE-STRUCTURED-LOCATION;VALUE=URI;X-ADDRESS=High Desert America’s Job Center 17310 Bear Valley Rd. Suite 109 Victorville CA 92395 United States;X-APPLE-RADIUS=500;X-TITLE=17310 Bear Valley Rd.\, Suite 109:geo:-117.2842146,34.4720748
END:VEVENT
BEGIN:VEVENT
DTSTART;TZID=America/Denver:20191104T130000
DTEND;TZID=America/Denver:20191104T150000
DTSTAMP:20260423T042042
CREATED:20191031T205613Z
LAST-MODIFIED:20191031T205613Z
UID:10013904-1572872400-1572879600@workforce.sbcounty.gov
SUMMARY:Resume 2.0
DESCRIPTION:See Reception to make an appointment. Please check in 15 minutes before the start of the workshop.
URL:https://workforce.sbcounty.gov/event/resume-2-0-3/2019-11-04/
LOCATION:High Desert America’s Job Center\, 17310 Bear Valley Rd.\, Suite 109\, Victorville\, CA\, 92395\, United States
CATEGORIES:AJCC - High Desert,Job Seeker Workshops
GEO:34.4720748;-117.2842146
X-APPLE-STRUCTURED-LOCATION;VALUE=URI;X-ADDRESS=High Desert America’s Job Center 17310 Bear Valley Rd. Suite 109 Victorville CA 92395 United States;X-APPLE-RADIUS=500;X-TITLE=17310 Bear Valley Rd.\, Suite 109:geo:-117.2842146,34.4720748
END:VEVENT
BEGIN:VEVENT
DTSTART;TZID=America/Denver:20191104T080000
DTEND;TZID=America/Denver:20191104T160000
DTSTAMP:20260423T042042
CREATED:20191031T205809Z
LAST-MODIFIED:20191031T205809Z
UID:10013922-1572854400-1572883200@workforce.sbcounty.gov
SUMMARY:STEPS
DESCRIPTION:See Reception to make an appointment. Please check in 15 minutes before the start of the workshop.
URL:https://workforce.sbcounty.gov/event/steps-16/2019-11-04/
LOCATION:High Desert America’s Job Center\, 17310 Bear Valley Rd.\, Suite 109\, Victorville\, CA\, 92395\, United States
CATEGORIES:AJCC - High Desert,Job Seeker Workshops
GEO:34.4720748;-117.2842146
X-APPLE-STRUCTURED-LOCATION;VALUE=URI;X-ADDRESS=High Desert America’s Job Center 17310 Bear Valley Rd. Suite 109 Victorville CA 92395 United States;X-APPLE-RADIUS=500;X-TITLE=17310 Bear Valley Rd.\, Suite 109:geo:-117.2842146,34.4720748
END:VEVENT
BEGIN:VEVENT
DTSTART;TZID=America/Denver:20191028T130000
DTEND;TZID=America/Denver:20191028T150000
DTSTAMP:20260423T042042
CREATED:20190725T223351Z
LAST-MODIFIED:20190725T223351Z
UID:10013838-1572267600-1572274800@workforce.sbcounty.gov
SUMMARY:How to apply for a State Job
DESCRIPTION:See Reception to make an appointment. Please check in 15 minutes before the start of the workshop.
URL:https://workforce.sbcounty.gov/event/how-to-apply-for-a-state-job-3/2019-10-28/
LOCATION:High Desert America’s Job Center\, 17310 Bear Valley Rd.\, Suite 109\, Victorville\, CA\, 92395\, United States
CATEGORIES:AJCC - High Desert,Job Seeker Workshops
GEO:34.4720748;-117.2842146
X-APPLE-STRUCTURED-LOCATION;VALUE=URI;X-ADDRESS=High Desert America’s Job Center 17310 Bear Valley Rd. Suite 109 Victorville CA 92395 United States;X-APPLE-RADIUS=500;X-TITLE=17310 Bear Valley Rd.\, Suite 109:geo:-117.2842146,34.4720748
END:VEVENT
BEGIN:VEVENT
DTSTART;TZID=America/Denver:20191024T133000
DTEND;TZID=America/Denver:20191024T153000
DTSTAMP:20260423T042042
CREATED:20190725T223226Z
LAST-MODIFIED:20190725T223226Z
UID:10013805-1571923800-1571931000@workforce.sbcounty.gov
SUMMARY:How to get a County Job
DESCRIPTION:See Reception to make an appointment. Please check in 15 minutes before the start of the workshop.
URL:https://workforce.sbcounty.gov/event/how-to-get-a-county-job-3/2019-10-24/
LOCATION:High Desert America’s Job Center\, 17310 Bear Valley Rd.\, Suite 109\, Victorville\, CA\, 92395\, United States
CATEGORIES:AJCC - High Desert,Job Seeker Workshops
GEO:34.4720748;-117.2842146
X-APPLE-STRUCTURED-LOCATION;VALUE=URI;X-ADDRESS=High Desert America’s Job Center 17310 Bear Valley Rd. Suite 109 Victorville CA 92395 United States;X-APPLE-RADIUS=500;X-TITLE=17310 Bear Valley Rd.\, Suite 109:geo:-117.2842146,34.4720748
END:VEVENT
BEGIN:VEVENT
DTSTART;TZID=America/Denver:20191023T133000
DTEND;TZID=America/Denver:20191023T153000
DTSTAMP:20260423T042042
CREATED:20190606T154649Z
LAST-MODIFIED:20190606T154649Z
UID:10013178-1571837400-1571844600@workforce.sbcounty.gov
SUMMARY:How to Job Search using Indeed/Glassdoor
DESCRIPTION:See Reception to make an appointment. Please check in 15 minutes before the start of the workshop.
URL:https://workforce.sbcounty.gov/event/how-to-job-search-using-indeed-glassdoor/2019-10-23/
LOCATION:High Desert America’s Job Center\, 17310 Bear Valley Rd.\, Suite 109\, Victorville\, CA\, 92395\, United States
CATEGORIES:AJCC - High Desert,Job Seeker Workshops
GEO:34.4720748;-117.2842146
X-APPLE-STRUCTURED-LOCATION;VALUE=URI;X-ADDRESS=High Desert America’s Job Center 17310 Bear Valley Rd. Suite 109 Victorville CA 92395 United States;X-APPLE-RADIUS=500;X-TITLE=17310 Bear Valley Rd.\, Suite 109:geo:-117.2842146,34.4720748
END:VEVENT
BEGIN:VEVENT
DTSTART;TZID=America/Denver:20191017T130000
DTEND;TZID=America/Denver:20191017T150000
DTSTAMP:20260423T042042
CREATED:20190725T222919Z
LAST-MODIFIED:20190725T222919Z
UID:10013757-1571317200-1571324400@workforce.sbcounty.gov
SUMMARY:Resume 1.0
DESCRIPTION:See Reception to make an appointment. Please check in 15 minutes before the start of the workshop.
URL:https://workforce.sbcounty.gov/event/resume-1-0-2/2019-10-17/
LOCATION:High Desert America’s Job Center\, 17310 Bear Valley Rd.\, Suite 109\, Victorville\, CA\, 92395\, United States
CATEGORIES:AJCC - High Desert,Job Seeker Workshops
GEO:34.4720748;-117.2842146
X-APPLE-STRUCTURED-LOCATION;VALUE=URI;X-ADDRESS=High Desert America’s Job Center 17310 Bear Valley Rd. Suite 109 Victorville CA 92395 United States;X-APPLE-RADIUS=500;X-TITLE=17310 Bear Valley Rd.\, Suite 109:geo:-117.2842146,34.4720748
END:VEVENT
END:VCALENDAR