BEGIN:VCALENDAR
VERSION:2.0
PRODID:-//Workforce Development - ECPv6.15.14//NONSGML v1.0//EN
CALSCALE:GREGORIAN
METHOD:PUBLISH
X-WR-CALNAME:Workforce Development
X-ORIGINAL-URL:https://workforce.sbcounty.gov
X-WR-CALDESC:Events for Workforce Development
REFRESH-INTERVAL;VALUE=DURATION:PT1H
X-Robots-Tag:noindex
X-PUBLISHED-TTL:PT1H
BEGIN:VTIMEZONE
TZID:America/Denver
BEGIN:DAYLIGHT
TZOFFSETFROM:-0700
TZOFFSETTO:-0600
TZNAME:MDT
DTSTART:20190310T090000
END:DAYLIGHT
BEGIN:STANDARD
TZOFFSETFROM:-0600
TZOFFSETTO:-0700
TZNAME:MST
DTSTART:20191103T080000
END:STANDARD
BEGIN:DAYLIGHT
TZOFFSETFROM:-0700
TZOFFSETTO:-0600
TZNAME:MDT
DTSTART:20200308T090000
END:DAYLIGHT
BEGIN:STANDARD
TZOFFSETFROM:-0600
TZOFFSETTO:-0700
TZNAME:MST
DTSTART:20201101T080000
END:STANDARD
BEGIN:DAYLIGHT
TZOFFSETFROM:-0700
TZOFFSETTO:-0600
TZNAME:MDT
DTSTART:20210314T090000
END:DAYLIGHT
BEGIN:STANDARD
TZOFFSETFROM:-0600
TZOFFSETTO:-0700
TZNAME:MST
DTSTART:20211107T080000
END:STANDARD
BEGIN:DAYLIGHT
TZOFFSETFROM:-0700
TZOFFSETTO:-0600
TZNAME:MDT
DTSTART:20220313T090000
END:DAYLIGHT
BEGIN:STANDARD
TZOFFSETFROM:-0600
TZOFFSETTO:-0700
TZNAME:MST
DTSTART:20221106T080000
END:STANDARD
BEGIN:DAYLIGHT
TZOFFSETFROM:-0700
TZOFFSETTO:-0600
TZNAME:MDT
DTSTART:20230312T090000
END:DAYLIGHT
BEGIN:STANDARD
TZOFFSETFROM:-0600
TZOFFSETTO:-0700
TZNAME:MST
DTSTART:20231105T080000
END:STANDARD
END:VTIMEZONE
BEGIN:VEVENT
DTSTART;TZID=America/Denver:20220211T083000
DTEND;TZID=America/Denver:20220211T110000
DTSTAMP:20260422T161006
CREATED:20220202T015808Z
LAST-MODIFIED:20220202T015808Z
UID:10017909-1644568200-1644577200@workforce.sbcounty.gov
SUMMARY:Free Tax Preparation Service
DESCRIPTION:Available to eligible individuals and families whose combined household earned income was less than $58\,000 in 2021.  Call to schedule your appointment:  (909) 421-4091 or (909) 421-4093.  \nFor more information\, please visit:  https://wp.sbcounty.gov/tad/resources/
URL:https://workforce.sbcounty.gov/event/free-tax-preparation-service-2/
LOCATION:High Desert America’s Job Center\, 17310 Bear Valley Rd.\, Suite 109\, Victorville\, CA\, 92395\, United States
CATEGORIES:AJCC - High Desert
GEO:34.4720748;-117.2842146
X-APPLE-STRUCTURED-LOCATION;VALUE=URI;X-ADDRESS=High Desert America’s Job Center 17310 Bear Valley Rd. Suite 109 Victorville CA 92395 United States;X-APPLE-RADIUS=500;X-TITLE=17310 Bear Valley Rd.\, Suite 109:geo:-117.2842146,34.4720748
END:VEVENT
BEGIN:VEVENT
DTSTART;TZID=America/Denver:20200326T133000
DTEND;TZID=America/Denver:20200326T153000
DTSTAMP:20260422T161006
CREATED:20200227T193551Z
LAST-MODIFIED:20200227T193551Z
UID:10014042-1585229400-1585236600@workforce.sbcounty.gov
SUMMARY:How to apply for a County Job
DESCRIPTION:See Reception to make an appointment. Please check in 15 minutes before the start of the workshop.
URL:https://workforce.sbcounty.gov/event/how-to-apply-for-a-county-job/
LOCATION:High Desert America’s Job Center\, 17310 Bear Valley Rd.\, Suite 109\, Victorville\, CA\, 92395\, United States
CATEGORIES:AJCC - High Desert,Job Seeker Workshops
GEO:34.4720748;-117.2842146
X-APPLE-STRUCTURED-LOCATION;VALUE=URI;X-ADDRESS=High Desert America’s Job Center 17310 Bear Valley Rd. Suite 109 Victorville CA 92395 United States;X-APPLE-RADIUS=500;X-TITLE=17310 Bear Valley Rd.\, Suite 109:geo:-117.2842146,34.4720748
END:VEVENT
BEGIN:VEVENT
DTSTART;TZID=America/Denver:20200326T133000
DTEND;TZID=America/Denver:20200326T153000
DTSTAMP:20260422T161006
CREATED:20190725T223226Z
LAST-MODIFIED:20190725T223226Z
UID:10013826-1585229400-1585236600@workforce.sbcounty.gov
SUMMARY:How to get a County Job
DESCRIPTION:See Reception to make an appointment. Please check in 15 minutes before the start of the workshop.
URL:https://workforce.sbcounty.gov/event/how-to-get-a-county-job-3/2020-03-26/
LOCATION:High Desert America’s Job Center\, 17310 Bear Valley Rd.\, Suite 109\, Victorville\, CA\, 92395\, United States
CATEGORIES:AJCC - High Desert,Job Seeker Workshops
GEO:34.4720748;-117.2842146
X-APPLE-STRUCTURED-LOCATION;VALUE=URI;X-ADDRESS=High Desert America’s Job Center 17310 Bear Valley Rd. Suite 109 Victorville CA 92395 United States;X-APPLE-RADIUS=500;X-TITLE=17310 Bear Valley Rd.\, Suite 109:geo:-117.2842146,34.4720748
END:VEVENT
BEGIN:VEVENT
DTSTART;TZID=America/Denver:20200325T133000
DTEND;TZID=America/Denver:20200325T153000
DTSTAMP:20260422T161006
CREATED:20190606T154649Z
LAST-MODIFIED:20190606T154649Z
UID:10013184-1585143000-1585150200@workforce.sbcounty.gov
SUMMARY:How to Job Search using Indeed/Glassdoor
DESCRIPTION:See Reception to make an appointment. Please check in 15 minutes before the start of the workshop.
URL:https://workforce.sbcounty.gov/event/how-to-job-search-using-indeed-glassdoor/2020-03-25/
LOCATION:High Desert America’s Job Center\, 17310 Bear Valley Rd.\, Suite 109\, Victorville\, CA\, 92395\, United States
CATEGORIES:AJCC - High Desert,Job Seeker Workshops
GEO:34.4720748;-117.2842146
X-APPLE-STRUCTURED-LOCATION;VALUE=URI;X-ADDRESS=High Desert America’s Job Center 17310 Bear Valley Rd. Suite 109 Victorville CA 92395 United States;X-APPLE-RADIUS=500;X-TITLE=17310 Bear Valley Rd.\, Suite 109:geo:-117.2842146,34.4720748
END:VEVENT
BEGIN:VEVENT
DTSTART;TZID=America/Denver:20200323T130000
DTEND;TZID=America/Denver:20200323T150000
DTSTAMP:20260422T161006
CREATED:20190725T223351Z
LAST-MODIFIED:20190725T223351Z
UID:10013862-1584968400-1584975600@workforce.sbcounty.gov
SUMMARY:How to apply for a State Job
DESCRIPTION:See Reception to make an appointment. Please check in 15 minutes before the start of the workshop.
URL:https://workforce.sbcounty.gov/event/how-to-apply-for-a-state-job-3/2020-03-23/
LOCATION:High Desert America’s Job Center\, 17310 Bear Valley Rd.\, Suite 109\, Victorville\, CA\, 92395\, United States
CATEGORIES:AJCC - High Desert,Job Seeker Workshops
GEO:34.4720748;-117.2842146
X-APPLE-STRUCTURED-LOCATION;VALUE=URI;X-ADDRESS=High Desert America’s Job Center 17310 Bear Valley Rd. Suite 109 Victorville CA 92395 United States;X-APPLE-RADIUS=500;X-TITLE=17310 Bear Valley Rd.\, Suite 109:geo:-117.2842146,34.4720748
END:VEVENT
BEGIN:VEVENT
DTSTART;TZID=America/Denver:20200319T133000
DTEND;TZID=America/Denver:20200319T153000
DTSTAMP:20260422T161006
CREATED:20200107T021232Z
LAST-MODIFIED:20200107T021232Z
UID:10012002-1584624600-1584631800@workforce.sbcounty.gov
SUMMARY:Resume 1.0
DESCRIPTION:See Reception to make an appointment. Please check in 15 minutes before the start of the workshop.
URL:https://workforce.sbcounty.gov/event/resume-1-0-3/2020-03-19/
LOCATION:High Desert America’s Job Center\, 17310 Bear Valley Rd.\, Suite 109\, Victorville\, CA\, 92395\, United States
CATEGORIES:AJCC - High Desert,Job Seeker Workshops
GEO:34.4720748;-117.2842146
X-APPLE-STRUCTURED-LOCATION;VALUE=URI;X-ADDRESS=High Desert America’s Job Center 17310 Bear Valley Rd. Suite 109 Victorville CA 92395 United States;X-APPLE-RADIUS=500;X-TITLE=17310 Bear Valley Rd.\, Suite 109:geo:-117.2842146,34.4720748
END:VEVENT
BEGIN:VEVENT
DTSTART;TZID=America/Denver:20200318T090000
DTEND;TZID=America/Denver:20200318T153000
DTSTAMP:20260422T161006
CREATED:20200227T192801Z
LAST-MODIFIED:20200227T192801Z
UID:10014036-1584522000-1584545400@workforce.sbcounty.gov
SUMMARY:Professional Edge
DESCRIPTION:See Reception to make an appointment. Please check in 15 minutes before the start of the workshop.
URL:https://workforce.sbcounty.gov/event/professional-edge-8/2020-03-18/
LOCATION:High Desert America’s Job Center\, 17310 Bear Valley Rd.\, Suite 109\, Victorville\, CA\, 92395\, United States
CATEGORIES:AJCC - High Desert,Job Seeker Workshops
GEO:34.4720748;-117.2842146
X-APPLE-STRUCTURED-LOCATION;VALUE=URI;X-ADDRESS=High Desert America’s Job Center 17310 Bear Valley Rd. Suite 109 Victorville CA 92395 United States;X-APPLE-RADIUS=500;X-TITLE=17310 Bear Valley Rd.\, Suite 109:geo:-117.2842146,34.4720748
END:VEVENT
BEGIN:VEVENT
DTSTART;TZID=America/Denver:20200317T080000
DTEND;TZID=America/Denver:20200317T160000
DTSTAMP:20260422T161006
CREATED:20200227T194629Z
LAST-MODIFIED:20200227T194629Z
UID:10014048-1584432000-1584460800@workforce.sbcounty.gov
SUMMARY:STEPS
DESCRIPTION:See Reception to make an appointment. Please check in 15 minutes before the start of the workshop.
URL:https://workforce.sbcounty.gov/event/steps-17/2020-03-17/
LOCATION:High Desert America’s Job Center\, 17310 Bear Valley Rd.\, Suite 109\, Victorville\, CA\, 92395\, United States
CATEGORIES:AJCC - High Desert,Job Seeker Workshops
GEO:34.4720748;-117.2842146
X-APPLE-STRUCTURED-LOCATION;VALUE=URI;X-ADDRESS=High Desert America’s Job Center 17310 Bear Valley Rd. Suite 109 Victorville CA 92395 United States;X-APPLE-RADIUS=500;X-TITLE=17310 Bear Valley Rd.\, Suite 109:geo:-117.2842146,34.4720748
END:VEVENT
BEGIN:VEVENT
DTSTART;TZID=America/Denver:20200316T080000
DTEND;TZID=America/Denver:20200316T160000
DTSTAMP:20260422T161006
CREATED:20200227T194629Z
LAST-MODIFIED:20200227T194629Z
UID:10014045-1584345600-1584374400@workforce.sbcounty.gov
SUMMARY:STEPS
DESCRIPTION:See Reception to make an appointment. Please check in 15 minutes before the start of the workshop.
URL:https://workforce.sbcounty.gov/event/steps-17/2020-03-16/
LOCATION:High Desert America’s Job Center\, 17310 Bear Valley Rd.\, Suite 109\, Victorville\, CA\, 92395\, United States
CATEGORIES:AJCC - High Desert,Job Seeker Workshops
GEO:34.4720748;-117.2842146
X-APPLE-STRUCTURED-LOCATION;VALUE=URI;X-ADDRESS=High Desert America’s Job Center 17310 Bear Valley Rd. Suite 109 Victorville CA 92395 United States;X-APPLE-RADIUS=500;X-TITLE=17310 Bear Valley Rd.\, Suite 109:geo:-117.2842146,34.4720748
END:VEVENT
BEGIN:VEVENT
DTSTART;TZID=America/Denver:20200311T090000
DTEND;TZID=America/Denver:20200311T153000
DTSTAMP:20260422T161006
CREATED:20200227T192801Z
LAST-MODIFIED:20200227T192801Z
UID:10014033-1583917200-1583940600@workforce.sbcounty.gov
SUMMARY:Professional Edge
DESCRIPTION:See Reception to make an appointment. Please check in 15 minutes before the start of the workshop.
URL:https://workforce.sbcounty.gov/event/professional-edge-8/2020-03-11/
LOCATION:High Desert America’s Job Center\, 17310 Bear Valley Rd.\, Suite 109\, Victorville\, CA\, 92395\, United States
CATEGORIES:AJCC - High Desert,Job Seeker Workshops
GEO:34.4720748;-117.2842146
X-APPLE-STRUCTURED-LOCATION;VALUE=URI;X-ADDRESS=High Desert America’s Job Center 17310 Bear Valley Rd. Suite 109 Victorville CA 92395 United States;X-APPLE-RADIUS=500;X-TITLE=17310 Bear Valley Rd.\, Suite 109:geo:-117.2842146,34.4720748
END:VEVENT
BEGIN:VEVENT
DTSTART;TZID=America/Denver:20200309T130000
DTEND;TZID=America/Denver:20200309T150000
DTSTAMP:20260422T161006
CREATED:20190725T223351Z
LAST-MODIFIED:20190725T223351Z
UID:10013859-1583758800-1583766000@workforce.sbcounty.gov
SUMMARY:How to apply for a State Job
DESCRIPTION:See Reception to make an appointment. Please check in 15 minutes before the start of the workshop.
URL:https://workforce.sbcounty.gov/event/how-to-apply-for-a-state-job-3/2020-03-09/
LOCATION:High Desert America’s Job Center\, 17310 Bear Valley Rd.\, Suite 109\, Victorville\, CA\, 92395\, United States
CATEGORIES:AJCC - High Desert,Job Seeker Workshops
GEO:34.4720748;-117.2842146
X-APPLE-STRUCTURED-LOCATION;VALUE=URI;X-ADDRESS=High Desert America’s Job Center 17310 Bear Valley Rd. Suite 109 Victorville CA 92395 United States;X-APPLE-RADIUS=500;X-TITLE=17310 Bear Valley Rd.\, Suite 109:geo:-117.2842146,34.4720748
END:VEVENT
BEGIN:VEVENT
DTSTART;TZID=America/Denver:20200305T133000
DTEND;TZID=America/Denver:20200305T153000
DTSTAMP:20260422T161006
CREATED:20200107T021232Z
LAST-MODIFIED:20200107T021232Z
UID:10011999-1583415000-1583422200@workforce.sbcounty.gov
SUMMARY:Resume 1.0
DESCRIPTION:See Reception to make an appointment. Please check in 15 minutes before the start of the workshop.
URL:https://workforce.sbcounty.gov/event/resume-1-0-3/2020-03-05/
LOCATION:High Desert America’s Job Center\, 17310 Bear Valley Rd.\, Suite 109\, Victorville\, CA\, 92395\, United States
CATEGORIES:AJCC - High Desert,Job Seeker Workshops
GEO:34.4720748;-117.2842146
X-APPLE-STRUCTURED-LOCATION;VALUE=URI;X-ADDRESS=High Desert America’s Job Center 17310 Bear Valley Rd. Suite 109 Victorville CA 92395 United States;X-APPLE-RADIUS=500;X-TITLE=17310 Bear Valley Rd.\, Suite 109:geo:-117.2842146,34.4720748
END:VEVENT
BEGIN:VEVENT
DTSTART;TZID=America/Denver:20200304T090000
DTEND;TZID=America/Denver:20200304T153000
DTSTAMP:20260422T161006
CREATED:20200227T192801Z
LAST-MODIFIED:20200227T192801Z
UID:10014030-1583312400-1583335800@workforce.sbcounty.gov
SUMMARY:Professional Edge
DESCRIPTION:See Reception to make an appointment. Please check in 15 minutes before the start of the workshop.
URL:https://workforce.sbcounty.gov/event/professional-edge-8/2020-03-04/
LOCATION:High Desert America’s Job Center\, 17310 Bear Valley Rd.\, Suite 109\, Victorville\, CA\, 92395\, United States
CATEGORIES:AJCC - High Desert,Job Seeker Workshops
GEO:34.4720748;-117.2842146
X-APPLE-STRUCTURED-LOCATION;VALUE=URI;X-ADDRESS=High Desert America’s Job Center 17310 Bear Valley Rd. Suite 109 Victorville CA 92395 United States;X-APPLE-RADIUS=500;X-TITLE=17310 Bear Valley Rd.\, Suite 109:geo:-117.2842146,34.4720748
END:VEVENT
BEGIN:VEVENT
DTSTART;TZID=America/Denver:20200302T130000
DTEND;TZID=America/Denver:20200302T150000
DTSTAMP:20260422T161006
CREATED:20191031T205613Z
LAST-MODIFIED:20191031T205613Z
UID:10013919-1583154000-1583161200@workforce.sbcounty.gov
SUMMARY:Resume 2.0
DESCRIPTION:See Reception to make an appointment. Please check in 15 minutes before the start of the workshop.
URL:https://workforce.sbcounty.gov/event/resume-2-0-3/2020-03-02/
LOCATION:High Desert America’s Job Center\, 17310 Bear Valley Rd.\, Suite 109\, Victorville\, CA\, 92395\, United States
CATEGORIES:AJCC - High Desert,Job Seeker Workshops
GEO:34.4720748;-117.2842146
X-APPLE-STRUCTURED-LOCATION;VALUE=URI;X-ADDRESS=High Desert America’s Job Center 17310 Bear Valley Rd. Suite 109 Victorville CA 92395 United States;X-APPLE-RADIUS=500;X-TITLE=17310 Bear Valley Rd.\, Suite 109:geo:-117.2842146,34.4720748
END:VEVENT
BEGIN:VEVENT
DTSTART;TZID=America/Denver:20200227T133000
DTEND;TZID=America/Denver:20200227T153000
DTSTAMP:20260422T161006
CREATED:20190725T223226Z
LAST-MODIFIED:20190725T223226Z
UID:10013823-1582810200-1582817400@workforce.sbcounty.gov
SUMMARY:How to get a County Job
DESCRIPTION:See Reception to make an appointment. Please check in 15 minutes before the start of the workshop.
URL:https://workforce.sbcounty.gov/event/how-to-get-a-county-job-3/2020-02-27/
LOCATION:High Desert America’s Job Center\, 17310 Bear Valley Rd.\, Suite 109\, Victorville\, CA\, 92395\, United States
CATEGORIES:AJCC - High Desert,Job Seeker Workshops
GEO:34.4720748;-117.2842146
X-APPLE-STRUCTURED-LOCATION;VALUE=URI;X-ADDRESS=High Desert America’s Job Center 17310 Bear Valley Rd. Suite 109 Victorville CA 92395 United States;X-APPLE-RADIUS=500;X-TITLE=17310 Bear Valley Rd.\, Suite 109:geo:-117.2842146,34.4720748
END:VEVENT
BEGIN:VEVENT
DTSTART;TZID=America/Denver:20200226T090000
DTEND;TZID=America/Denver:20200226T153000
DTSTAMP:20260422T161006
CREATED:20190606T153612Z
LAST-MODIFIED:20190606T153612Z
UID:10013136-1582707600-1582731000@workforce.sbcounty.gov
SUMMARY:Professional Edge
DESCRIPTION:See Reception to make an appointment. Please check in 15 minutes before the start of the workshop.
URL:https://workforce.sbcounty.gov/event/professional-edge-4/2020-02-26/
LOCATION:High Desert America’s Job Center\, 17310 Bear Valley Rd.\, Suite 109\, Victorville\, CA\, 92395\, United States
CATEGORIES:AJCC - High Desert,Job Seeker Workshops
GEO:34.4720748;-117.2842146
X-APPLE-STRUCTURED-LOCATION;VALUE=URI;X-ADDRESS=High Desert America’s Job Center 17310 Bear Valley Rd. Suite 109 Victorville CA 92395 United States;X-APPLE-RADIUS=500;X-TITLE=17310 Bear Valley Rd.\, Suite 109:geo:-117.2842146,34.4720748
END:VEVENT
BEGIN:VEVENT
DTSTART;TZID=America/Denver:20200224T130000
DTEND;TZID=America/Denver:20200224T150000
DTSTAMP:20260422T161006
CREATED:20190725T223351Z
LAST-MODIFIED:20190725T223351Z
UID:10013856-1582549200-1582556400@workforce.sbcounty.gov
SUMMARY:How to apply for a State Job
DESCRIPTION:See Reception to make an appointment. Please check in 15 minutes before the start of the workshop.
URL:https://workforce.sbcounty.gov/event/how-to-apply-for-a-state-job-3/2020-02-24/
LOCATION:High Desert America’s Job Center\, 17310 Bear Valley Rd.\, Suite 109\, Victorville\, CA\, 92395\, United States
CATEGORIES:AJCC - High Desert,Job Seeker Workshops
GEO:34.4720748;-117.2842146
X-APPLE-STRUCTURED-LOCATION;VALUE=URI;X-ADDRESS=High Desert America’s Job Center 17310 Bear Valley Rd. Suite 109 Victorville CA 92395 United States;X-APPLE-RADIUS=500;X-TITLE=17310 Bear Valley Rd.\, Suite 109:geo:-117.2842146,34.4720748
END:VEVENT
BEGIN:VEVENT
DTSTART;TZID=America/Denver:20200220T133000
DTEND;TZID=America/Denver:20200220T153000
DTSTAMP:20260422T161006
CREATED:20200107T021232Z
LAST-MODIFIED:20200107T021232Z
UID:10011996-1582205400-1582212600@workforce.sbcounty.gov
SUMMARY:Resume 1.0
DESCRIPTION:See Reception to make an appointment. Please check in 15 minutes before the start of the workshop.
URL:https://workforce.sbcounty.gov/event/resume-1-0-3/2020-02-20/
LOCATION:High Desert America’s Job Center\, 17310 Bear Valley Rd.\, Suite 109\, Victorville\, CA\, 92395\, United States
CATEGORIES:AJCC - High Desert,Job Seeker Workshops
GEO:34.4720748;-117.2842146
X-APPLE-STRUCTURED-LOCATION;VALUE=URI;X-ADDRESS=High Desert America’s Job Center 17310 Bear Valley Rd. Suite 109 Victorville CA 92395 United States;X-APPLE-RADIUS=500;X-TITLE=17310 Bear Valley Rd.\, Suite 109:geo:-117.2842146,34.4720748
END:VEVENT
BEGIN:VEVENT
DTSTART;TZID=America/Denver:20200220T130000
DTEND;TZID=America/Denver:20200220T150000
DTSTAMP:20260422T161006
CREATED:20190725T222919Z
LAST-MODIFIED:20190725T222919Z
UID:10013778-1582203600-1582210800@workforce.sbcounty.gov
SUMMARY:Resume 1.0
DESCRIPTION:See Reception to make an appointment. Please check in 15 minutes before the start of the workshop.
URL:https://workforce.sbcounty.gov/event/resume-1-0-2/2020-02-20/
LOCATION:High Desert America’s Job Center\, 17310 Bear Valley Rd.\, Suite 109\, Victorville\, CA\, 92395\, United States
CATEGORIES:AJCC - High Desert,Job Seeker Workshops
GEO:34.4720748;-117.2842146
X-APPLE-STRUCTURED-LOCATION;VALUE=URI;X-ADDRESS=High Desert America’s Job Center 17310 Bear Valley Rd. Suite 109 Victorville CA 92395 United States;X-APPLE-RADIUS=500;X-TITLE=17310 Bear Valley Rd.\, Suite 109:geo:-117.2842146,34.4720748
END:VEVENT
BEGIN:VEVENT
DTSTART;TZID=America/Denver:20200219T090000
DTEND;TZID=America/Denver:20200219T153000
DTSTAMP:20260422T161006
CREATED:20190606T153612Z
LAST-MODIFIED:20190606T153612Z
UID:10013133-1582102800-1582126200@workforce.sbcounty.gov
SUMMARY:Professional Edge
DESCRIPTION:See Reception to make an appointment. Please check in 15 minutes before the start of the workshop.
URL:https://workforce.sbcounty.gov/event/professional-edge-4/2020-02-19/
LOCATION:High Desert America’s Job Center\, 17310 Bear Valley Rd.\, Suite 109\, Victorville\, CA\, 92395\, United States
CATEGORIES:AJCC - High Desert,Job Seeker Workshops
GEO:34.4720748;-117.2842146
X-APPLE-STRUCTURED-LOCATION;VALUE=URI;X-ADDRESS=High Desert America’s Job Center 17310 Bear Valley Rd. Suite 109 Victorville CA 92395 United States;X-APPLE-RADIUS=500;X-TITLE=17310 Bear Valley Rd.\, Suite 109:geo:-117.2842146,34.4720748
END:VEVENT
BEGIN:VEVENT
DTSTART;TZID=America/Denver:20200213T133000
DTEND;TZID=America/Denver:20200213T153000
DTSTAMP:20260422T161006
CREATED:20190725T223226Z
LAST-MODIFIED:20190725T223226Z
UID:10013820-1581600600-1581607800@workforce.sbcounty.gov
SUMMARY:How to get a County Job
DESCRIPTION:See Reception to make an appointment. Please check in 15 minutes before the start of the workshop.
URL:https://workforce.sbcounty.gov/event/how-to-get-a-county-job-3/2020-02-13/
LOCATION:High Desert America’s Job Center\, 17310 Bear Valley Rd.\, Suite 109\, Victorville\, CA\, 92395\, United States
CATEGORIES:AJCC - High Desert,Job Seeker Workshops
GEO:34.4720748;-117.2842146
X-APPLE-STRUCTURED-LOCATION;VALUE=URI;X-ADDRESS=High Desert America’s Job Center 17310 Bear Valley Rd. Suite 109 Victorville CA 92395 United States;X-APPLE-RADIUS=500;X-TITLE=17310 Bear Valley Rd.\, Suite 109:geo:-117.2842146,34.4720748
END:VEVENT
BEGIN:VEVENT
DTSTART;TZID=America/Denver:20200212T090000
DTEND;TZID=America/Denver:20200212T100000
DTSTAMP:20260422T161006
CREATED:20190606T154649Z
LAST-MODIFIED:20190606T154649Z
UID:10013181-1581498000-1581501600@workforce.sbcounty.gov
SUMMARY:How to Job Search using Indeed/Glassdoor
DESCRIPTION:See Reception to make an appointment. Please check in 15 minutes before the start of the workshop.
URL:https://workforce.sbcounty.gov/event/how-to-job-search-using-indeed-glassdoor/2020-02-12/
LOCATION:High Desert America’s Job Center\, 17310 Bear Valley Rd.\, Suite 109\, Victorville\, CA\, 92395\, United States
CATEGORIES:AJCC - High Desert,Job Seeker Workshops
GEO:34.4720748;-117.2842146
X-APPLE-STRUCTURED-LOCATION;VALUE=URI;X-ADDRESS=High Desert America’s Job Center 17310 Bear Valley Rd. Suite 109 Victorville CA 92395 United States;X-APPLE-RADIUS=500;X-TITLE=17310 Bear Valley Rd.\, Suite 109:geo:-117.2842146,34.4720748
END:VEVENT
BEGIN:VEVENT
DTSTART;TZID=America/Denver:20200210T130000
DTEND;TZID=America/Denver:20200210T150000
DTSTAMP:20260422T161006
CREATED:20190725T223351Z
LAST-MODIFIED:20190725T223351Z
UID:10013853-1581339600-1581346800@workforce.sbcounty.gov
SUMMARY:How to apply for a State Job
DESCRIPTION:See Reception to make an appointment. Please check in 15 minutes before the start of the workshop.
URL:https://workforce.sbcounty.gov/event/how-to-apply-for-a-state-job-3/2020-02-10/
LOCATION:High Desert America’s Job Center\, 17310 Bear Valley Rd.\, Suite 109\, Victorville\, CA\, 92395\, United States
CATEGORIES:AJCC - High Desert,Job Seeker Workshops
GEO:34.4720748;-117.2842146
X-APPLE-STRUCTURED-LOCATION;VALUE=URI;X-ADDRESS=High Desert America’s Job Center 17310 Bear Valley Rd. Suite 109 Victorville CA 92395 United States;X-APPLE-RADIUS=500;X-TITLE=17310 Bear Valley Rd.\, Suite 109:geo:-117.2842146,34.4720748
END:VEVENT
BEGIN:VEVENT
DTSTART;TZID=America/Denver:20200206T133000
DTEND;TZID=America/Denver:20200206T153000
DTSTAMP:20260422T161006
CREATED:20200107T021232Z
LAST-MODIFIED:20200107T021232Z
UID:10011993-1580995800-1581003000@workforce.sbcounty.gov
SUMMARY:Resume 1.0
DESCRIPTION:See Reception to make an appointment. Please check in 15 minutes before the start of the workshop.
URL:https://workforce.sbcounty.gov/event/resume-1-0-3/2020-02-06/
LOCATION:High Desert America’s Job Center\, 17310 Bear Valley Rd.\, Suite 109\, Victorville\, CA\, 92395\, United States
CATEGORIES:AJCC - High Desert,Job Seeker Workshops
GEO:34.4720748;-117.2842146
X-APPLE-STRUCTURED-LOCATION;VALUE=URI;X-ADDRESS=High Desert America’s Job Center 17310 Bear Valley Rd. Suite 109 Victorville CA 92395 United States;X-APPLE-RADIUS=500;X-TITLE=17310 Bear Valley Rd.\, Suite 109:geo:-117.2842146,34.4720748
END:VEVENT
BEGIN:VEVENT
DTSTART;TZID=America/Denver:20200206T130000
DTEND;TZID=America/Denver:20200206T150000
DTSTAMP:20260422T161006
CREATED:20190725T222919Z
LAST-MODIFIED:20190725T222919Z
UID:10013775-1580994000-1581001200@workforce.sbcounty.gov
SUMMARY:Resume 1.0
DESCRIPTION:See Reception to make an appointment. Please check in 15 minutes before the start of the workshop.
URL:https://workforce.sbcounty.gov/event/resume-1-0-2/2020-02-06/
LOCATION:High Desert America’s Job Center\, 17310 Bear Valley Rd.\, Suite 109\, Victorville\, CA\, 92395\, United States
CATEGORIES:AJCC - High Desert,Job Seeker Workshops
GEO:34.4720748;-117.2842146
X-APPLE-STRUCTURED-LOCATION;VALUE=URI;X-ADDRESS=High Desert America’s Job Center 17310 Bear Valley Rd. Suite 109 Victorville CA 92395 United States;X-APPLE-RADIUS=500;X-TITLE=17310 Bear Valley Rd.\, Suite 109:geo:-117.2842146,34.4720748
END:VEVENT
BEGIN:VEVENT
DTSTART;TZID=America/Denver:20200203T130000
DTEND;TZID=America/Denver:20200203T150000
DTSTAMP:20260422T161006
CREATED:20191031T205613Z
LAST-MODIFIED:20191031T205613Z
UID:10013916-1580734800-1580742000@workforce.sbcounty.gov
SUMMARY:Resume 2.0
DESCRIPTION:See Reception to make an appointment. Please check in 15 minutes before the start of the workshop.
URL:https://workforce.sbcounty.gov/event/resume-2-0-3/2020-02-03/
LOCATION:High Desert America’s Job Center\, 17310 Bear Valley Rd.\, Suite 109\, Victorville\, CA\, 92395\, United States
CATEGORIES:AJCC - High Desert,Job Seeker Workshops
GEO:34.4720748;-117.2842146
X-APPLE-STRUCTURED-LOCATION;VALUE=URI;X-ADDRESS=High Desert America’s Job Center 17310 Bear Valley Rd. Suite 109 Victorville CA 92395 United States;X-APPLE-RADIUS=500;X-TITLE=17310 Bear Valley Rd.\, Suite 109:geo:-117.2842146,34.4720748
END:VEVENT
BEGIN:VEVENT
DTSTART;TZID=America/Denver:20200129T090000
DTEND;TZID=America/Denver:20200129T153000
DTSTAMP:20260422T161006
CREATED:20190606T153612Z
LAST-MODIFIED:20190606T153612Z
UID:10013130-1580288400-1580311800@workforce.sbcounty.gov
SUMMARY:Professional Edge
DESCRIPTION:See Reception to make an appointment. Please check in 15 minutes before the start of the workshop.
URL:https://workforce.sbcounty.gov/event/professional-edge-4/2020-01-29/
LOCATION:High Desert America’s Job Center\, 17310 Bear Valley Rd.\, Suite 109\, Victorville\, CA\, 92395\, United States
CATEGORIES:AJCC - High Desert,Job Seeker Workshops
GEO:34.4720748;-117.2842146
X-APPLE-STRUCTURED-LOCATION;VALUE=URI;X-ADDRESS=High Desert America’s Job Center 17310 Bear Valley Rd. Suite 109 Victorville CA 92395 United States;X-APPLE-RADIUS=500;X-TITLE=17310 Bear Valley Rd.\, Suite 109:geo:-117.2842146,34.4720748
END:VEVENT
BEGIN:VEVENT
DTSTART;TZID=America/Denver:20200127T130000
DTEND;TZID=America/Denver:20200127T150000
DTSTAMP:20260422T161006
CREATED:20190725T223351Z
LAST-MODIFIED:20190725T223351Z
UID:10013850-1580130000-1580137200@workforce.sbcounty.gov
SUMMARY:How to apply for a State Job
DESCRIPTION:See Reception to make an appointment. Please check in 15 minutes before the start of the workshop.
URL:https://workforce.sbcounty.gov/event/how-to-apply-for-a-state-job-3/2020-01-27/
LOCATION:High Desert America’s Job Center\, 17310 Bear Valley Rd.\, Suite 109\, Victorville\, CA\, 92395\, United States
CATEGORIES:AJCC - High Desert,Job Seeker Workshops
GEO:34.4720748;-117.2842146
X-APPLE-STRUCTURED-LOCATION;VALUE=URI;X-ADDRESS=High Desert America’s Job Center 17310 Bear Valley Rd. Suite 109 Victorville CA 92395 United States;X-APPLE-RADIUS=500;X-TITLE=17310 Bear Valley Rd.\, Suite 109:geo:-117.2842146,34.4720748
END:VEVENT
BEGIN:VEVENT
DTSTART;TZID=America/Denver:20200123T133000
DTEND;TZID=America/Denver:20200123T153000
DTSTAMP:20260422T161006
CREATED:20190725T223226Z
LAST-MODIFIED:20190725T223226Z
UID:10013817-1579786200-1579793400@workforce.sbcounty.gov
SUMMARY:How to get a County Job
DESCRIPTION:See Reception to make an appointment. Please check in 15 minutes before the start of the workshop.
URL:https://workforce.sbcounty.gov/event/how-to-get-a-county-job-3/2020-01-23/
LOCATION:High Desert America’s Job Center\, 17310 Bear Valley Rd.\, Suite 109\, Victorville\, CA\, 92395\, United States
CATEGORIES:AJCC - High Desert,Job Seeker Workshops
GEO:34.4720748;-117.2842146
X-APPLE-STRUCTURED-LOCATION;VALUE=URI;X-ADDRESS=High Desert America’s Job Center 17310 Bear Valley Rd. Suite 109 Victorville CA 92395 United States;X-APPLE-RADIUS=500;X-TITLE=17310 Bear Valley Rd.\, Suite 109:geo:-117.2842146,34.4720748
END:VEVENT
BEGIN:VEVENT
DTSTART;TZID=America/Denver:20200122T090000
DTEND;TZID=America/Denver:20200122T153000
DTSTAMP:20260422T161006
CREATED:20190606T153612Z
LAST-MODIFIED:20190606T153612Z
UID:10013127-1579683600-1579707000@workforce.sbcounty.gov
SUMMARY:Professional Edge
DESCRIPTION:See Reception to make an appointment. Please check in 15 minutes before the start of the workshop.
URL:https://workforce.sbcounty.gov/event/professional-edge-4/2020-01-22/
LOCATION:High Desert America’s Job Center\, 17310 Bear Valley Rd.\, Suite 109\, Victorville\, CA\, 92395\, United States
CATEGORIES:AJCC - High Desert,Job Seeker Workshops
GEO:34.4720748;-117.2842146
X-APPLE-STRUCTURED-LOCATION;VALUE=URI;X-ADDRESS=High Desert America’s Job Center 17310 Bear Valley Rd. Suite 109 Victorville CA 92395 United States;X-APPLE-RADIUS=500;X-TITLE=17310 Bear Valley Rd.\, Suite 109:geo:-117.2842146,34.4720748
END:VEVENT
END:VCALENDAR