BEGIN:VCALENDAR
VERSION:2.0
PRODID:-//Workforce Development - ECPv6.15.14//NONSGML v1.0//EN
CALSCALE:GREGORIAN
METHOD:PUBLISH
X-WR-CALNAME:Workforce Development
X-ORIGINAL-URL:https://workforce.sbcounty.gov
X-WR-CALDESC:Events for Workforce Development
REFRESH-INTERVAL;VALUE=DURATION:PT1H
X-Robots-Tag:noindex
X-PUBLISHED-TTL:PT1H
BEGIN:VTIMEZONE
TZID:America/Denver
BEGIN:DAYLIGHT
TZOFFSETFROM:-0700
TZOFFSETTO:-0600
TZNAME:MDT
DTSTART:20160313T090000
END:DAYLIGHT
BEGIN:STANDARD
TZOFFSETFROM:-0600
TZOFFSETTO:-0700
TZNAME:MST
DTSTART:20161106T080000
END:STANDARD
BEGIN:DAYLIGHT
TZOFFSETFROM:-0700
TZOFFSETTO:-0600
TZNAME:MDT
DTSTART:20170312T090000
END:DAYLIGHT
BEGIN:STANDARD
TZOFFSETFROM:-0600
TZOFFSETTO:-0700
TZNAME:MST
DTSTART:20171105T080000
END:STANDARD
BEGIN:DAYLIGHT
TZOFFSETFROM:-0700
TZOFFSETTO:-0600
TZNAME:MDT
DTSTART:20180311T090000
END:DAYLIGHT
BEGIN:STANDARD
TZOFFSETFROM:-0600
TZOFFSETTO:-0700
TZNAME:MST
DTSTART:20181104T080000
END:STANDARD
BEGIN:DAYLIGHT
TZOFFSETFROM:-0700
TZOFFSETTO:-0600
TZNAME:MDT
DTSTART:20190310T090000
END:DAYLIGHT
BEGIN:STANDARD
TZOFFSETFROM:-0600
TZOFFSETTO:-0700
TZNAME:MST
DTSTART:20191103T080000
END:STANDARD
END:VTIMEZONE
BEGIN:VEVENT
DTSTART;TZID=America/Denver:20180109T133000
DTEND;TZID=America/Denver:20180109T170000
DTSTAMP:20260424T152045
CREATED:20170925T225611Z
LAST-MODIFIED:20170925T225611Z
UID:10010313-1515504600-1515517200@workforce.sbcounty.gov
SUMMARY:High Desert AJCC:  Job Searching Tips
DESCRIPTION:Job Searching Tips every Tuesday at 1:30 p.m. \nSee Reception to make an appointment. \nPlease check in 15 minutes before the start of the Workshop.
URL:https://workforce.sbcounty.gov/event/job-searching-tips/2018-01-09/
LOCATION:High Desert America’s Job Center\, 17310 Bear Valley Rd.\, Suite 109\, Victorville\, CA\, 92395\, United States
CATEGORIES:AJCC - High Desert
GEO:34.4720748;-117.2842146
X-APPLE-STRUCTURED-LOCATION;VALUE=URI;X-ADDRESS=High Desert America’s Job Center 17310 Bear Valley Rd. Suite 109 Victorville CA 92395 United States;X-APPLE-RADIUS=500;X-TITLE=17310 Bear Valley Rd.\, Suite 109:geo:-117.2842146,34.4720748
END:VEVENT
BEGIN:VEVENT
DTSTART;TZID=America/Denver:20180102T133000
DTEND;TZID=America/Denver:20180102T170000
DTSTAMP:20260424T152045
CREATED:20170925T225611Z
LAST-MODIFIED:20170925T225611Z
UID:10010310-1514899800-1514912400@workforce.sbcounty.gov
SUMMARY:High Desert AJCC:  Job Searching Tips
DESCRIPTION:Job Searching Tips every Tuesday at 1:30 p.m. \nSee Reception to make an appointment. \nPlease check in 15 minutes before the start of the Workshop.
URL:https://workforce.sbcounty.gov/event/job-searching-tips/2018-01-02/
LOCATION:High Desert America’s Job Center\, 17310 Bear Valley Rd.\, Suite 109\, Victorville\, CA\, 92395\, United States
CATEGORIES:AJCC - High Desert
GEO:34.4720748;-117.2842146
X-APPLE-STRUCTURED-LOCATION;VALUE=URI;X-ADDRESS=High Desert America’s Job Center 17310 Bear Valley Rd. Suite 109 Victorville CA 92395 United States;X-APPLE-RADIUS=500;X-TITLE=17310 Bear Valley Rd.\, Suite 109:geo:-117.2842146,34.4720748
END:VEVENT
BEGIN:VEVENT
DTSTART;TZID=America/Denver:20171226T133000
DTEND;TZID=America/Denver:20171226T170000
DTSTAMP:20260424T152045
CREATED:20170925T225611Z
LAST-MODIFIED:20170925T225611Z
UID:10010307-1514295000-1514307600@workforce.sbcounty.gov
SUMMARY:High Desert AJCC:  Job Searching Tips
DESCRIPTION:Job Searching Tips every Tuesday at 1:30 p.m. \nSee Reception to make an appointment. \nPlease check in 15 minutes before the start of the Workshop.
URL:https://workforce.sbcounty.gov/event/job-searching-tips/2017-12-26/
LOCATION:High Desert America’s Job Center\, 17310 Bear Valley Rd.\, Suite 109\, Victorville\, CA\, 92395\, United States
CATEGORIES:AJCC - High Desert
GEO:34.4720748;-117.2842146
X-APPLE-STRUCTURED-LOCATION;VALUE=URI;X-ADDRESS=High Desert America’s Job Center 17310 Bear Valley Rd. Suite 109 Victorville CA 92395 United States;X-APPLE-RADIUS=500;X-TITLE=17310 Bear Valley Rd.\, Suite 109:geo:-117.2842146,34.4720748
END:VEVENT
BEGIN:VEVENT
DTSTART;TZID=America/Denver:20171219T133000
DTEND;TZID=America/Denver:20171219T170000
DTSTAMP:20260424T152045
CREATED:20170925T225611Z
LAST-MODIFIED:20170925T225611Z
UID:10010304-1513690200-1513702800@workforce.sbcounty.gov
SUMMARY:High Desert AJCC:  Job Searching Tips
DESCRIPTION:Job Searching Tips every Tuesday at 1:30 p.m. \nSee Reception to make an appointment. \nPlease check in 15 minutes before the start of the Workshop.
URL:https://workforce.sbcounty.gov/event/job-searching-tips/2017-12-19/
LOCATION:High Desert America’s Job Center\, 17310 Bear Valley Rd.\, Suite 109\, Victorville\, CA\, 92395\, United States
CATEGORIES:AJCC - High Desert
GEO:34.4720748;-117.2842146
X-APPLE-STRUCTURED-LOCATION;VALUE=URI;X-ADDRESS=High Desert America’s Job Center 17310 Bear Valley Rd. Suite 109 Victorville CA 92395 United States;X-APPLE-RADIUS=500;X-TITLE=17310 Bear Valley Rd.\, Suite 109:geo:-117.2842146,34.4720748
END:VEVENT
BEGIN:VEVENT
DTSTART;TZID=America/Denver:20171212T133000
DTEND;TZID=America/Denver:20171212T170000
DTSTAMP:20260424T152045
CREATED:20170925T225611Z
LAST-MODIFIED:20170925T225611Z
UID:10010301-1513085400-1513098000@workforce.sbcounty.gov
SUMMARY:High Desert AJCC:  Job Searching Tips
DESCRIPTION:Job Searching Tips every Tuesday at 1:30 p.m. \nSee Reception to make an appointment. \nPlease check in 15 minutes before the start of the Workshop.
URL:https://workforce.sbcounty.gov/event/job-searching-tips/2017-12-12/
LOCATION:High Desert America’s Job Center\, 17310 Bear Valley Rd.\, Suite 109\, Victorville\, CA\, 92395\, United States
CATEGORIES:AJCC - High Desert
GEO:34.4720748;-117.2842146
X-APPLE-STRUCTURED-LOCATION;VALUE=URI;X-ADDRESS=High Desert America’s Job Center 17310 Bear Valley Rd. Suite 109 Victorville CA 92395 United States;X-APPLE-RADIUS=500;X-TITLE=17310 Bear Valley Rd.\, Suite 109:geo:-117.2842146,34.4720748
END:VEVENT
BEGIN:VEVENT
DTSTART;TZID=America/Denver:20171205T133000
DTEND;TZID=America/Denver:20171205T170000
DTSTAMP:20260424T152045
CREATED:20170925T225611Z
LAST-MODIFIED:20170925T225611Z
UID:10010298-1512480600-1512493200@workforce.sbcounty.gov
SUMMARY:High Desert AJCC:  Job Searching Tips
DESCRIPTION:Job Searching Tips every Tuesday at 1:30 p.m. \nSee Reception to make an appointment. \nPlease check in 15 minutes before the start of the Workshop.
URL:https://workforce.sbcounty.gov/event/job-searching-tips/2017-12-05/
LOCATION:High Desert America’s Job Center\, 17310 Bear Valley Rd.\, Suite 109\, Victorville\, CA\, 92395\, United States
CATEGORIES:AJCC - High Desert
GEO:34.4720748;-117.2842146
X-APPLE-STRUCTURED-LOCATION;VALUE=URI;X-ADDRESS=High Desert America’s Job Center 17310 Bear Valley Rd. Suite 109 Victorville CA 92395 United States;X-APPLE-RADIUS=500;X-TITLE=17310 Bear Valley Rd.\, Suite 109:geo:-117.2842146,34.4720748
END:VEVENT
BEGIN:VEVENT
DTSTART;TZID=America/Denver:20171128T133000
DTEND;TZID=America/Denver:20171128T170000
DTSTAMP:20260424T152045
CREATED:20170925T225611Z
LAST-MODIFIED:20170925T225611Z
UID:10010295-1511875800-1511888400@workforce.sbcounty.gov
SUMMARY:High Desert AJCC:  Job Searching Tips
DESCRIPTION:Job Searching Tips every Tuesday at 1:30 p.m. \nSee Reception to make an appointment. \nPlease check in 15 minutes before the start of the Workshop.
URL:https://workforce.sbcounty.gov/event/job-searching-tips/2017-11-28/
LOCATION:High Desert America’s Job Center\, 17310 Bear Valley Rd.\, Suite 109\, Victorville\, CA\, 92395\, United States
CATEGORIES:AJCC - High Desert
GEO:34.4720748;-117.2842146
X-APPLE-STRUCTURED-LOCATION;VALUE=URI;X-ADDRESS=High Desert America’s Job Center 17310 Bear Valley Rd. Suite 109 Victorville CA 92395 United States;X-APPLE-RADIUS=500;X-TITLE=17310 Bear Valley Rd.\, Suite 109:geo:-117.2842146,34.4720748
END:VEVENT
BEGIN:VEVENT
DTSTART;TZID=America/Denver:20171121T133000
DTEND;TZID=America/Denver:20171121T170000
DTSTAMP:20260424T152045
CREATED:20170925T225611Z
LAST-MODIFIED:20170925T225611Z
UID:10010292-1511271000-1511283600@workforce.sbcounty.gov
SUMMARY:High Desert AJCC:  Job Searching Tips
DESCRIPTION:Job Searching Tips every Tuesday at 1:30 p.m. \nSee Reception to make an appointment. \nPlease check in 15 minutes before the start of the Workshop.
URL:https://workforce.sbcounty.gov/event/job-searching-tips/2017-11-21/
LOCATION:High Desert America’s Job Center\, 17310 Bear Valley Rd.\, Suite 109\, Victorville\, CA\, 92395\, United States
CATEGORIES:AJCC - High Desert
GEO:34.4720748;-117.2842146
X-APPLE-STRUCTURED-LOCATION;VALUE=URI;X-ADDRESS=High Desert America’s Job Center 17310 Bear Valley Rd. Suite 109 Victorville CA 92395 United States;X-APPLE-RADIUS=500;X-TITLE=17310 Bear Valley Rd.\, Suite 109:geo:-117.2842146,34.4720748
END:VEVENT
BEGIN:VEVENT
DTSTART;TZID=America/Denver:20171116T100000
DTEND;TZID=America/Denver:20171116T120000
DTSTAMP:20260424T152045
CREATED:20170926T155933Z
LAST-MODIFIED:20170926T155933Z
UID:10010352-1510826400-1510833600@workforce.sbcounty.gov
SUMMARY:HR Workshop:  Wage and Hour
DESCRIPTION:California’s Minimum wage increased this year. Join CEA for a one hour update to make sure your business meets all of the new Federal and California wage and hour laws. Attend this informative workshop to ensure that you are paying your employees properly and classifying them accurately. We will review the current laws and updates applicable to: \n\nAlternative weeks\nTools and equipment\, uniforms\, and work-related losses\nVacation\, PTO\, holidays\, and sick leave\nRules for hourly\, Salary\, and piece-rate pay\nBonuses\, profit-sharing plans\, and tips\nTravel Time\, make-up time\, meal and rest periods\nOvertime and double-time wages\n\nFor more information\, view the Event Flyer.
URL:https://workforce.sbcounty.gov/event/hr-workshop-wage-and-hour/
LOCATION:High Desert America’s Job Center\, 17310 Bear Valley Rd.\, Suite 109\, Victorville\, CA\, 92395\, United States
CATEGORIES:Employer Workshops
GEO:34.4720748;-117.2842146
X-APPLE-STRUCTURED-LOCATION;VALUE=URI;X-ADDRESS=High Desert America’s Job Center 17310 Bear Valley Rd. Suite 109 Victorville CA 92395 United States;X-APPLE-RADIUS=500;X-TITLE=17310 Bear Valley Rd.\, Suite 109:geo:-117.2842146,34.4720748
END:VEVENT
BEGIN:VEVENT
DTSTART;TZID=America/Denver:20171114T133000
DTEND;TZID=America/Denver:20171114T170000
DTSTAMP:20260424T152045
CREATED:20170925T225611Z
LAST-MODIFIED:20170925T225611Z
UID:10010289-1510666200-1510678800@workforce.sbcounty.gov
SUMMARY:High Desert AJCC:  Job Searching Tips
DESCRIPTION:Job Searching Tips every Tuesday at 1:30 p.m. \nSee Reception to make an appointment. \nPlease check in 15 minutes before the start of the Workshop.
URL:https://workforce.sbcounty.gov/event/job-searching-tips/2017-11-14/
LOCATION:High Desert America’s Job Center\, 17310 Bear Valley Rd.\, Suite 109\, Victorville\, CA\, 92395\, United States
CATEGORIES:AJCC - High Desert
GEO:34.4720748;-117.2842146
X-APPLE-STRUCTURED-LOCATION;VALUE=URI;X-ADDRESS=High Desert America’s Job Center 17310 Bear Valley Rd. Suite 109 Victorville CA 92395 United States;X-APPLE-RADIUS=500;X-TITLE=17310 Bear Valley Rd.\, Suite 109:geo:-117.2842146,34.4720748
END:VEVENT
BEGIN:VEVENT
DTSTART;TZID=America/Denver:20171107T133000
DTEND;TZID=America/Denver:20171107T170000
DTSTAMP:20260424T152045
CREATED:20170925T225611Z
LAST-MODIFIED:20170925T225611Z
UID:10010286-1510061400-1510074000@workforce.sbcounty.gov
SUMMARY:High Desert AJCC:  Job Searching Tips
DESCRIPTION:Job Searching Tips every Tuesday at 1:30 p.m. \nSee Reception to make an appointment. \nPlease check in 15 minutes before the start of the Workshop.
URL:https://workforce.sbcounty.gov/event/job-searching-tips/2017-11-07/
LOCATION:High Desert America’s Job Center\, 17310 Bear Valley Rd.\, Suite 109\, Victorville\, CA\, 92395\, United States
CATEGORIES:AJCC - High Desert
GEO:34.4720748;-117.2842146
X-APPLE-STRUCTURED-LOCATION;VALUE=URI;X-ADDRESS=High Desert America’s Job Center 17310 Bear Valley Rd. Suite 109 Victorville CA 92395 United States;X-APPLE-RADIUS=500;X-TITLE=17310 Bear Valley Rd.\, Suite 109:geo:-117.2842146,34.4720748
END:VEVENT
BEGIN:VEVENT
DTSTART;TZID=America/Denver:20171031T133000
DTEND;TZID=America/Denver:20171031T170000
DTSTAMP:20260424T152045
CREATED:20170925T225611Z
LAST-MODIFIED:20170925T225611Z
UID:10010283-1509456600-1509469200@workforce.sbcounty.gov
SUMMARY:High Desert AJCC:  Job Searching Tips
DESCRIPTION:Job Searching Tips every Tuesday at 1:30 p.m. \nSee Reception to make an appointment. \nPlease check in 15 minutes before the start of the Workshop.
URL:https://workforce.sbcounty.gov/event/job-searching-tips/2017-10-31/
LOCATION:High Desert America’s Job Center\, 17310 Bear Valley Rd.\, Suite 109\, Victorville\, CA\, 92395\, United States
CATEGORIES:AJCC - High Desert
GEO:34.4720748;-117.2842146
X-APPLE-STRUCTURED-LOCATION;VALUE=URI;X-ADDRESS=High Desert America’s Job Center 17310 Bear Valley Rd. Suite 109 Victorville CA 92395 United States;X-APPLE-RADIUS=500;X-TITLE=17310 Bear Valley Rd.\, Suite 109:geo:-117.2842146,34.4720748
END:VEVENT
BEGIN:VEVENT
DTSTART;TZID=America/Denver:20171024T133000
DTEND;TZID=America/Denver:20171024T170000
DTSTAMP:20260424T152045
CREATED:20170925T225611Z
LAST-MODIFIED:20170925T225611Z
UID:10010280-1508851800-1508864400@workforce.sbcounty.gov
SUMMARY:High Desert AJCC:  Job Searching Tips
DESCRIPTION:Job Searching Tips every Tuesday at 1:30 p.m. \nSee Reception to make an appointment. \nPlease check in 15 minutes before the start of the Workshop.
URL:https://workforce.sbcounty.gov/event/job-searching-tips/2017-10-24/
LOCATION:High Desert America’s Job Center\, 17310 Bear Valley Rd.\, Suite 109\, Victorville\, CA\, 92395\, United States
CATEGORIES:AJCC - High Desert
GEO:34.4720748;-117.2842146
X-APPLE-STRUCTURED-LOCATION;VALUE=URI;X-ADDRESS=High Desert America’s Job Center 17310 Bear Valley Rd. Suite 109 Victorville CA 92395 United States;X-APPLE-RADIUS=500;X-TITLE=17310 Bear Valley Rd.\, Suite 109:geo:-117.2842146,34.4720748
END:VEVENT
BEGIN:VEVENT
DTSTART;TZID=America/Denver:20171017T133000
DTEND;TZID=America/Denver:20171017T170000
DTSTAMP:20260424T152045
CREATED:20170925T225611Z
LAST-MODIFIED:20170925T225611Z
UID:10010277-1508247000-1508259600@workforce.sbcounty.gov
SUMMARY:High Desert AJCC:  Job Searching Tips
DESCRIPTION:Job Searching Tips every Tuesday at 1:30 p.m. \nSee Reception to make an appointment. \nPlease check in 15 minutes before the start of the Workshop.
URL:https://workforce.sbcounty.gov/event/job-searching-tips/2017-10-17/
LOCATION:High Desert America’s Job Center\, 17310 Bear Valley Rd.\, Suite 109\, Victorville\, CA\, 92395\, United States
CATEGORIES:AJCC - High Desert
GEO:34.4720748;-117.2842146
X-APPLE-STRUCTURED-LOCATION;VALUE=URI;X-ADDRESS=High Desert America’s Job Center 17310 Bear Valley Rd. Suite 109 Victorville CA 92395 United States;X-APPLE-RADIUS=500;X-TITLE=17310 Bear Valley Rd.\, Suite 109:geo:-117.2842146,34.4720748
END:VEVENT
BEGIN:VEVENT
DTSTART;TZID=America/Denver:20171010T133000
DTEND;TZID=America/Denver:20171010T170000
DTSTAMP:20260424T152045
CREATED:20170925T225611Z
LAST-MODIFIED:20170925T225611Z
UID:10010274-1507642200-1507654800@workforce.sbcounty.gov
SUMMARY:High Desert AJCC:  Job Searching Tips
DESCRIPTION:Job Searching Tips every Tuesday at 1:30 p.m. \nSee Reception to make an appointment. \nPlease check in 15 minutes before the start of the Workshop.
URL:https://workforce.sbcounty.gov/event/job-searching-tips/2017-10-10/
LOCATION:High Desert America’s Job Center\, 17310 Bear Valley Rd.\, Suite 109\, Victorville\, CA\, 92395\, United States
CATEGORIES:AJCC - High Desert
GEO:34.4720748;-117.2842146
X-APPLE-STRUCTURED-LOCATION;VALUE=URI;X-ADDRESS=High Desert America’s Job Center 17310 Bear Valley Rd. Suite 109 Victorville CA 92395 United States;X-APPLE-RADIUS=500;X-TITLE=17310 Bear Valley Rd.\, Suite 109:geo:-117.2842146,34.4720748
END:VEVENT
BEGIN:VEVENT
DTSTART;TZID=America/Denver:20171003T133000
DTEND;TZID=America/Denver:20171003T170000
DTSTAMP:20260424T152046
CREATED:20170925T225611Z
LAST-MODIFIED:20170925T225611Z
UID:10010271-1507037400-1507050000@workforce.sbcounty.gov
SUMMARY:High Desert AJCC:  Job Searching Tips
DESCRIPTION:Job Searching Tips every Tuesday at 1:30 p.m. \nSee Reception to make an appointment. \nPlease check in 15 minutes before the start of the Workshop.
URL:https://workforce.sbcounty.gov/event/job-searching-tips/2017-10-03/
LOCATION:High Desert America’s Job Center\, 17310 Bear Valley Rd.\, Suite 109\, Victorville\, CA\, 92395\, United States
CATEGORIES:AJCC - High Desert
GEO:34.4720748;-117.2842146
X-APPLE-STRUCTURED-LOCATION;VALUE=URI;X-ADDRESS=High Desert America’s Job Center 17310 Bear Valley Rd. Suite 109 Victorville CA 92395 United States;X-APPLE-RADIUS=500;X-TITLE=17310 Bear Valley Rd.\, Suite 109:geo:-117.2842146,34.4720748
END:VEVENT
BEGIN:VEVENT
DTSTART;TZID=America/Denver:20170928T100000
DTEND;TZID=America/Denver:20170928T120000
DTSTAMP:20260424T152046
CREATED:20170926T155026Z
LAST-MODIFIED:20170926T155026Z
UID:10010337-1506592800-1506600000@workforce.sbcounty.gov
SUMMARY:Marketing Workshop: Q&A Social Media Workshop
DESCRIPTION:Get your questions answered when it comes to social media. Bring your laptop and ask all your social media related questions. Learn the most effective strategies in growing your business using social media sites like Facebook\, twitter\, Instagram etc. \nFor more information\, please view the Event Flyer.
URL:https://workforce.sbcounty.gov/event/marketing-workshop-qa-social-media-workshop/
LOCATION:High Desert America’s Job Center\, 17310 Bear Valley Rd.\, Suite 109\, Victorville\, CA\, 92395\, United States
CATEGORIES:Employer Workshops
GEO:34.4720748;-117.2842146
X-APPLE-STRUCTURED-LOCATION;VALUE=URI;X-ADDRESS=High Desert America’s Job Center 17310 Bear Valley Rd. Suite 109 Victorville CA 92395 United States;X-APPLE-RADIUS=500;X-TITLE=17310 Bear Valley Rd.\, Suite 109:geo:-117.2842146,34.4720748
END:VEVENT
BEGIN:VEVENT
DTSTART;TZID=America/Denver:20170926T133000
DTEND;TZID=America/Denver:20170926T170000
DTSTAMP:20260424T152046
CREATED:20170925T225611Z
LAST-MODIFIED:20170925T225611Z
UID:10010268-1506432600-1506445200@workforce.sbcounty.gov
SUMMARY:High Desert AJCC:  Job Searching Tips
DESCRIPTION:Job Searching Tips every Tuesday at 1:30 p.m. \nSee Reception to make an appointment. \nPlease check in 15 minutes before the start of the Workshop.
URL:https://workforce.sbcounty.gov/event/job-searching-tips/2017-09-26/
LOCATION:High Desert America’s Job Center\, 17310 Bear Valley Rd.\, Suite 109\, Victorville\, CA\, 92395\, United States
CATEGORIES:AJCC - High Desert
GEO:34.4720748;-117.2842146
X-APPLE-STRUCTURED-LOCATION;VALUE=URI;X-ADDRESS=High Desert America’s Job Center 17310 Bear Valley Rd. Suite 109 Victorville CA 92395 United States;X-APPLE-RADIUS=500;X-TITLE=17310 Bear Valley Rd.\, Suite 109:geo:-117.2842146,34.4720748
END:VEVENT
BEGIN:VEVENT
DTSTART;TZID=America/Denver:20170824T090000
DTEND;TZID=America/Denver:20170824T120000
DTSTAMP:20260424T152046
CREATED:20170808T150848Z
LAST-MODIFIED:20170808T150848Z
UID:10010256-1503565200-1503576000@workforce.sbcounty.gov
SUMMARY:Hiring Event: High Desert America's Job Center of California
DESCRIPTION:Come with a resume in hand and ready for an interview with potential employer(s). 
URL:https://workforce.sbcounty.gov/event/hiring-event-high-desert-americas-job-center-of-california-3/
LOCATION:High Desert America’s Job Center\, 17310 Bear Valley Rd.\, Suite 109\, Victorville\, CA\, 92395\, United States
CATEGORIES:Recruitments/Job Fairs
GEO:34.4720748;-117.2842146
X-APPLE-STRUCTURED-LOCATION;VALUE=URI;X-ADDRESS=High Desert America’s Job Center 17310 Bear Valley Rd. Suite 109 Victorville CA 92395 United States;X-APPLE-RADIUS=500;X-TITLE=17310 Bear Valley Rd.\, Suite 109:geo:-117.2842146,34.4720748
END:VEVENT
BEGIN:VEVENT
DTSTART;TZID=America/Denver:20170804T090000
DTEND;TZID=America/Denver:20170804T120000
DTSTAMP:20260424T152046
CREATED:20170802T145846Z
LAST-MODIFIED:20170802T145846Z
UID:10009686-1501837200-1501848000@workforce.sbcounty.gov
SUMMARY:Hiring Event:  High Desert America's Job Center of California
DESCRIPTION:Come with a resume in hand and ready for an interview with potential employer(s). \n 
URL:https://workforce.sbcounty.gov/event/hiring-event-high-desert-americas-job-center-of-california-2/
LOCATION:High Desert America’s Job Center\, 17310 Bear Valley Rd.\, Suite 109\, Victorville\, CA\, 92395\, United States
CATEGORIES:Recruitments/Job Fairs
GEO:34.4720748;-117.2842146
X-APPLE-STRUCTURED-LOCATION;VALUE=URI;X-ADDRESS=High Desert America’s Job Center 17310 Bear Valley Rd. Suite 109 Victorville CA 92395 United States;X-APPLE-RADIUS=500;X-TITLE=17310 Bear Valley Rd.\, Suite 109:geo:-117.2842146,34.4720748
END:VEVENT
BEGIN:VEVENT
DTSTART;TZID=America/Denver:20170726T093000
DTEND;TZID=America/Denver:20170726T130000
DTSTAMP:20260424T152046
CREATED:20170720T224142Z
LAST-MODIFIED:20170720T224142Z
UID:10009683-1501061400-1501074000@workforce.sbcounty.gov
SUMMARY:Hiring Event: High Desert America’s Job Center of California
DESCRIPTION:Multiple full-time and part-time positions available in various fields. \nCome with a resume in hand and ready for an interview with potential employers.  \n\n\n\n\n\n\n\n 
URL:https://workforce.sbcounty.gov/event/hiring-event-high-desert-americas-job-center-of-california/
LOCATION:High Desert America’s Job Center\, 17310 Bear Valley Rd.\, Suite 109\, Victorville\, CA\, 92395\, United States
CATEGORIES:Recruitments/Job Fairs
GEO:34.4720748;-117.2842146
X-APPLE-STRUCTURED-LOCATION;VALUE=URI;X-ADDRESS=High Desert America’s Job Center 17310 Bear Valley Rd. Suite 109 Victorville CA 92395 United States;X-APPLE-RADIUS=500;X-TITLE=17310 Bear Valley Rd.\, Suite 109:geo:-117.2842146,34.4720748
END:VEVENT
BEGIN:VEVENT
DTSTART;TZID=America/Denver:20170622T100000
DTEND;TZID=America/Denver:20170622T120000
DTSTAMP:20260424T152046
CREATED:20170125T173020Z
LAST-MODIFIED:20170125T173020Z
UID:10010025-1498125600-1498132800@workforce.sbcounty.gov
SUMMARY:Marketing Workshop: The Right Way to Market Your Business on Facebook
DESCRIPTION:If you’re looking to reach the consumer in today’s online marketing landscape\, Facebook is where it’s at. Learn how to get more “Likes” from your target market\, post more high-quality posts\, drive sales and analyze your efforts. We will show you what to do and what not to do on Facebook for your business. If you have a clearly identifiable target market\, you won’t want to miss this workshop. \nFor more information\, please view the Event Flyer.
URL:https://workforce.sbcounty.gov/event/the-right-way-to-market-your-business-on-facebook/
LOCATION:High Desert America’s Job Center\, 17310 Bear Valley Rd.\, Suite 109\, Victorville\, CA\, 92395\, United States
CATEGORIES:Employer Workshops
GEO:34.4720748;-117.2842146
X-APPLE-STRUCTURED-LOCATION;VALUE=URI;X-ADDRESS=High Desert America’s Job Center 17310 Bear Valley Rd. Suite 109 Victorville CA 92395 United States;X-APPLE-RADIUS=500;X-TITLE=17310 Bear Valley Rd.\, Suite 109:geo:-117.2842146,34.4720748
END:VEVENT
BEGIN:VEVENT
DTSTART;TZID=America/Denver:20170511T100000
DTEND;TZID=America/Denver:20170511T120000
DTSTAMP:20260424T152046
CREATED:20170125T173825Z
LAST-MODIFIED:20170125T173825Z
UID:10010037-1494496800-1494504000@workforce.sbcounty.gov
SUMMARY:HR Workshop:  Top HR Hotline Questions
DESCRIPTION:Thousands of employers have called the HR Hotline for assistance with real life employment situations that could easily land an employer in court.   This presentation reviews those calls and explains the top 10 ways employers can stay out of court.  Geared around preventative measures business owners and managers can easily put into place to help them “Stay Out of Court” this fast paced seminar is engaging and interactive. Topics to be covered include:  \n\nEstablishing hiring ground rules\nUnderstanding CA Leave Laws\nEnsuring exempt employees are really exempt\nBreaks and Lunches\nProtected Classes\nHarassment Avoidance\n\nFor more information\, please view the Event Flyer.
URL:https://workforce.sbcounty.gov/event/top-hr-hotline-questions/
LOCATION:High Desert America’s Job Center\, 17310 Bear Valley Rd.\, Suite 109\, Victorville\, CA\, 92395\, United States
CATEGORIES:Employer Workshops
GEO:34.4720748;-117.2842146
X-APPLE-STRUCTURED-LOCATION;VALUE=URI;X-ADDRESS=High Desert America’s Job Center 17310 Bear Valley Rd. Suite 109 Victorville CA 92395 United States;X-APPLE-RADIUS=500;X-TITLE=17310 Bear Valley Rd.\, Suite 109:geo:-117.2842146,34.4720748
END:VEVENT
BEGIN:VEVENT
DTSTART;TZID=America/Denver:20170330T100000
DTEND;TZID=America/Denver:20170330T120000
DTSTAMP:20260424T152046
CREATED:20170125T020456Z
LAST-MODIFIED:20170125T020456Z
UID:10010016-1490868000-1490875200@workforce.sbcounty.gov
SUMMARY:Marketing Workshop: Email Marketing to Get the Sale
DESCRIPTION:Most internet marketers agree\, the best way to get the sale online is through email marketing. Learn how to use email tools like MailChimp and Constant Contact to create high-quality emails that sell. We’ll teach you the best tactics and techniques for building an email list\, creating emails\, converting sales and analyzing your email marketing efforts. \nFor more information\, please view the Event Flyer.
URL:https://workforce.sbcounty.gov/event/email-marketing-to-get-the-sale/
LOCATION:High Desert America’s Job Center\, 17310 Bear Valley Rd.\, Suite 109\, Victorville\, CA\, 92395\, United States
CATEGORIES:Employer Workshops
GEO:34.4720748;-117.2842146
X-APPLE-STRUCTURED-LOCATION;VALUE=URI;X-ADDRESS=High Desert America’s Job Center 17310 Bear Valley Rd. Suite 109 Victorville CA 92395 United States;X-APPLE-RADIUS=500;X-TITLE=17310 Bear Valley Rd.\, Suite 109:geo:-117.2842146,34.4720748
END:VEVENT
BEGIN:VEVENT
DTSTART;TZID=America/Denver:20170126T100000
DTEND;TZID=America/Denver:20170126T120000
DTSTAMP:20260424T152046
CREATED:20161214T013554Z
LAST-MODIFIED:20161214T013554Z
UID:10009989-1485424800-1485432000@workforce.sbcounty.gov
SUMMARY:2017 Labor Law Update
DESCRIPTION:The Department of Industrial Relations and its Labor Commissioner’s Office has launched an online system so that employees can easily report labor law violations. We’ll help you understand California’s newest Workplace Laws so you can stay in compliance and out of hot water. \n2017 Labor Law Update
URL:https://workforce.sbcounty.gov/event/2017-labor-law-update-2/
LOCATION:High Desert America’s Job Center\, 17310 Bear Valley Rd.\, Suite 109\, Victorville\, CA\, 92395\, United States
CATEGORIES:Employer Workshops
GEO:34.4720748;-117.2842146
X-APPLE-STRUCTURED-LOCATION;VALUE=URI;X-ADDRESS=High Desert America’s Job Center 17310 Bear Valley Rd. Suite 109 Victorville CA 92395 United States;X-APPLE-RADIUS=500;X-TITLE=17310 Bear Valley Rd.\, Suite 109:geo:-117.2842146,34.4720748
END:VEVENT
END:VCALENDAR