BEGIN:VCALENDAR
VERSION:2.0
PRODID:-//Workforce Development - ECPv6.15.14//NONSGML v1.0//EN
CALSCALE:GREGORIAN
METHOD:PUBLISH
X-ORIGINAL-URL:https://workforce.sbcounty.gov
X-WR-CALDESC:Events for Workforce Development
REFRESH-INTERVAL;VALUE=DURATION:PT1H
X-Robots-Tag:noindex
X-PUBLISHED-TTL:PT1H
BEGIN:VTIMEZONE
TZID:America/Denver
BEGIN:DAYLIGHT
TZOFFSETFROM:-0700
TZOFFSETTO:-0600
TZNAME:MDT
DTSTART:20190310T090000
END:DAYLIGHT
BEGIN:STANDARD
TZOFFSETFROM:-0600
TZOFFSETTO:-0700
TZNAME:MST
DTSTART:20191103T080000
END:STANDARD
BEGIN:DAYLIGHT
TZOFFSETFROM:-0700
TZOFFSETTO:-0600
TZNAME:MDT
DTSTART:20200308T090000
END:DAYLIGHT
BEGIN:STANDARD
TZOFFSETFROM:-0600
TZOFFSETTO:-0700
TZNAME:MST
DTSTART:20201101T080000
END:STANDARD
BEGIN:DAYLIGHT
TZOFFSETFROM:-0700
TZOFFSETTO:-0600
TZNAME:MDT
DTSTART:20210314T090000
END:DAYLIGHT
BEGIN:STANDARD
TZOFFSETFROM:-0600
TZOFFSETTO:-0700
TZNAME:MST
DTSTART:20211107T080000
END:STANDARD
END:VTIMEZONE
BEGIN:VEVENT
DTSTART;TZID=America/Denver:20200902T080000
DTEND;TZID=America/Denver:20200902T093000
DTSTAMP:20260424T073014
CREATED:20200826T162027Z
LAST-MODIFIED:20200826T162027Z
UID:10014144-1599033600-1599039000@workforce.sbcounty.gov
SUMMARY:WDB Executive Board Meeting
DESCRIPTION:
URL:https://workforce.sbcounty.gov/event/wdb-executive-board-meeting-10/
LOCATION:WDD Administration Office\, 290 N D Street\, Suite 600\, San Bernardino\, CA\, 92415\, United States
CATEGORIES:WDB Meeting
GEO:34.104158;-117.2922462
X-APPLE-STRUCTURED-LOCATION;VALUE=URI;X-ADDRESS=WDD Administration Office 290 N D Street Suite 600 San Bernardino CA 92415 United States;X-APPLE-RADIUS=500;X-TITLE=290 N D Street\, Suite 600:geo:-117.2922462,34.104158
END:VEVENT
BEGIN:VEVENT
DTSTART;TZID=America/Denver:20200910T100000
DTEND;TZID=America/Denver:20200910T120000
DTSTAMP:20260424T073014
CREATED:20200831T175058Z
LAST-MODIFIED:20200831T175058Z
UID:10014147-1599732000-1599739200@workforce.sbcounty.gov
SUMMARY:Creating a Culture of Diversity\, Equity and Inclusion
DESCRIPTION:This is a webinar. To register\, click here.
URL:https://workforce.sbcounty.gov/event/creating-a-culture-of-diversity-equity-and-inclusion/
LOCATION:CA
CATEGORIES:Employer Workshops
END:VEVENT
BEGIN:VEVENT
DTSTART;TZID=America/Denver:20200917T100000
DTEND;TZID=America/Denver:20200917T120000
DTSTAMP:20260424T073014
CREATED:20200831T175332Z
LAST-MODIFIED:20200831T175332Z
UID:10014150-1600336800-1600344000@workforce.sbcounty.gov
SUMMARY:Financial Management During COVID-19 Crisis Part 1  (2 Part Presentation)
DESCRIPTION:This is a webinar. To register\, click here.
URL:https://workforce.sbcounty.gov/event/financial-management-during-covid-19-crisis-part-1-2-part-presentation/
LOCATION:CA
CATEGORIES:Employer Workshops
END:VEVENT
BEGIN:VEVENT
DTSTART;TZID=America/Denver:20200923T080000
DTEND;TZID=America/Denver:20200923T093000
DTSTAMP:20260424T073014
CREATED:20190517T203155Z
LAST-MODIFIED:20190517T203155Z
UID:10013217-1600848000-1600853400@workforce.sbcounty.gov
SUMMARY:WDB Executive Board Meeting
DESCRIPTION:*Meeting Dates/Times subject to change \nFor agendas: See the Board Agendas & Minutes Page – 72 hours before the meeting
URL:https://workforce.sbcounty.gov/event/wdb-executive-board-meeting-7-2019-07-10/2020-09-23/
LOCATION:WDD Administration Office\, 290 N D Street\, Suite 600\, San Bernardino\, CA\, 92415\, United States
CATEGORIES:WDB Meeting
GEO:34.104158;-117.2922462
X-APPLE-STRUCTURED-LOCATION;VALUE=URI;X-ADDRESS=WDD Administration Office 290 N D Street Suite 600 San Bernardino CA 92415 United States;X-APPLE-RADIUS=500;X-TITLE=290 N D Street\, Suite 600:geo:-117.2922462,34.104158
END:VEVENT
BEGIN:VEVENT
DTSTART;TZID=America/Denver:20200923T080000
DTEND;TZID=America/Denver:20200923T093000
DTSTAMP:20260424T073014
CREATED:20200630T173349Z
LAST-MODIFIED:20200630T173349Z
UID:10014078-1600848000-1600853400@workforce.sbcounty.gov
SUMMARY:WDB Executive Board Meeting
DESCRIPTION:
URL:https://workforce.sbcounty.gov/event/wdb-executive-board-meeting-17/
LOCATION:Via Zoom Conference Call
CATEGORIES:WDB Meeting
END:VEVENT
BEGIN:VEVENT
DTSTART;TZID=America/Denver:20200923T093000
DTEND;TZID=America/Denver:20200923T110000
DTSTAMP:20260424T073014
CREATED:20200630T173809Z
LAST-MODIFIED:20200630T173809Z
UID:10014096-1600853400-1600858800@workforce.sbcounty.gov
SUMMARY:WDB Special Populations Committee Meeting
DESCRIPTION:
URL:https://workforce.sbcounty.gov/event/wdb-special-populations-committee-meeting-11/
LOCATION:Via Zoom Conference Call
CATEGORIES:WDB Meeting
END:VEVENT
BEGIN:VEVENT
DTSTART;TZID=America/Denver:20200923T110000
DTEND;TZID=America/Denver:20200923T123000
DTSTAMP:20260424T073014
CREATED:20200630T174027Z
LAST-MODIFIED:20200630T174027Z
UID:10014111-1600858800-1600864200@workforce.sbcounty.gov
SUMMARY:WDB Youth Committee Meeting
DESCRIPTION:
URL:https://workforce.sbcounty.gov/event/wdb-youth-committee-meeting-9/
LOCATION:Via Zoom Conference Call
CATEGORIES:WDB Meeting
END:VEVENT
BEGIN:VEVENT
DTSTART;TZID=America/Denver:20200923T130000
DTEND;TZID=America/Denver:20200923T143000
DTSTAMP:20260424T073014
CREATED:20200630T174257Z
LAST-MODIFIED:20200630T174257Z
UID:10014123-1600866000-1600871400@workforce.sbcounty.gov
SUMMARY:WDB Economic Development and Business Resource (EDBR) Committee Meeting
DESCRIPTION:
URL:https://workforce.sbcounty.gov/event/wdb-economic-development-and-business-resource-edbr-committee-meeting/
LOCATION:Via Zoom Conference Call
CATEGORIES:WDB Meeting
END:VEVENT
BEGIN:VEVENT
DTSTART;TZID=America/Denver:20200924T100000
DTEND;TZID=America/Denver:20200924T120000
DTSTAMP:20260424T073014
CREATED:20200831T175504Z
LAST-MODIFIED:20200831T175504Z
UID:10014153-1600941600-1600948800@workforce.sbcounty.gov
SUMMARY:Financial Management During COVID-19 Crisis Part 2
DESCRIPTION:This is a webinar. To register\, click here.
URL:https://workforce.sbcounty.gov/event/financial-management-during-covid-19-crisis-part-2/
LOCATION:CA
CATEGORIES:Employer Workshops
END:VEVENT
END:VCALENDAR