BEGIN:VCALENDAR
VERSION:2.0
PRODID:-//Workforce Development - ECPv6.15.14//NONSGML v1.0//EN
CALSCALE:GREGORIAN
METHOD:PUBLISH
X-WR-CALNAME:Workforce Development
X-ORIGINAL-URL:https://workforce.sbcounty.gov
X-WR-CALDESC:Events for Workforce Development
REFRESH-INTERVAL;VALUE=DURATION:PT1H
X-Robots-Tag:noindex
X-PUBLISHED-TTL:PT1H
BEGIN:VTIMEZONE
TZID:America/Denver
BEGIN:DAYLIGHT
TZOFFSETFROM:-0700
TZOFFSETTO:-0600
TZNAME:MDT
DTSTART:20190310T090000
END:DAYLIGHT
BEGIN:STANDARD
TZOFFSETFROM:-0600
TZOFFSETTO:-0700
TZNAME:MST
DTSTART:20191103T080000
END:STANDARD
BEGIN:DAYLIGHT
TZOFFSETFROM:-0700
TZOFFSETTO:-0600
TZNAME:MDT
DTSTART:20200308T090000
END:DAYLIGHT
BEGIN:STANDARD
TZOFFSETFROM:-0600
TZOFFSETTO:-0700
TZNAME:MST
DTSTART:20201101T080000
END:STANDARD
BEGIN:DAYLIGHT
TZOFFSETFROM:-0700
TZOFFSETTO:-0600
TZNAME:MDT
DTSTART:20210314T090000
END:DAYLIGHT
BEGIN:STANDARD
TZOFFSETFROM:-0600
TZOFFSETTO:-0700
TZNAME:MST
DTSTART:20211107T080000
END:STANDARD
END:VTIMEZONE
BEGIN:VEVENT
DTSTART;TZID=America/Denver:20200805T080000
DTEND;TZID=America/Denver:20200805T093000
DTSTAMP:20260423T134823
CREATED:20190517T203155Z
LAST-MODIFIED:20190517T203155Z
UID:10013214-1596614400-1596619800@workforce.sbcounty.gov
SUMMARY:WDB Executive Board Meeting
DESCRIPTION:*Meeting Dates/Times subject to change \nFor agendas: See the Board Agendas & Minutes Page – 72 hours before the meeting
URL:https://workforce.sbcounty.gov/event/wdb-executive-board-meeting-7-2019-07-10/2020-08-05/
LOCATION:WDD Administration Office\, 290 N D Street\, Suite 600\, San Bernardino\, CA\, 92415\, United States
CATEGORIES:WDB Meeting
GEO:34.104158;-117.2922462
X-APPLE-STRUCTURED-LOCATION;VALUE=URI;X-ADDRESS=WDD Administration Office 290 N D Street Suite 600 San Bernardino CA 92415 United States;X-APPLE-RADIUS=500;X-TITLE=290 N D Street\, Suite 600:geo:-117.2922462,34.104158
END:VEVENT
BEGIN:VEVENT
DTSTART;TZID=America/Denver:20200806T100000
DTEND;TZID=America/Denver:20200806T120000
DTSTAMP:20260423T134823
CREATED:20200615T205359Z
LAST-MODIFIED:20200615T205359Z
UID:10012245-1596708000-1596715200@workforce.sbcounty.gov
SUMMARY:How to Maximize Your Online Reach
DESCRIPTION:This is a webinar. To register\, click here. \n  \n2020 Business Workshops Flyer
URL:https://workforce.sbcounty.gov/event/how-to-maximize-your-online-reach/
LOCATION:CA
CATEGORIES:Employer Workshops
END:VEVENT
BEGIN:VEVENT
DTSTART;TZID=America/Denver:20200819T080000
DTEND;TZID=America/Denver:20200819T080000
DTSTAMP:20260423T134823
CREATED:20200630T172749Z
LAST-MODIFIED:20200630T172749Z
UID:10014075-1597824000-1597824000@workforce.sbcounty.gov
SUMMARY:WDB Executive Board Meeting
DESCRIPTION:
URL:https://workforce.sbcounty.gov/event/wdb-executive-board-meeting-16/
LOCATION:Via Zoom Conference Call
CATEGORIES:WDB Meeting
END:VEVENT
BEGIN:VEVENT
DTSTART;TZID=America/Denver:20200819T093000
DTEND;TZID=America/Denver:20200819T093000
DTSTAMP:20260423T134823
CREATED:20200630T173534Z
LAST-MODIFIED:20200630T173534Z
UID:10014093-1597829400-1597829400@workforce.sbcounty.gov
SUMMARY:WDB Special Populations Committee Meeting
DESCRIPTION:
URL:https://workforce.sbcounty.gov/event/wdb-special-populations-committee-meeting-10-2020-08-12/
LOCATION:Via Zoom Conference Call
CATEGORIES:WDB Meeting
END:VEVENT
BEGIN:VEVENT
DTSTART;TZID=America/Denver:20200819T110000
DTEND;TZID=America/Denver:20200819T110000
DTSTAMP:20260423T134823
CREATED:20200630T173910Z
LAST-MODIFIED:20200630T173910Z
UID:10014141-1597834800-1597834800@workforce.sbcounty.gov
SUMMARY:WDB Youth Committee Meeting
DESCRIPTION:
URL:https://workforce.sbcounty.gov/event/wdb-youth-committee-meeting-8-2020-08-12/
LOCATION:Via Zoom Conference Call
CATEGORIES:WDB Meeting
END:VEVENT
BEGIN:VEVENT
DTSTART;TZID=America/Denver:20200819T130000
DTEND;TZID=America/Denver:20200819T150000
DTSTAMP:20260423T134823
CREATED:20200630T174346Z
LAST-MODIFIED:20200630T174346Z
UID:10014129-1597842000-1597849200@workforce.sbcounty.gov
SUMMARY:WDB General Board Meeting
DESCRIPTION:
URL:https://workforce.sbcounty.gov/event/wdb-general-board-meeting-3/
LOCATION:Via Zoom Conference Call
CATEGORIES:WDB Meeting
END:VEVENT
BEGIN:VEVENT
DTSTART;TZID=America/Denver:20200820T100000
DTEND;TZID=America/Denver:20200820T120000
DTSTAMP:20260423T134823
CREATED:20200615T205512Z
LAST-MODIFIED:20200615T205512Z
UID:10012251-1597917600-1597924800@workforce.sbcounty.gov
SUMMARY:2020 Employee handbooks
DESCRIPTION:This is a webinar. To register\, click here. \n  \n2020 Business Workshops Flyer
URL:https://workforce.sbcounty.gov/event/2020-employee-handbooks/
LOCATION:CA
CATEGORIES:Employer Workshops
END:VEVENT
BEGIN:VEVENT
DTSTART;TZID=America/Denver:20200827T100000
DTEND;TZID=America/Denver:20200827T120000
DTSTAMP:20260423T134823
CREATED:20200615T205639Z
LAST-MODIFIED:20200615T205639Z
UID:10012257-1598522400-1598529600@workforce.sbcounty.gov
SUMMARY:Marketing for the new normal
DESCRIPTION:This is a webinar. To register\, click here. \n  \n2020 Business Workshops Flyer
URL:https://workforce.sbcounty.gov/event/marketing-for-the-new-normal/
LOCATION:CA
CATEGORIES:Employer Workshops
END:VEVENT
END:VCALENDAR