BEGIN:VCALENDAR
VERSION:2.0
PRODID:-//Workforce Development - ECPv6.15.14//NONSGML v1.0//EN
CALSCALE:GREGORIAN
METHOD:PUBLISH
X-WR-CALNAME:Workforce Development
X-ORIGINAL-URL:https://workforce.sbcounty.gov
X-WR-CALDESC:Events for Workforce Development
REFRESH-INTERVAL;VALUE=DURATION:PT1H
X-Robots-Tag:noindex
X-PUBLISHED-TTL:PT1H
BEGIN:VTIMEZONE
TZID:America/Denver
BEGIN:DAYLIGHT
TZOFFSETFROM:-0700
TZOFFSETTO:-0600
TZNAME:MDT
DTSTART:20190310T090000
END:DAYLIGHT
BEGIN:STANDARD
TZOFFSETFROM:-0600
TZOFFSETTO:-0700
TZNAME:MST
DTSTART:20191103T080000
END:STANDARD
BEGIN:DAYLIGHT
TZOFFSETFROM:-0700
TZOFFSETTO:-0600
TZNAME:MDT
DTSTART:20200308T090000
END:DAYLIGHT
BEGIN:STANDARD
TZOFFSETFROM:-0600
TZOFFSETTO:-0700
TZNAME:MST
DTSTART:20201101T080000
END:STANDARD
BEGIN:DAYLIGHT
TZOFFSETFROM:-0700
TZOFFSETTO:-0600
TZNAME:MDT
DTSTART:20210314T090000
END:DAYLIGHT
BEGIN:STANDARD
TZOFFSETFROM:-0600
TZOFFSETTO:-0700
TZNAME:MST
DTSTART:20211107T080000
END:STANDARD
END:VTIMEZONE
BEGIN:VEVENT
DTSTART;TZID=America/Denver:20200701T100000
DTEND;TZID=America/Denver:20200701T120000
DTSTAMP:20260422T140456
CREATED:20200615T204628Z
LAST-MODIFIED:20200615T204628Z
UID:10012215-1593597600-1593604800@workforce.sbcounty.gov
SUMMARY:Back to Work\, Amid Safety\, Worker Interaction Concerns\, and Mitigating Employee Fears
DESCRIPTION:This is a webinar. To register\, click here. \n  \n2020 Business Workshops Flyer
URL:https://workforce.sbcounty.gov/event/back-to-work-amid-safety-worker-interaction-concerns-and-mitigating-employee-fears/
LOCATION:CA
CATEGORIES:Employer Workshops
END:VEVENT
BEGIN:VEVENT
DTSTART;TZID=America/Denver:20200708T100000
DTEND;TZID=America/Denver:20200708T120000
DTSTAMP:20260422T140456
CREATED:20200615T204839Z
LAST-MODIFIED:20200615T204839Z
UID:10012221-1594202400-1594209600@workforce.sbcounty.gov
SUMMARY:2020 Summer Update — Hot Employment Laws you need to Know About!
DESCRIPTION:This is a webinar. To register\, click here. \n  \n2020 Business Workshops Flyer
URL:https://workforce.sbcounty.gov/event/2020-summer-update-hot-employment-laws-you-need-to-know-about/
LOCATION:CA
CATEGORIES:Employer Workshops
END:VEVENT
BEGIN:VEVENT
DTSTART;TZID=America/Denver:20200715T080000
DTEND;TZID=America/Denver:20200715T093000
DTSTAMP:20260422T140456
CREATED:20200214T193937Z
LAST-MODIFIED:20200214T193937Z
UID:10013982-1594800000-1594805400@workforce.sbcounty.gov
SUMMARY:WDB Executive Board Meeting
DESCRIPTION:
URL:https://workforce.sbcounty.gov/event/wdb-executive-board-meeting-9/
LOCATION:Via Zoom Conference Call
CATEGORIES:WDB Meeting
END:VEVENT
BEGIN:VEVENT
DTSTART;TZID=America/Denver:20200715T093000
DTEND;TZID=America/Denver:20200715T110000
DTSTAMP:20260422T140456
CREATED:20200630T173534Z
LAST-MODIFIED:20200630T173534Z
UID:10014090-1594805400-1594810800@workforce.sbcounty.gov
SUMMARY:WDB Special Populations Committee Meeting
DESCRIPTION:
URL:https://workforce.sbcounty.gov/event/wdb-special-populations-committee-meeting-10/2020-07-15/
LOCATION:Via Zoom Conference Call
CATEGORIES:WDB Meeting
END:VEVENT
BEGIN:VEVENT
DTSTART;TZID=America/Denver:20200715T110000
DTEND;TZID=America/Denver:20200715T123000
DTSTAMP:20260422T140456
CREATED:20200630T173910Z
LAST-MODIFIED:20200630T173910Z
UID:10014108-1594810800-1594816200@workforce.sbcounty.gov
SUMMARY:WDB Youth Committee Meeting
DESCRIPTION:
URL:https://workforce.sbcounty.gov/event/wdb-youth-committee-meeting-8/2020-07-15/
LOCATION:Via Zoom Conference Call
CATEGORIES:WDB Meeting
END:VEVENT
BEGIN:VEVENT
DTSTART;TZID=America/Denver:20200715T130000
DTEND;TZID=America/Denver:20200715T143000
DTSTAMP:20260422T140456
CREATED:20200630T174149Z
LAST-MODIFIED:20200630T174149Z
UID:10014126-1594818000-1594823400@workforce.sbcounty.gov
SUMMARY:WDB Economic Development and Business Resources (EDBR) Committee Meeting
DESCRIPTION:
URL:https://workforce.sbcounty.gov/event/wdb-economic-development-and-business-resources-edbr-committee-meeting/
LOCATION:Via Zoom Conference Call
CATEGORIES:WDB Meeting
END:VEVENT
BEGIN:VEVENT
DTSTART;TZID=America/Denver:20200716T100000
DTEND;TZID=America/Denver:20200716T120000
DTSTAMP:20260422T140456
CREATED:20200615T205000Z
LAST-MODIFIED:20200615T205000Z
UID:10012227-1594893600-1594900800@workforce.sbcounty.gov
SUMMARY:Making Products today in a COVID Safe Way
DESCRIPTION:This is a webinar. To register\, click here. \n  \n2020 Business Workshops Flyer
URL:https://workforce.sbcounty.gov/event/making-products-today-in-a-covid-safe-way/
LOCATION:CA
CATEGORIES:Employer Workshops
END:VEVENT
BEGIN:VEVENT
DTSTART;TZID=America/Denver:20200723T100000
DTEND;TZID=America/Denver:20200723T120000
DTSTAMP:20260422T140456
CREATED:20200615T205122Z
LAST-MODIFIED:20200615T205122Z
UID:10012236-1595498400-1595505600@workforce.sbcounty.gov
SUMMARY:Maintaining\, Improving\, and Sustaining Productivity in the COVID-19 Virtual Workplace
DESCRIPTION:This is a webinar. To register\, click here. \n  \n2020 Business Workshops Flyer
URL:https://workforce.sbcounty.gov/event/maintaining-improving-and-sustaining-productivity-in-the-covid-19-virtual-workplace/
LOCATION:CA
CATEGORIES:Employer Workshops
END:VEVENT
BEGIN:VEVENT
DTSTART;TZID=America/Denver:20200730T100000
DTEND;TZID=America/Denver:20200730T120000
DTSTAMP:20260422T140456
CREATED:20200615T205232Z
LAST-MODIFIED:20200615T205232Z
UID:10012239-1596103200-1596110400@workforce.sbcounty.gov
SUMMARY:Supply Chain Optimization on the Road to Recovery
DESCRIPTION:This is a webinar. To register\, click here. \n  \n2020 Business Workshops Flyer
URL:https://workforce.sbcounty.gov/event/supply-chain-optimization-on-the-road-to-recovery/
LOCATION:CA
CATEGORIES:Employer Workshops
END:VEVENT
END:VCALENDAR