BEGIN:VCALENDAR
VERSION:2.0
PRODID:-//Workforce Development - ECPv6.15.14//NONSGML v1.0//EN
CALSCALE:GREGORIAN
METHOD:PUBLISH
X-WR-CALNAME:Workforce Development
X-ORIGINAL-URL:https://workforce.sbcounty.gov
X-WR-CALDESC:Events for Workforce Development
REFRESH-INTERVAL;VALUE=DURATION:PT1H
X-Robots-Tag:noindex
X-PUBLISHED-TTL:PT1H
BEGIN:VTIMEZONE
TZID:America/Denver
BEGIN:DAYLIGHT
TZOFFSETFROM:-0700
TZOFFSETTO:-0600
TZNAME:MDT
DTSTART:20190310T090000
END:DAYLIGHT
BEGIN:STANDARD
TZOFFSETFROM:-0600
TZOFFSETTO:-0700
TZNAME:MST
DTSTART:20191103T080000
END:STANDARD
BEGIN:DAYLIGHT
TZOFFSETFROM:-0700
TZOFFSETTO:-0600
TZNAME:MDT
DTSTART:20200308T090000
END:DAYLIGHT
BEGIN:STANDARD
TZOFFSETFROM:-0600
TZOFFSETTO:-0700
TZNAME:MST
DTSTART:20201101T080000
END:STANDARD
BEGIN:DAYLIGHT
TZOFFSETFROM:-0700
TZOFFSETTO:-0600
TZNAME:MDT
DTSTART:20210314T090000
END:DAYLIGHT
BEGIN:STANDARD
TZOFFSETFROM:-0600
TZOFFSETTO:-0700
TZNAME:MST
DTSTART:20211107T080000
END:STANDARD
END:VTIMEZONE
BEGIN:VEVENT
DTSTART;TZID=America/Denver:20200604T100000
DTEND;TZID=America/Denver:20200604T120000
DTSTAMP:20260422T122807
CREATED:20200429T232123Z
LAST-MODIFIED:20200429T232123Z
UID:10014063-1591264800-1591272000@workforce.sbcounty.gov
SUMMARY:The Three R’s to Getting Back to Work During COVID-19 (Reconstruct\, Reinstate\, Reconnect)
DESCRIPTION:This is webinar.  To register\, click here.  \n  \n2020 Business Workshops Flyer
URL:https://workforce.sbcounty.gov/event/the-three-rs-to-getting-back-to-work-during-covid-19-reconstruct-reinstate-reconnect/
LOCATION:CA
CATEGORIES:Employer Workshops
END:VEVENT
BEGIN:VEVENT
DTSTART;TZID=America/Denver:20200610T100000
DTEND;TZID=America/Denver:20200610T120000
DTSTAMP:20260422T122807
CREATED:20200429T232445Z
LAST-MODIFIED:20200429T232445Z
UID:10014066-1591783200-1591790400@workforce.sbcounty.gov
SUMMARY:Wage and Hour Laws
DESCRIPTION:This is a webinar.  To register\, click here. \n  \n2020 Business Workshops Flyer
URL:https://workforce.sbcounty.gov/event/wage-and-hour-laws/
LOCATION:CA
CATEGORIES:Employer Workshops
END:VEVENT
BEGIN:VEVENT
DTSTART;TZID=America/Denver:20200611T100000
DTEND;TZID=America/Denver:20200611T120000
DTSTAMP:20260422T122807
CREATED:20200204T194620Z
LAST-MODIFIED:20200204T194620Z
UID:10013973-1591869600-1591876800@workforce.sbcounty.gov
SUMMARY:Branding and Marketing your Business Webinar
DESCRIPTION:To register\, click here. \n  \n2020 Business Workshops Flyer
URL:https://workforce.sbcounty.gov/event/branding-and-marketing-your-business-webinar/
LOCATION:CA
CATEGORIES:Employer Workshops
END:VEVENT
BEGIN:VEVENT
DTSTART;TZID=America/Denver:20200617T080000
DTEND;TZID=America/Denver:20200617T090000
DTSTAMP:20260422T122807
CREATED:20200521T155224Z
LAST-MODIFIED:20200521T155224Z
UID:10012209-1592380800-1592384400@workforce.sbcounty.gov
SUMMARY:WDB Executive Board Meeting
DESCRIPTION:
URL:https://workforce.sbcounty.gov/event/wdb-executive-board-meeting-15/
LOCATION:Via Zoom Conference Call
CATEGORIES:WDB Meeting
END:VEVENT
BEGIN:VEVENT
DTSTART;TZID=America/Denver:20200617T090000
DTEND;TZID=America/Denver:20200617T103000
DTSTAMP:20260422T122807
CREATED:20200214T191519Z
LAST-MODIFIED:20200214T191519Z
UID:10013976-1592384400-1592389800@workforce.sbcounty.gov
SUMMARY:WDB Special Populations Committee Meeting
DESCRIPTION:
URL:https://workforce.sbcounty.gov/event/wdb-special-populations-committee-meeeting/
LOCATION:Via Zoom Conference Call
CATEGORIES:WDB Meeting
END:VEVENT
BEGIN:VEVENT
DTSTART;TZID=America/Denver:20200617T100000
DTEND;TZID=America/Denver:20200617T120000
DTSTAMP:20260422T122807
CREATED:20200429T232710Z
LAST-MODIFIED:20200429T232710Z
UID:10014069-1592388000-1592395200@workforce.sbcounty.gov
SUMMARY:Communicating in the Digital Age
DESCRIPTION:This is a webinar.  To register\, click here. \n  \n2020 Business Workshops Flyer
URL:https://workforce.sbcounty.gov/event/communicating-in-the-digital-age/
LOCATION:CA
CATEGORIES:Employer Workshops
END:VEVENT
BEGIN:VEVENT
DTSTART;TZID=America/Denver:20200617T103000
DTEND;TZID=America/Denver:20200617T120000
DTSTAMP:20260422T122807
CREATED:20200521T155125Z
LAST-MODIFIED:20200521T155125Z
UID:10012191-1592389800-1592395200@workforce.sbcounty.gov
SUMMARY:WDB Youth Committee Meeting
DESCRIPTION:
URL:https://workforce.sbcounty.gov/event/wdb-youth-committee-meeting-7/
LOCATION:Via Zoom Conference Call
CATEGORIES:WDB Meeting
END:VEVENT
BEGIN:VEVENT
DTSTART;TZID=America/Denver:20200617T120000
DTEND;TZID=America/Denver:20200617T140000
DTSTAMP:20260422T122807
CREATED:20200214T192528Z
LAST-MODIFIED:20200214T192528Z
UID:10013979-1592395200-1592402400@workforce.sbcounty.gov
SUMMARY:WDB General Board Meeting
DESCRIPTION:
URL:https://workforce.sbcounty.gov/event/wdb-general-board-meeting-2/
LOCATION:Via Zoom Conference Call
CATEGORIES:WDB Meeting
END:VEVENT
BEGIN:VEVENT
DTSTART;TZID=America/Denver:20200624T100000
DTEND;TZID=America/Denver:20200624T120000
DTSTAMP:20260422T122807
CREATED:20200429T234208Z
LAST-MODIFIED:20200429T234208Z
UID:10014072-1592992800-1593000000@workforce.sbcounty.gov
SUMMARY:I9 and E-Verify
DESCRIPTION:This is a webinar.  To register\, click here. \n  \n2020 Business Workshops Flyer
URL:https://workforce.sbcounty.gov/event/i9-and-e-verify/
LOCATION:CA
CATEGORIES:Employer Workshops
END:VEVENT
END:VCALENDAR