BEGIN:VCALENDAR
VERSION:2.0
PRODID:-//Workforce Development - ECPv6.15.14//NONSGML v1.0//EN
CALSCALE:GREGORIAN
METHOD:PUBLISH
X-WR-CALNAME:Workforce Development
X-ORIGINAL-URL:https://workforce.sbcounty.gov
X-WR-CALDESC:Events for Workforce Development
REFRESH-INTERVAL;VALUE=DURATION:PT1H
X-Robots-Tag:noindex
X-PUBLISHED-TTL:PT1H
BEGIN:VTIMEZONE
TZID:America/Denver
BEGIN:DAYLIGHT
TZOFFSETFROM:-0700
TZOFFSETTO:-0600
TZNAME:MDT
DTSTART:20190310T090000
END:DAYLIGHT
BEGIN:STANDARD
TZOFFSETFROM:-0600
TZOFFSETTO:-0700
TZNAME:MST
DTSTART:20191103T080000
END:STANDARD
BEGIN:DAYLIGHT
TZOFFSETFROM:-0700
TZOFFSETTO:-0600
TZNAME:MDT
DTSTART:20200308T090000
END:DAYLIGHT
BEGIN:STANDARD
TZOFFSETFROM:-0600
TZOFFSETTO:-0700
TZNAME:MST
DTSTART:20201101T080000
END:STANDARD
BEGIN:DAYLIGHT
TZOFFSETFROM:-0700
TZOFFSETTO:-0600
TZNAME:MDT
DTSTART:20210314T090000
END:DAYLIGHT
BEGIN:STANDARD
TZOFFSETFROM:-0600
TZOFFSETTO:-0700
TZNAME:MST
DTSTART:20211107T080000
END:STANDARD
END:VTIMEZONE
BEGIN:VEVENT
DTSTART;TZID=America/Denver:20200513T080000
DTEND;TZID=America/Denver:20200513T090000
DTSTAMP:20260422T152045
CREATED:20190517T203155Z
LAST-MODIFIED:20190517T203155Z
UID:10014054-1589356800-1589360400@workforce.sbcounty.gov
SUMMARY:WDB General Board Meeting
DESCRIPTION:*Meeting Dates/Times subject to change \nFor agendas: See the Board Agendas & Minutes Page – 72 hours before the meeting
URL:https://workforce.sbcounty.gov/event/wdb-executive-board-meeting-7-2019-07-10-2020-05-13/
LOCATION:Via Zoom Conference Call
CATEGORIES:WDB Meeting
END:VEVENT
BEGIN:VEVENT
DTSTART;TZID=America/Denver:20200513T090000
DTEND;TZID=America/Denver:20200513T103000
DTSTAMP:20260422T152045
CREATED:20181109T213101Z
LAST-MODIFIED:20181109T213101Z
UID:10011984-1589360400-1589365800@workforce.sbcounty.gov
SUMMARY:WDB Special Populations Committee Meeting
DESCRIPTION:*Meeting Dates/Times subject to change \nFor agendas: See the Board Agendas & Minutes Page – 72 hours before the meeting
URL:https://workforce.sbcounty.gov/event/wdb-special-populations-committee-meeting-4-2019-05-22-2020-05-13/
LOCATION:Via Zoom Conference Call
CATEGORIES:WDB Meeting
END:VEVENT
BEGIN:VEVENT
DTSTART;TZID=America/Denver:20200513T103000
DTEND;TZID=America/Denver:20200513T120000
DTSTAMP:20260422T152045
CREATED:20181109T212006Z
LAST-MODIFIED:20181109T212006Z
UID:10011987-1589365800-1589371200@workforce.sbcounty.gov
SUMMARY:WDB Economic Development & Business Resource Committee Meeting
DESCRIPTION:*Meeting Dates/Times subject to change \nFor agendas: See the Board Agendas & Minutes Page – 72 hours before the meeting
URL:https://workforce.sbcounty.gov/event/wdb-youth-committee-meeting-3-2019-03-13-2019-07-10-2020-05-13/
LOCATION:Via Zoom Conference Call
CATEGORIES:WDB Meeting
END:VEVENT
BEGIN:VEVENT
DTSTART;TZID=America/Denver:20200513T123000
DTEND;TZID=America/Denver:20200513T140000
DTSTAMP:20260422T152045
CREATED:20181109T212605Z
LAST-MODIFIED:20181109T212605Z
UID:10011990-1589373000-1589378400@workforce.sbcounty.gov
SUMMARY:WDB Youth Committee Meeting
DESCRIPTION:*Meeting Dates/Times subject to change \nFor agendas: See the Board Agendas & Minutes Page – 72 hours before the meeting
URL:https://workforce.sbcounty.gov/event/wdb-youth-committee-meeting-4-2019-05-22-2020-05-13/
LOCATION:Via Zoom Conference Call
CATEGORIES:WDB Meeting
END:VEVENT
BEGIN:VEVENT
DTSTART;TZID=America/Denver:20200514T100000
DTEND;TZID=America/Denver:20200514T120000
DTSTAMP:20260422T152045
CREATED:20200204T194145Z
LAST-MODIFIED:20200204T194145Z
UID:10013967-1589450400-1589457600@workforce.sbcounty.gov
SUMMARY:Harassment Prevention for Employees Webinar
DESCRIPTION:To register\, click here. \n  \n2020 Business Workshops Flyer
URL:https://workforce.sbcounty.gov/event/harassment-prevention-for-employees-webinar/
LOCATION:CA
CATEGORIES:Employer Workshops
END:VEVENT
BEGIN:VEVENT
DTSTART;TZID=America/Denver:20200528T100000
DTEND;TZID=America/Denver:20200528T120000
DTSTAMP:20260422T152045
CREATED:20200204T194335Z
LAST-MODIFIED:20200204T194335Z
UID:10013970-1590660000-1590667200@workforce.sbcounty.gov
SUMMARY:Grow your Business using Videos Webinar
DESCRIPTION:To register\, click here.  \n  \n2020 Business Workshops Flyer
URL:https://workforce.sbcounty.gov/event/grow-your-business-using-videos-webinar/
LOCATION:CA
CATEGORIES:Employer Workshops
END:VEVENT
END:VCALENDAR