BEGIN:VCALENDAR
VERSION:2.0
PRODID:-//Workforce Development - ECPv6.15.14//NONSGML v1.0//EN
CALSCALE:GREGORIAN
METHOD:PUBLISH
X-ORIGINAL-URL:https://workforce.sbcounty.gov
X-WR-CALDESC:Events for Workforce Development
REFRESH-INTERVAL;VALUE=DURATION:PT1H
X-Robots-Tag:noindex
X-PUBLISHED-TTL:PT1H
BEGIN:VTIMEZONE
TZID:America/Denver
BEGIN:DAYLIGHT
TZOFFSETFROM:-0700
TZOFFSETTO:-0600
TZNAME:MDT
DTSTART:20190310T090000
END:DAYLIGHT
BEGIN:STANDARD
TZOFFSETFROM:-0600
TZOFFSETTO:-0700
TZNAME:MST
DTSTART:20191103T080000
END:STANDARD
BEGIN:DAYLIGHT
TZOFFSETFROM:-0700
TZOFFSETTO:-0600
TZNAME:MDT
DTSTART:20200308T090000
END:DAYLIGHT
BEGIN:STANDARD
TZOFFSETFROM:-0600
TZOFFSETTO:-0700
TZNAME:MST
DTSTART:20201101T080000
END:STANDARD
BEGIN:DAYLIGHT
TZOFFSETFROM:-0700
TZOFFSETTO:-0600
TZNAME:MDT
DTSTART:20210314T090000
END:DAYLIGHT
BEGIN:STANDARD
TZOFFSETFROM:-0600
TZOFFSETTO:-0700
TZNAME:MST
DTSTART:20211107T080000
END:STANDARD
END:VTIMEZONE
BEGIN:VEVENT
DTSTART;TZID=America/Denver:20200407T140000
DTEND;TZID=America/Denver:20200407T150000
DTSTAMP:20260421T140039
CREATED:20200403T184020Z
LAST-MODIFIED:20200403T184020Z
UID:10014051-1586268000-1586271600@workforce.sbcounty.gov
SUMMARY:WDB General Board Special Meeting and Budget Workshop
DESCRIPTION:
URL:https://workforce.sbcounty.gov/event/wdb-general-board-special-meeting-and-budget-workshop/
LOCATION:Via Zoom Conference Call
CATEGORIES:WDB Meeting
END:VEVENT
BEGIN:VEVENT
DTSTART;TZID=America/Denver:20200409T100000
DTEND;TZID=America/Denver:20200409T120000
DTSTAMP:20260421T140039
CREATED:20200204T193603Z
LAST-MODIFIED:20200204T193603Z
UID:10013961-1586426400-1586433600@workforce.sbcounty.gov
SUMMARY:Employee Handbooks Webinar
DESCRIPTION:To register\, click here.  \n  \n2020 Business Workshop Flyer
URL:https://workforce.sbcounty.gov/event/employee-handbooks-webinar/
LOCATION:CA
CATEGORIES:Employer Workshops
END:VEVENT
BEGIN:VEVENT
DTSTART;TZID=America/Denver:20200415T080000
DTEND;TZID=America/Denver:20200415T093000
DTSTAMP:20260421T140039
CREATED:20190517T203155Z
LAST-MODIFIED:20190517T203155Z
UID:10013211-1586937600-1586943000@workforce.sbcounty.gov
SUMMARY:WDB Executive Board Meeting
DESCRIPTION:*Meeting Dates/Times subject to change \nFor agendas: See the Board Agendas & Minutes Page – 72 hours before the meeting
URL:https://workforce.sbcounty.gov/event/wdb-executive-board-meeting-7-2019-07-10/2020-04-15/
LOCATION:WDD Administration Office\, 290 N D Street\, Suite 600\, San Bernardino\, CA\, 92415\, United States
CATEGORIES:WDB Meeting
GEO:34.104158;-117.2922462
X-APPLE-STRUCTURED-LOCATION;VALUE=URI;X-ADDRESS=WDD Administration Office 290 N D Street Suite 600 San Bernardino CA 92415 United States;X-APPLE-RADIUS=500;X-TITLE=290 N D Street\, Suite 600:geo:-117.2922462,34.104158
END:VEVENT
BEGIN:VEVENT
DTSTART;TZID=America/Denver:20200422T080000
DTEND;TZID=America/Denver:20200422T093000
DTSTAMP:20260421T140039
CREATED:20200417T193742Z
LAST-MODIFIED:20200417T193742Z
UID:10014057-1587542400-1587547800@workforce.sbcounty.gov
SUMMARY:WDB Special Populations Committee Meeting
DESCRIPTION:
URL:https://workforce.sbcounty.gov/event/wdb-special-populations-committee-meeting-6/
LOCATION:Via Zoom Conference Call
END:VEVENT
BEGIN:VEVENT
DTSTART;TZID=America/Denver:20200429T080000
DTEND;TZID=America/Denver:20200429T093000
DTSTAMP:20260421T140039
CREATED:20200424T185529Z
LAST-MODIFIED:20200424T185529Z
UID:10014060-1588147200-1588152600@workforce.sbcounty.gov
SUMMARY:WDB Executive Board Meeting
DESCRIPTION:
URL:https://workforce.sbcounty.gov/event/wdb-executive-board-meeting-14/
LOCATION:Via Zoom Conference Call
CATEGORIES:WDB Meeting
END:VEVENT
BEGIN:VEVENT
DTSTART;TZID=America/Denver:20200430T100000
DTEND;TZID=America/Denver:20200430T110000
DTSTAMP:20260421T140039
CREATED:20200204T193935Z
LAST-MODIFIED:20200204T193935Z
UID:10013964-1588240800-1588244400@workforce.sbcounty.gov
SUMMARY:Continuous Improvement: Access Your Organization’s Untapped Potential Webinar
DESCRIPTION:To register\, click here.  \n  \n2020 Business Workshops Flyer
URL:https://workforce.sbcounty.gov/event/continuous-improvement-access-your-organizations-untapped-potential-webinar/
LOCATION:CA
CATEGORIES:Employer Workshops
END:VEVENT
END:VCALENDAR