BEGIN:VCALENDAR
VERSION:2.0
PRODID:-//Workforce Development - ECPv6.15.14//NONSGML v1.0//EN
CALSCALE:GREGORIAN
METHOD:PUBLISH
X-WR-CALNAME:Workforce Development
X-ORIGINAL-URL:https://workforce.sbcounty.gov
X-WR-CALDESC:Events for Workforce Development
REFRESH-INTERVAL;VALUE=DURATION:PT1H
X-Robots-Tag:noindex
X-PUBLISHED-TTL:PT1H
BEGIN:VTIMEZONE
TZID:America/Los_Angeles
BEGIN:DAYLIGHT
TZOFFSETFROM:-0800
TZOFFSETTO:-0700
TZNAME:PDT
DTSTART:20250309T100000
END:DAYLIGHT
BEGIN:STANDARD
TZOFFSETFROM:-0700
TZOFFSETTO:-0800
TZNAME:PST
DTSTART:20251102T090000
END:STANDARD
BEGIN:DAYLIGHT
TZOFFSETFROM:-0800
TZOFFSETTO:-0700
TZNAME:PDT
DTSTART:20260308T100000
END:DAYLIGHT
BEGIN:STANDARD
TZOFFSETFROM:-0700
TZOFFSETTO:-0800
TZNAME:PST
DTSTART:20261101T090000
END:STANDARD
BEGIN:DAYLIGHT
TZOFFSETFROM:-0800
TZOFFSETTO:-0700
TZNAME:PDT
DTSTART:20270314T100000
END:DAYLIGHT
BEGIN:STANDARD
TZOFFSETFROM:-0700
TZOFFSETTO:-0800
TZNAME:PST
DTSTART:20271107T090000
END:STANDARD
END:VTIMEZONE
BEGIN:VEVENT
DTSTART;TZID=America/Los_Angeles:20260210T090000
DTEND;TZID=America/Los_Angeles:20260210T120000
DTSTAMP:20260421T085919
CREATED:20260108T195853Z
LAST-MODIFIED:20260108T195853Z
UID:10023644-1770714000-1770724800@workforce.sbcounty.gov
SUMMARY:ETPL Workshop
DESCRIPTION:The State of California has updated its Eligible Training Provider List (ETPL) requirements. This workshop will highlight recent updates and help training providers successfully navigate the ETPL process. \nNew and existing training providers are encouraged to attend. Registration is required by February 5. *Space is limited – no more than 2 attendees per organization. \nRegistration Link:  ETPL Workshop Registration
URL:https://workforce.sbcounty.gov/event/etpl-workshop/2026-02-10/
LOCATION:WDD Administration Office\, 290 N D Street\, Suite 600\, San Bernardino\, CA\, 92415\, United States
CATEGORIES:AJCC - East Valley,AJCC - High Desert,AJCC - West Valley,Employer Workshops
ATTACH;FMTTYPE=image/jpeg:https://workforce.sbcounty.gov/wp-content/uploads/sites/104/Workshops-scaled.jpeg
GEO:34.104158;-117.2922462
X-APPLE-STRUCTURED-LOCATION;VALUE=URI;X-ADDRESS=WDD Administration Office 290 N D Street Suite 600 San Bernardino CA 92415 United States;X-APPLE-RADIUS=500;X-TITLE=290 N D Street\, Suite 600:geo:-117.2922462,34.104158
END:VEVENT
END:VCALENDAR