BEGIN:VCALENDAR
VERSION:2.0
PRODID:-//Workforce Development - ECPv6.15.14//NONSGML v1.0//EN
CALSCALE:GREGORIAN
METHOD:PUBLISH
X-ORIGINAL-URL:https://workforce.sbcounty.gov
X-WR-CALDESC:Events for Workforce Development
REFRESH-INTERVAL;VALUE=DURATION:PT1H
X-Robots-Tag:noindex
X-PUBLISHED-TTL:PT1H
BEGIN:VTIMEZONE
TZID:America/Los_Angeles
BEGIN:DAYLIGHT
TZOFFSETFROM:-0800
TZOFFSETTO:-0700
TZNAME:PDT
DTSTART:20240310T100000
END:DAYLIGHT
BEGIN:STANDARD
TZOFFSETFROM:-0700
TZOFFSETTO:-0800
TZNAME:PST
DTSTART:20241103T090000
END:STANDARD
BEGIN:DAYLIGHT
TZOFFSETFROM:-0800
TZOFFSETTO:-0700
TZNAME:PDT
DTSTART:20250309T100000
END:DAYLIGHT
BEGIN:STANDARD
TZOFFSETFROM:-0700
TZOFFSETTO:-0800
TZNAME:PST
DTSTART:20251102T090000
END:STANDARD
BEGIN:DAYLIGHT
TZOFFSETFROM:-0800
TZOFFSETTO:-0700
TZNAME:PDT
DTSTART:20260308T100000
END:DAYLIGHT
BEGIN:STANDARD
TZOFFSETFROM:-0700
TZOFFSETTO:-0800
TZNAME:PST
DTSTART:20261101T090000
END:STANDARD
END:VTIMEZONE
BEGIN:VTIMEZONE
TZID:America/Denver
BEGIN:DAYLIGHT
TZOFFSETFROM:-0700
TZOFFSETTO:-0600
TZNAME:MDT
DTSTART:20240310T090000
END:DAYLIGHT
BEGIN:STANDARD
TZOFFSETFROM:-0600
TZOFFSETTO:-0700
TZNAME:MST
DTSTART:20241103T080000
END:STANDARD
BEGIN:DAYLIGHT
TZOFFSETFROM:-0700
TZOFFSETTO:-0600
TZNAME:MDT
DTSTART:20250309T090000
END:DAYLIGHT
BEGIN:STANDARD
TZOFFSETFROM:-0600
TZOFFSETTO:-0700
TZNAME:MST
DTSTART:20251102T080000
END:STANDARD
BEGIN:DAYLIGHT
TZOFFSETFROM:-0700
TZOFFSETTO:-0600
TZNAME:MDT
DTSTART:20260308T090000
END:DAYLIGHT
BEGIN:STANDARD
TZOFFSETFROM:-0600
TZOFFSETTO:-0700
TZNAME:MST
DTSTART:20261101T080000
END:STANDARD
END:VTIMEZONE
BEGIN:VEVENT
DTSTART;TZID=America/Los_Angeles:20251217T100000
DTEND;TZID=America/Los_Angeles:20251217T110000
DTSTAMP:20260422T033638
CREATED:20250812T164825Z
LAST-MODIFIED:20250812T164825Z
UID:10023513-1765965600-1765969200@workforce.sbcounty.gov
SUMMARY:Employer Workshop - Communicate Like a Leader
DESCRIPTION:​Effective leaders must master active listening and conflict resolution to motivate and guide their teams. By developing these skills\, leaders can strengthen relationships\, reduce stress\, and navigate organizational challenges with confidence. This training provides the tools you need to communicate clearly\, inspire your team\, and lead effectively. \nRegister here: Communicate Like a Leader Registration Link
URL:https://workforce.sbcounty.gov/event/employer-workshop-communicate-like-a-leader/
LOCATION:Via Zoom Conference Call
CATEGORIES:AJCC - East Valley,AJCC - High Desert,AJCC - West Valley,Employer Workshops,Recruitments/Job Fairs
ATTACH;FMTTYPE=image/jpeg:https://workforce.sbcounty.gov/wp-content/uploads/sites/104/Workshops-scaled.jpeg
END:VEVENT
BEGIN:VEVENT
DTSTART;TZID=America/Denver:20251217T100000
DTEND;TZID=America/Denver:20251217T120000
DTSTAMP:20260422T033638
CREATED:20240514T210235Z
LAST-MODIFIED:20250611T164834Z
UID:10017243-1765965600-1765972800@workforce.sbcounty.gov
SUMMARY:Resume - Job Seeker Workshop
DESCRIPTION:This workshop covers the purpose of a resume\, what recruiters want to see\, how to create an updated resume for the current workforce\, and types of resumes.  This workshop is available every Wednesday.\nTo register:  Resume Workshop Webinar Link
URL:https://workforce.sbcounty.gov/event/ajcc-virtual-resume-workshop-2022-08-03-2/2025-12-17/
LOCATION:Via Zoom Conference Call
CATEGORIES:AJCC - East Valley,AJCC - High Desert,AJCC - West Valley,Job Seeker Workshops
ATTACH;FMTTYPE=image/jpeg:https://workforce.sbcounty.gov/wp-content/uploads/sites/104/2020/10/ISS_10434_00192-1.jpg
END:VEVENT
END:VCALENDAR