BEGIN:VCALENDAR
VERSION:2.0
PRODID:-//Workforce Development - ECPv6.15.14//NONSGML v1.0//EN
CALSCALE:GREGORIAN
METHOD:PUBLISH
X-ORIGINAL-URL:https://workforce.sbcounty.gov
X-WR-CALDESC:Events for Workforce Development
REFRESH-INTERVAL;VALUE=DURATION:PT1H
X-Robots-Tag:noindex
X-PUBLISHED-TTL:PT1H
BEGIN:VTIMEZONE
TZID:America/Los_Angeles
BEGIN:DAYLIGHT
TZOFFSETFROM:-0800
TZOFFSETTO:-0700
TZNAME:PDT
DTSTART:20220313T100000
END:DAYLIGHT
BEGIN:STANDARD
TZOFFSETFROM:-0700
TZOFFSETTO:-0800
TZNAME:PST
DTSTART:20221106T090000
END:STANDARD
BEGIN:DAYLIGHT
TZOFFSETFROM:-0800
TZOFFSETTO:-0700
TZNAME:PDT
DTSTART:20230312T100000
END:DAYLIGHT
BEGIN:STANDARD
TZOFFSETFROM:-0700
TZOFFSETTO:-0800
TZNAME:PST
DTSTART:20231105T090000
END:STANDARD
BEGIN:DAYLIGHT
TZOFFSETFROM:-0800
TZOFFSETTO:-0700
TZNAME:PDT
DTSTART:20240310T100000
END:DAYLIGHT
BEGIN:STANDARD
TZOFFSETFROM:-0700
TZOFFSETTO:-0800
TZNAME:PST
DTSTART:20241103T090000
END:STANDARD
END:VTIMEZONE
BEGIN:VEVENT
DTSTART;TZID=America/Los_Angeles:20230615T100000
DTEND;TZID=America/Los_Angeles:20230615T140000
DTSTAMP:20260419T130408
CREATED:20221129T225338Z
LAST-MODIFIED:20230428T065247Z
UID:10019106-1686823200-1686837600@workforce.sbcounty.gov
SUMMARY:Hiring Event - 4th District Job Fair and Expungement Event
DESCRIPTION:The San Bernardino County Public Defender and 30 employers will be on site. Job seekers who haven’t already registered can do so when they arrive. And don’t forget to pick up your information bag at check in. \nEmployers\, please contact San Bernardino County’s West Valley office to register.\nRegister here:  4th District Job Fair and Expungement Event Registration
URL:https://workforce.sbcounty.gov/event/hiring-event-west-valley-americas-job-center-of-california-11-2023-06-15/
LOCATION:Ontario Airport – Terminal 1\, 1940 Moore Way\, Ontario\, CA\, 91761\, United States
CATEGORIES:AJCC - West Valley,Recruitments/Job Fairs
GEO:34.0597399;-117.6086073
X-APPLE-STRUCTURED-LOCATION;VALUE=URI;X-ADDRESS=Ontario Airport – Terminal 1 1940 Moore Way Ontario CA 91761 United States;X-APPLE-RADIUS=500;X-TITLE=1940 Moore Way:geo:-117.6086073,34.0597399
END:VEVENT
END:VCALENDAR