BEGIN:VCALENDAR
VERSION:2.0
PRODID:-//Workforce Development - ECPv6.15.14//NONSGML v1.0//EN
CALSCALE:GREGORIAN
METHOD:PUBLISH
X-ORIGINAL-URL:https://workforce.sbcounty.gov
X-WR-CALDESC:Events for Workforce Development
REFRESH-INTERVAL;VALUE=DURATION:PT1H
X-Robots-Tag:noindex
X-PUBLISHED-TTL:PT1H
BEGIN:VTIMEZONE
TZID:America/Los_Angeles
BEGIN:DAYLIGHT
TZOFFSETFROM:-0800
TZOFFSETTO:-0700
TZNAME:PDT
DTSTART:20210314T100000
END:DAYLIGHT
BEGIN:STANDARD
TZOFFSETFROM:-0700
TZOFFSETTO:-0800
TZNAME:PST
DTSTART:20211107T090000
END:STANDARD
BEGIN:DAYLIGHT
TZOFFSETFROM:-0800
TZOFFSETTO:-0700
TZNAME:PDT
DTSTART:20220313T100000
END:DAYLIGHT
BEGIN:STANDARD
TZOFFSETFROM:-0700
TZOFFSETTO:-0800
TZNAME:PST
DTSTART:20221106T090000
END:STANDARD
BEGIN:DAYLIGHT
TZOFFSETFROM:-0800
TZOFFSETTO:-0700
TZNAME:PDT
DTSTART:20230312T100000
END:DAYLIGHT
BEGIN:STANDARD
TZOFFSETFROM:-0700
TZOFFSETTO:-0800
TZNAME:PST
DTSTART:20231105T090000
END:STANDARD
BEGIN:DAYLIGHT
TZOFFSETFROM:-0800
TZOFFSETTO:-0700
TZNAME:PDT
DTSTART:20240310T100000
END:DAYLIGHT
BEGIN:STANDARD
TZOFFSETFROM:-0700
TZOFFSETTO:-0800
TZNAME:PST
DTSTART:20241103T090000
END:STANDARD
BEGIN:DAYLIGHT
TZOFFSETFROM:-0800
TZOFFSETTO:-0700
TZNAME:PDT
DTSTART:20250309T100000
END:DAYLIGHT
BEGIN:STANDARD
TZOFFSETFROM:-0700
TZOFFSETTO:-0800
TZNAME:PST
DTSTART:20251102T090000
END:STANDARD
END:VTIMEZONE
BEGIN:VTIMEZONE
TZID:America/Denver
BEGIN:DAYLIGHT
TZOFFSETFROM:-0700
TZOFFSETTO:-0600
TZNAME:MDT
DTSTART:20170312T090000
END:DAYLIGHT
BEGIN:STANDARD
TZOFFSETFROM:-0600
TZOFFSETTO:-0700
TZNAME:MST
DTSTART:20171105T080000
END:STANDARD
BEGIN:DAYLIGHT
TZOFFSETFROM:-0700
TZOFFSETTO:-0600
TZNAME:MDT
DTSTART:20180311T090000
END:DAYLIGHT
BEGIN:STANDARD
TZOFFSETFROM:-0600
TZOFFSETTO:-0700
TZNAME:MST
DTSTART:20181104T080000
END:STANDARD
BEGIN:DAYLIGHT
TZOFFSETFROM:-0700
TZOFFSETTO:-0600
TZNAME:MDT
DTSTART:20190310T090000
END:DAYLIGHT
BEGIN:STANDARD
TZOFFSETFROM:-0600
TZOFFSETTO:-0700
TZNAME:MST
DTSTART:20191103T080000
END:STANDARD
BEGIN:DAYLIGHT
TZOFFSETFROM:-0700
TZOFFSETTO:-0600
TZNAME:MDT
DTSTART:20200308T090000
END:DAYLIGHT
BEGIN:STANDARD
TZOFFSETFROM:-0600
TZOFFSETTO:-0700
TZNAME:MST
DTSTART:20201101T080000
END:STANDARD
BEGIN:DAYLIGHT
TZOFFSETFROM:-0700
TZOFFSETTO:-0600
TZNAME:MDT
DTSTART:20210314T090000
END:DAYLIGHT
BEGIN:STANDARD
TZOFFSETFROM:-0600
TZOFFSETTO:-0700
TZNAME:MST
DTSTART:20211107T080000
END:STANDARD
BEGIN:DAYLIGHT
TZOFFSETFROM:-0700
TZOFFSETTO:-0600
TZNAME:MDT
DTSTART:20220313T090000
END:DAYLIGHT
BEGIN:STANDARD
TZOFFSETFROM:-0600
TZOFFSETTO:-0700
TZNAME:MST
DTSTART:20221106T080000
END:STANDARD
BEGIN:DAYLIGHT
TZOFFSETFROM:-0700
TZOFFSETTO:-0600
TZNAME:MDT
DTSTART:20230312T090000
END:DAYLIGHT
BEGIN:STANDARD
TZOFFSETFROM:-0600
TZOFFSETTO:-0700
TZNAME:MST
DTSTART:20231105T080000
END:STANDARD
BEGIN:DAYLIGHT
TZOFFSETFROM:-0700
TZOFFSETTO:-0600
TZNAME:MDT
DTSTART:20240310T090000
END:DAYLIGHT
BEGIN:STANDARD
TZOFFSETFROM:-0600
TZOFFSETTO:-0700
TZNAME:MST
DTSTART:20241103T080000
END:STANDARD
END:VTIMEZONE
BEGIN:VEVENT
DTSTART;VALUE=DATE:20240527
DTEND;VALUE=DATE:20240528
DTSTAMP:20260422T152938
CREATED:20221219T182404Z
LAST-MODIFIED:20250611T172822Z
UID:10018950-1716768000-1716854399@workforce.sbcounty.gov
SUMMARY:Holiday - Memorial Day
DESCRIPTION:
URL:https://workforce.sbcounty.gov/event/holiday-memorial-day/2024-05-27/
CATEGORIES:AJCC - East Valley,AJCC - High Desert,AJCC - West Valley,Job Seeker Workshops,Local & Regional Planning,WDB Meeting
ATTACH;FMTTYPE=image/jpeg:https://workforce.sbcounty.gov/wp-content/uploads/sites/104/2021/10/Office-Closed.jpg
END:VEVENT
BEGIN:VEVENT
DTSTART;VALUE=DATE:20240219
DTEND;VALUE=DATE:20240220
DTSTAMP:20260422T152938
CREATED:20221219T182233Z
LAST-MODIFIED:20250611T172851Z
UID:10018929-1708300800-1708387199@workforce.sbcounty.gov
SUMMARY:Holiday - Presidents Day
DESCRIPTION:
URL:https://workforce.sbcounty.gov/event/holiday-presidents-day/2024-02-19/
CATEGORIES:AJCC - East Valley,AJCC - High Desert,AJCC - West Valley,Job Seeker Workshops,Local & Regional Planning,WDB Meeting
ATTACH;FMTTYPE=image/jpeg:https://workforce.sbcounty.gov/wp-content/uploads/sites/104/2021/10/Office-Closed.jpg
END:VEVENT
BEGIN:VEVENT
DTSTART;VALUE=DATE:20240115
DTEND;VALUE=DATE:20240116
DTSTAMP:20260422T152938
CREATED:20221219T182055Z
LAST-MODIFIED:20250611T172757Z
UID:10018908-1705276800-1705363199@workforce.sbcounty.gov
SUMMARY:Holiday - Martin Luther King\, Jr.
DESCRIPTION:
URL:https://workforce.sbcounty.gov/event/holiday-martin-luther-king-jr/2024-01-15/
CATEGORIES:AJCC - East Valley,AJCC - High Desert,AJCC - West Valley,Job Seeker Workshops,Local & Regional Planning,WDB Meeting
ATTACH;FMTTYPE=image/jpeg:https://workforce.sbcounty.gov/wp-content/uploads/sites/104/2021/10/Office-Closed.jpg
END:VEVENT
BEGIN:VEVENT
DTSTART;VALUE=DATE:20231230
DTEND;VALUE=DATE:20240103
DTSTAMP:20260422T152938
CREATED:20221219T181338Z
LAST-MODIFIED:20240605T234357Z
UID:10018887-1703894400-1704239999@workforce.sbcounty.gov
SUMMARY:Holiday - New Years
DESCRIPTION:
URL:https://workforce.sbcounty.gov/event/holiday-new-years/2023-12-30/
CATEGORIES:AJCC - East Valley,AJCC - High Desert,AJCC - West Valley,Job Seeker Workshops,Local & Regional Planning,WDB Meeting
END:VEVENT
BEGIN:VEVENT
DTSTART;VALUE=DATE:20231223
DTEND;VALUE=DATE:20231227
DTSTAMP:20260422T152938
CREATED:20220730T001415Z
LAST-MODIFIED:20240605T234405Z
UID:10012941-1703289600-1703635199@workforce.sbcounty.gov
SUMMARY:Holiday - Christmas
DESCRIPTION:
URL:https://workforce.sbcounty.gov/event/holiday-christmas/2023-12-23/
CATEGORIES:AJCC - East Valley,AJCC - High Desert,AJCC - West Valley,Job Seeker Workshops,Local & Regional Planning,WDB Meeting
END:VEVENT
BEGIN:VEVENT
DTSTART;VALUE=DATE:20231123
DTEND;VALUE=DATE:20231125
DTSTAMP:20260422T152938
CREATED:20221219T184801Z
LAST-MODIFIED:20250611T171823Z
UID:10019040-1700697600-1700870399@workforce.sbcounty.gov
SUMMARY:Holiday - Thanksgiving
DESCRIPTION:
URL:https://workforce.sbcounty.gov/event/holiday-thanksgiving/2023-11-23/
CATEGORIES:AJCC - East Valley,AJCC - High Desert,AJCC - West Valley,Job Seeker Workshops,Local & Regional Planning,WDB Meeting
ATTACH;FMTTYPE=image/jpeg:https://workforce.sbcounty.gov/wp-content/uploads/sites/104/2021/10/Office-Closed.jpg
END:VEVENT
BEGIN:VEVENT
DTSTART;VALUE=DATE:20231111
DTEND;VALUE=DATE:20231112
DTSTAMP:20260422T152938
CREATED:20211014T152358Z
LAST-MODIFIED:20250611T171923Z
UID:10012680-1699660800-1699747199@workforce.sbcounty.gov
SUMMARY:Holiday - Veterans Day
DESCRIPTION:
URL:https://workforce.sbcounty.gov/event/holiday-2/2023-11-11/
CATEGORIES:AJCC - East Valley,AJCC - High Desert,AJCC - West Valley,Job Seeker Workshops,Local & Regional Planning,WDB Meeting
ATTACH;FMTTYPE=image/jpeg:https://workforce.sbcounty.gov/wp-content/uploads/sites/104/2021/10/Office-Closed.jpg
END:VEVENT
BEGIN:VEVENT
DTSTART;VALUE=DATE:20231009
DTEND;VALUE=DATE:20231010
DTSTAMP:20260422T152938
CREATED:20221219T182904Z
LAST-MODIFIED:20250611T172600Z
UID:10019019-1696809600-1696895999@workforce.sbcounty.gov
SUMMARY:Holiday - Columbus Day
DESCRIPTION:
URL:https://workforce.sbcounty.gov/event/holiday-columbus-day/2023-10-09/
CATEGORIES:AJCC - East Valley,AJCC - High Desert,AJCC - West Valley,Job Seeker Workshops,Local & Regional Planning,WDB Meeting
ATTACH;FMTTYPE=image/jpeg:https://workforce.sbcounty.gov/wp-content/uploads/sites/104/2021/10/Office-Closed.jpg
END:VEVENT
BEGIN:VEVENT
DTSTART;TZID=America/Los_Angeles:20230904T080000
DTEND;TZID=America/Los_Angeles:20230904T170000
DTSTAMP:20260422T152938
CREATED:20221219T182752Z
LAST-MODIFIED:20250611T172733Z
UID:10019001-1693814400-1693846800@workforce.sbcounty.gov
SUMMARY:Holiday - Labor Day
DESCRIPTION:
URL:https://workforce.sbcounty.gov/event/holiday-labor-day/2023-09-04/
CATEGORIES:AJCC - East Valley,AJCC - High Desert,AJCC - West Valley,Job Seeker Workshops,Local & Regional Planning,WDB Meeting
ATTACH;FMTTYPE=image/jpeg:https://workforce.sbcounty.gov/wp-content/uploads/sites/104/2021/10/Office-Closed.jpg
END:VEVENT
BEGIN:VEVENT
DTSTART;VALUE=DATE:20230704
DTEND;VALUE=DATE:20230705
DTSTAMP:20260422T152938
CREATED:20221219T182618Z
LAST-MODIFIED:20250611T172640Z
UID:10018983-1688428800-1688515199@workforce.sbcounty.gov
SUMMARY:Holiday - Independence Day
DESCRIPTION:
URL:https://workforce.sbcounty.gov/event/holiday-independence-day/2023-07-04/
CATEGORIES:AJCC - East Valley,AJCC - High Desert,AJCC - West Valley,Job Seeker Workshops,Local & Regional Planning,WDB Meeting
ATTACH;FMTTYPE=image/jpeg:https://workforce.sbcounty.gov/wp-content/uploads/sites/104/2021/10/Office-Closed.jpg
END:VEVENT
BEGIN:VEVENT
DTSTART;VALUE=DATE:20230619
DTEND;VALUE=DATE:20230620
DTSTAMP:20260422T152938
CREATED:20221219T182509Z
LAST-MODIFIED:20240605T234210Z
UID:10018965-1687132800-1687219199@workforce.sbcounty.gov
SUMMARY:Holiday - Juneteenth
DESCRIPTION:
URL:https://workforce.sbcounty.gov/event/holiday-juneteenth/
CATEGORIES:AJCC - East Valley,AJCC - High Desert,AJCC - West Valley,Job Seeker Workshops,Local & Regional Planning,WDB Meeting
END:VEVENT
BEGIN:VEVENT
DTSTART;VALUE=DATE:20230529
DTEND;VALUE=DATE:20230530
DTSTAMP:20260422T152938
CREATED:20221219T182404Z
LAST-MODIFIED:20250611T172822Z
UID:10018947-1685318400-1685404799@workforce.sbcounty.gov
SUMMARY:Holiday - Memorial Day
DESCRIPTION:
URL:https://workforce.sbcounty.gov/event/holiday-memorial-day/2023-05-29/
CATEGORIES:AJCC - East Valley,AJCC - High Desert,AJCC - West Valley,Job Seeker Workshops,Local & Regional Planning,WDB Meeting
ATTACH;FMTTYPE=image/jpeg:https://workforce.sbcounty.gov/wp-content/uploads/sites/104/2021/10/Office-Closed.jpg
END:VEVENT
BEGIN:VEVENT
DTSTART;VALUE=DATE:20230220
DTEND;VALUE=DATE:20230221
DTSTAMP:20260422T152938
CREATED:20221219T182233Z
LAST-MODIFIED:20250611T172851Z
UID:10018926-1676851200-1676937599@workforce.sbcounty.gov
SUMMARY:Holiday - Presidents Day
DESCRIPTION:
URL:https://workforce.sbcounty.gov/event/holiday-presidents-day/2023-02-20/
CATEGORIES:AJCC - East Valley,AJCC - High Desert,AJCC - West Valley,Job Seeker Workshops,Local & Regional Planning,WDB Meeting
ATTACH;FMTTYPE=image/jpeg:https://workforce.sbcounty.gov/wp-content/uploads/sites/104/2021/10/Office-Closed.jpg
END:VEVENT
BEGIN:VEVENT
DTSTART;VALUE=DATE:20230116
DTEND;VALUE=DATE:20230117
DTSTAMP:20260422T152938
CREATED:20221219T182055Z
LAST-MODIFIED:20250611T172757Z
UID:10018905-1673827200-1673913599@workforce.sbcounty.gov
SUMMARY:Holiday - Martin Luther King\, Jr.
DESCRIPTION:
URL:https://workforce.sbcounty.gov/event/holiday-martin-luther-king-jr/2023-01-16/
CATEGORIES:AJCC - East Valley,AJCC - High Desert,AJCC - West Valley,Job Seeker Workshops,Local & Regional Planning,WDB Meeting
ATTACH;FMTTYPE=image/jpeg:https://workforce.sbcounty.gov/wp-content/uploads/sites/104/2021/10/Office-Closed.jpg
END:VEVENT
BEGIN:VEVENT
DTSTART;VALUE=DATE:20221230
DTEND;VALUE=DATE:20230103
DTSTAMP:20260422T152938
CREATED:20221219T181338Z
LAST-MODIFIED:20240605T234357Z
UID:10018884-1672358400-1672703999@workforce.sbcounty.gov
SUMMARY:Holiday - New Years
DESCRIPTION:
URL:https://workforce.sbcounty.gov/event/holiday-new-years/2022-12-30/
CATEGORIES:AJCC - East Valley,AJCC - High Desert,AJCC - West Valley,Job Seeker Workshops,Local & Regional Planning,WDB Meeting
END:VEVENT
BEGIN:VEVENT
DTSTART;VALUE=DATE:20221223
DTEND;VALUE=DATE:20221227
DTSTAMP:20260422T152938
CREATED:20220730T001415Z
LAST-MODIFIED:20240605T234405Z
UID:10012938-1671753600-1672099199@workforce.sbcounty.gov
SUMMARY:Holiday - Christmas
DESCRIPTION:
URL:https://workforce.sbcounty.gov/event/holiday-christmas/2022-12-23/
CATEGORIES:AJCC - East Valley,AJCC - High Desert,AJCC - West Valley,Job Seeker Workshops,Local & Regional Planning,WDB Meeting
END:VEVENT
BEGIN:VEVENT
DTSTART;VALUE=DATE:20221124
DTEND;VALUE=DATE:20221126
DTSTAMP:20260422T152938
CREATED:20221219T184801Z
LAST-MODIFIED:20250611T171823Z
UID:10019037-1669248000-1669420799@workforce.sbcounty.gov
SUMMARY:Holiday - Thanksgiving
DESCRIPTION:
URL:https://workforce.sbcounty.gov/event/holiday-thanksgiving/2022-11-24/
CATEGORIES:AJCC - East Valley,AJCC - High Desert,AJCC - West Valley,Job Seeker Workshops,Local & Regional Planning,WDB Meeting
ATTACH;FMTTYPE=image/jpeg:https://workforce.sbcounty.gov/wp-content/uploads/sites/104/2021/10/Office-Closed.jpg
END:VEVENT
BEGIN:VEVENT
DTSTART;VALUE=DATE:20221111
DTEND;VALUE=DATE:20221112
DTSTAMP:20260422T152938
CREATED:20211014T152358Z
LAST-MODIFIED:20250611T171923Z
UID:10012677-1668124800-1668211199@workforce.sbcounty.gov
SUMMARY:Holiday - Veterans Day
DESCRIPTION:
URL:https://workforce.sbcounty.gov/event/holiday-2/2022-11-11/
CATEGORIES:AJCC - East Valley,AJCC - High Desert,AJCC - West Valley,Job Seeker Workshops,Local & Regional Planning,WDB Meeting
ATTACH;FMTTYPE=image/jpeg:https://workforce.sbcounty.gov/wp-content/uploads/sites/104/2021/10/Office-Closed.jpg
END:VEVENT
BEGIN:VEVENT
DTSTART;TZID=America/Los_Angeles:20221018T140000
DTEND;TZID=America/Los_Angeles:20221018T160000
DTSTAMP:20260422T152938
CREATED:20220913T182811Z
LAST-MODIFIED:20220913T182811Z
UID:10018833-1666101600-1666108800@workforce.sbcounty.gov
SUMMARY:2022 Regional/Local Planning Meeting
DESCRIPTION:We want to hear from you! We need your feedback about good jobs and equity here in the Inland Empire as we craft our next regional and local plans. \nJoin us for a discussion on Workforce planning for the next two years. \nWe will hold (2) Zoom sessions.  Please register for one session by clicking the link to the flyer and then choose your session. \nRegional/Local Planning Meeting 2022 Flyer
URL:https://workforce.sbcounty.gov/event/2022-regional-local-planning-meeting/2022-10-18/2/
LOCATION:Via Zoom Conference Call
CATEGORIES:Local & Regional Planning
END:VEVENT
BEGIN:VEVENT
DTSTART;TZID=America/Los_Angeles:20221018T090000
DTEND;TZID=America/Los_Angeles:20221018T110000
DTSTAMP:20260422T152938
CREATED:20220913T182811Z
LAST-MODIFIED:20220913T182811Z
UID:10018830-1666083600-1666090800@workforce.sbcounty.gov
SUMMARY:2022 Regional/Local Planning Meeting
DESCRIPTION:We want to hear from you! We need your feedback about good jobs and equity here in the Inland Empire as we craft our next regional and local plans. \nJoin us for a discussion on Workforce planning for the next two years. \nWe will hold (2) Zoom sessions.  Please register for one session by clicking the link to the flyer and then choose your session. \nRegional/Local Planning Meeting 2022 Flyer
URL:https://workforce.sbcounty.gov/event/2022-regional-local-planning-meeting/2022-10-18/1/
LOCATION:Via Zoom Conference Call
CATEGORIES:Local & Regional Planning
END:VEVENT
BEGIN:VEVENT
DTSTART;VALUE=DATE:20211111
DTEND;VALUE=DATE:20211112
DTSTAMP:20260422T152938
CREATED:20211014T152358Z
LAST-MODIFIED:20250611T171923Z
UID:10012674-1636588800-1636675199@workforce.sbcounty.gov
SUMMARY:Holiday - Veterans Day
DESCRIPTION:
URL:https://workforce.sbcounty.gov/event/holiday-2/2021-11-11/
CATEGORIES:AJCC - East Valley,AJCC - High Desert,AJCC - West Valley,Job Seeker Workshops,Local & Regional Planning,WDB Meeting
ATTACH;FMTTYPE=image/jpeg:https://workforce.sbcounty.gov/wp-content/uploads/sites/104/2021/10/Office-Closed.jpg
END:VEVENT
BEGIN:VEVENT
DTSTART;TZID=America/Denver:20181108T130000
DTEND;TZID=America/Denver:20181108T170000
DTSTAMP:20260422T152938
CREATED:20181024T173534Z
LAST-MODIFIED:20181024T173534Z
UID:10011897-1541682000-1541696400@workforce.sbcounty.gov
SUMMARY:Regional Planning Meeting
DESCRIPTION:
URL:https://workforce.sbcounty.gov/event/regional-planning-meeting/
LOCATION:Bourns Technology Center\, 1200 Columbia Ave\, Riverside\, CA\, 92507\, United States
CATEGORIES:Local & Regional Planning
END:VEVENT
BEGIN:VEVENT
DTSTART;TZID=America/Denver:20181016T080000
DTEND;TZID=America/Denver:20181016T170000
DTSTAMP:20260422T152938
CREATED:20181001T150300Z
LAST-MODIFIED:20181001T150300Z
UID:10011663-1539676800-1539709200@workforce.sbcounty.gov
SUMMARY:2018 Local Workforce Plan Modification Meeting
DESCRIPTION:2018 Local Workforce Plan Modification Meeting
URL:https://workforce.sbcounty.gov/event/2018-local-workforce-plan-modification-meeting/
LOCATION:WDD Administration Office\, 290 N D Street\, Suite 600\, San Bernardino\, CA\, 92415\, United States
CATEGORIES:Local & Regional Planning
GEO:34.104158;-117.2922462
X-APPLE-STRUCTURED-LOCATION;VALUE=URI;X-ADDRESS=WDD Administration Office 290 N D Street Suite 600 San Bernardino CA 92415 United States;X-APPLE-RADIUS=500;X-TITLE=290 N D Street\, Suite 600:geo:-117.2922462,34.104158
END:VEVENT
END:VCALENDAR