BEGIN:VCALENDAR
VERSION:2.0
PRODID:-//Workforce Development - ECPv6.15.14//NONSGML v1.0//EN
CALSCALE:GREGORIAN
METHOD:PUBLISH
X-ORIGINAL-URL:https://workforce.sbcounty.gov
X-WR-CALDESC:Events for Workforce Development
REFRESH-INTERVAL;VALUE=DURATION:PT1H
X-Robots-Tag:noindex
X-PUBLISHED-TTL:PT1H
BEGIN:VTIMEZONE
TZID:America/Denver
BEGIN:DAYLIGHT
TZOFFSETFROM:-0700
TZOFFSETTO:-0600
TZNAME:MDT
DTSTART:20220313T090000
END:DAYLIGHT
BEGIN:STANDARD
TZOFFSETFROM:-0600
TZOFFSETTO:-0700
TZNAME:MST
DTSTART:20221106T080000
END:STANDARD
BEGIN:DAYLIGHT
TZOFFSETFROM:-0700
TZOFFSETTO:-0600
TZNAME:MDT
DTSTART:20230312T090000
END:DAYLIGHT
BEGIN:STANDARD
TZOFFSETFROM:-0600
TZOFFSETTO:-0700
TZNAME:MST
DTSTART:20231105T080000
END:STANDARD
BEGIN:DAYLIGHT
TZOFFSETFROM:-0700
TZOFFSETTO:-0600
TZNAME:MDT
DTSTART:20240310T090000
END:DAYLIGHT
BEGIN:STANDARD
TZOFFSETFROM:-0600
TZOFFSETTO:-0700
TZNAME:MST
DTSTART:20241103T080000
END:STANDARD
END:VTIMEZONE
BEGIN:VTIMEZONE
TZID:America/Los_Angeles
BEGIN:DAYLIGHT
TZOFFSETFROM:-0800
TZOFFSETTO:-0700
TZNAME:PDT
DTSTART:20220313T100000
END:DAYLIGHT
BEGIN:STANDARD
TZOFFSETFROM:-0700
TZOFFSETTO:-0800
TZNAME:PST
DTSTART:20221106T090000
END:STANDARD
BEGIN:DAYLIGHT
TZOFFSETFROM:-0800
TZOFFSETTO:-0700
TZNAME:PDT
DTSTART:20230312T100000
END:DAYLIGHT
BEGIN:STANDARD
TZOFFSETFROM:-0700
TZOFFSETTO:-0800
TZNAME:PST
DTSTART:20231105T090000
END:STANDARD
BEGIN:DAYLIGHT
TZOFFSETFROM:-0800
TZOFFSETTO:-0700
TZNAME:PDT
DTSTART:20240310T100000
END:DAYLIGHT
BEGIN:STANDARD
TZOFFSETFROM:-0700
TZOFFSETTO:-0800
TZNAME:PST
DTSTART:20241103T090000
END:STANDARD
END:VTIMEZONE
BEGIN:VEVENT
DTSTART;TZID=America/Denver:20231108T100000
DTEND;TZID=America/Denver:20231108T120000
DTSTAMP:20260420T222112
CREATED:20201031T033303Z
LAST-MODIFIED:20240403T155408Z
UID:10016922-1699437600-1699444800@workforce.sbcounty.gov
SUMMARY:Resume Workshop
DESCRIPTION:This workshop covers the purpose of a resume\, what recruiters want to see\, how to create an updated resume for the current workforce\, and types of resumes.  This workshop is available every Wednesday.\nTo register:  Resume Workshop Webinar Link
URL:https://workforce.sbcounty.gov/event/ajcc-virtual-resume-workshop-2022-08-03/2023-11-08/
LOCATION:Via Zoom Conference Call
CATEGORIES:AJCC - East Valley,AJCC - High Desert,AJCC - West Valley,Job Seeker Workshops
ATTACH;FMTTYPE=image/jpeg:https://workforce.sbcounty.gov/wp-content/uploads/sites/104/2020/10/ISS_10434_00192-1.jpg
END:VEVENT
BEGIN:VEVENT
DTSTART;TZID=America/Los_Angeles:20231108T123000
DTEND;TZID=America/Los_Angeles:20231108T143000
DTSTAMP:20260420T222112
CREATED:20230113T183719Z
LAST-MODIFIED:20230927T231308Z
UID:10013148-1699446600-1699453800@workforce.sbcounty.gov
SUMMARY:WDB General Board Meeting
DESCRIPTION:
URL:https://workforce.sbcounty.gov/event/wdb-general-board-meeting-14-2023-11-08/
LOCATION:WDD Administration Office\, 290 N D Street\, Suite 600\, San Bernardino\, CA\, 92415\, United States
CATEGORIES:WDB Meeting
GEO:34.104158;-117.2922462
X-APPLE-STRUCTURED-LOCATION;VALUE=URI;X-ADDRESS=WDD Administration Office 290 N D Street Suite 600 San Bernardino CA 92415 United States;X-APPLE-RADIUS=500;X-TITLE=290 N D Street\, Suite 600:geo:-117.2922462,34.104158
END:VEVENT
END:VCALENDAR