BEGIN:VCALENDAR
VERSION:2.0
PRODID:-//Workforce Development - ECPv6.15.14//NONSGML v1.0//EN
CALSCALE:GREGORIAN
METHOD:PUBLISH
X-WR-CALNAME:Workforce Development
X-ORIGINAL-URL:https://workforce.sbcounty.gov
X-WR-CALDESC:Events for Workforce Development
REFRESH-INTERVAL;VALUE=DURATION:PT1H
X-Robots-Tag:noindex
X-PUBLISHED-TTL:PT1H
BEGIN:VTIMEZONE
TZID:UTC
BEGIN:STANDARD
TZOFFSETFROM:+0000
TZOFFSETTO:+0000
TZNAME:UTC
DTSTART:20220101T000000
END:STANDARD
END:VTIMEZONE
BEGIN:VTIMEZONE
TZID:America/Denver
BEGIN:DAYLIGHT
TZOFFSETFROM:-0700
TZOFFSETTO:-0600
TZNAME:MDT
DTSTART:20220313T090000
END:DAYLIGHT
BEGIN:STANDARD
TZOFFSETFROM:-0600
TZOFFSETTO:-0700
TZNAME:MST
DTSTART:20221106T080000
END:STANDARD
BEGIN:DAYLIGHT
TZOFFSETFROM:-0700
TZOFFSETTO:-0600
TZNAME:MDT
DTSTART:20230312T090000
END:DAYLIGHT
BEGIN:STANDARD
TZOFFSETFROM:-0600
TZOFFSETTO:-0700
TZNAME:MST
DTSTART:20231105T080000
END:STANDARD
BEGIN:DAYLIGHT
TZOFFSETFROM:-0700
TZOFFSETTO:-0600
TZNAME:MDT
DTSTART:20240310T090000
END:DAYLIGHT
BEGIN:STANDARD
TZOFFSETFROM:-0600
TZOFFSETTO:-0700
TZNAME:MST
DTSTART:20241103T080000
END:STANDARD
END:VTIMEZONE
BEGIN:VEVENT
DTSTART;TZID=UTC:20231101T100000
DTEND;TZID=UTC:20231101T110000
DTSTAMP:20260420T232403
CREATED:20231014T012449Z
LAST-MODIFIED:20231014T012449Z
UID:10019241-1698832800-1698836400@workforce.sbcounty.gov
SUMMARY:Succession Planning Business Workshop
DESCRIPTION:Learn how to effectively plan who will take over your business when the time comes.\n\nTo Register:  Succession Planning Registration Link
URL:https://workforce.sbcounty.gov/event/succession-planning-business-workshop/
LOCATION:Via Zoom Conference Call
CATEGORIES:Employer Workshops,Recruitments/Job Fairs
ATTACH;FMTTYPE=image/jpeg:https://workforce.sbcounty.gov/wp-content/uploads/sites/104/2023/10/AdobeStock_335043309-scaled.jpeg
END:VEVENT
BEGIN:VEVENT
DTSTART;TZID=America/Denver:20231101T100000
DTEND;TZID=America/Denver:20231101T120000
DTSTAMP:20260420T232403
CREATED:20201031T033303Z
LAST-MODIFIED:20240403T155408Z
UID:10016919-1698832800-1698840000@workforce.sbcounty.gov
SUMMARY:Resume Workshop
DESCRIPTION:This workshop covers the purpose of a resume\, what recruiters want to see\, how to create an updated resume for the current workforce\, and types of resumes.  This workshop is available every Wednesday.\nTo register:  Resume Workshop Webinar Link
URL:https://workforce.sbcounty.gov/event/ajcc-virtual-resume-workshop-2022-08-03/2023-11-01/
LOCATION:Via Zoom Conference Call
CATEGORIES:AJCC - East Valley,AJCC - High Desert,AJCC - West Valley,Job Seeker Workshops
ATTACH;FMTTYPE=image/jpeg:https://workforce.sbcounty.gov/wp-content/uploads/sites/104/2020/10/ISS_10434_00192-1.jpg
END:VEVENT
END:VCALENDAR