BEGIN:VCALENDAR
VERSION:2.0
PRODID:-//Workforce Development - ECPv6.15.14//NONSGML v1.0//EN
CALSCALE:GREGORIAN
METHOD:PUBLISH
X-WR-CALNAME:Workforce Development
X-ORIGINAL-URL:https://workforce.sbcounty.gov
X-WR-CALDESC:Events for Workforce Development
REFRESH-INTERVAL;VALUE=DURATION:PT1H
X-Robots-Tag:noindex
X-PUBLISHED-TTL:PT1H
BEGIN:VTIMEZONE
TZID:UTC
BEGIN:STANDARD
TZOFFSETFROM:+0000
TZOFFSETTO:+0000
TZNAME:UTC
DTSTART:20220101T000000
END:STANDARD
END:VTIMEZONE
BEGIN:VTIMEZONE
TZID:America/Denver
BEGIN:DAYLIGHT
TZOFFSETFROM:-0700
TZOFFSETTO:-0600
TZNAME:MDT
DTSTART:20220313T090000
END:DAYLIGHT
BEGIN:STANDARD
TZOFFSETFROM:-0600
TZOFFSETTO:-0700
TZNAME:MST
DTSTART:20221106T080000
END:STANDARD
BEGIN:DAYLIGHT
TZOFFSETFROM:-0700
TZOFFSETTO:-0600
TZNAME:MDT
DTSTART:20230312T090000
END:DAYLIGHT
BEGIN:STANDARD
TZOFFSETFROM:-0600
TZOFFSETTO:-0700
TZNAME:MST
DTSTART:20231105T080000
END:STANDARD
BEGIN:DAYLIGHT
TZOFFSETFROM:-0700
TZOFFSETTO:-0600
TZNAME:MDT
DTSTART:20240310T090000
END:DAYLIGHT
BEGIN:STANDARD
TZOFFSETFROM:-0600
TZOFFSETTO:-0700
TZNAME:MST
DTSTART:20241103T080000
END:STANDARD
END:VTIMEZONE
BEGIN:VEVENT
DTSTART;TZID=UTC:20231004T100000
DTEND;TZID=UTC:20231004T110000
DTSTAMP:20260420T232404
CREATED:20230816T051316Z
LAST-MODIFIED:20230816T051413Z
UID:10019235-1696413600-1696417200@workforce.sbcounty.gov
SUMMARY:Harmony Across Generations: Inclusivity in the Workplace
DESCRIPTION:​Did you know we currently have 5 generations in the workplace? Work\, communication and preferences are all influenced by the a person’s generation. Each generation in your company has a difference in the way they work\, think and how they perform their work. These differences can lead to difficulties and conflicts within your work teams. It can also be an opportunity to build a better team that uses the strengths of each generation to that bring the best out of each person. This training will help you bridge the generation gap! Topics include: \n• What are the generations in the workplace\n• Identify each generations work style\n• How to avoid workplace misunderstanding & conflicts between generations\n• Develop strategies to overcome gap issues\n• Identify recruiting & retention strategies that work for each generation \n\nTo Register:  Inclusivity in the Workplace Registration Link
URL:https://workforce.sbcounty.gov/event/harmony-across-generations-inclusivity-in-the-workplace/
LOCATION:Via Zoom Conference Call
CATEGORIES:Employer Workshops,Recruitments/Job Fairs
ATTACH;FMTTYPE=image/jpeg:https://workforce.sbcounty.gov/wp-content/uploads/sites/104/2023/08/ISS_19382_06550.jpg
END:VEVENT
BEGIN:VEVENT
DTSTART;TZID=America/Denver:20231004T100000
DTEND;TZID=America/Denver:20231004T120000
DTSTAMP:20260420T232404
CREATED:20201031T033303Z
LAST-MODIFIED:20240403T155408Z
UID:10016907-1696413600-1696420800@workforce.sbcounty.gov
SUMMARY:Resume Workshop
DESCRIPTION:This workshop covers the purpose of a resume\, what recruiters want to see\, how to create an updated resume for the current workforce\, and types of resumes.  This workshop is available every Wednesday.\nTo register:  Resume Workshop Webinar Link
URL:https://workforce.sbcounty.gov/event/ajcc-virtual-resume-workshop-2022-08-03/2023-10-04/
LOCATION:Via Zoom Conference Call
CATEGORIES:AJCC - East Valley,AJCC - High Desert,AJCC - West Valley,Job Seeker Workshops
ATTACH;FMTTYPE=image/jpeg:https://workforce.sbcounty.gov/wp-content/uploads/sites/104/2020/10/ISS_10434_00192-1.jpg
END:VEVENT
END:VCALENDAR