BEGIN:VCALENDAR
VERSION:2.0
PRODID:-//Workforce Development - ECPv6.15.14//NONSGML v1.0//EN
CALSCALE:GREGORIAN
METHOD:PUBLISH
X-ORIGINAL-URL:https://workforce.sbcounty.gov
X-WR-CALDESC:Events for Workforce Development
REFRESH-INTERVAL;VALUE=DURATION:PT1H
X-Robots-Tag:noindex
X-PUBLISHED-TTL:PT1H
BEGIN:VTIMEZONE
TZID:America/Los_Angeles
BEGIN:DAYLIGHT
TZOFFSETFROM:-0800
TZOFFSETTO:-0700
TZNAME:PDT
DTSTART:20210314T100000
END:DAYLIGHT
BEGIN:STANDARD
TZOFFSETFROM:-0700
TZOFFSETTO:-0800
TZNAME:PST
DTSTART:20211107T090000
END:STANDARD
BEGIN:DAYLIGHT
TZOFFSETFROM:-0800
TZOFFSETTO:-0700
TZNAME:PDT
DTSTART:20220313T100000
END:DAYLIGHT
BEGIN:STANDARD
TZOFFSETFROM:-0700
TZOFFSETTO:-0800
TZNAME:PST
DTSTART:20221106T090000
END:STANDARD
BEGIN:DAYLIGHT
TZOFFSETFROM:-0800
TZOFFSETTO:-0700
TZNAME:PDT
DTSTART:20230312T100000
END:DAYLIGHT
BEGIN:STANDARD
TZOFFSETFROM:-0700
TZOFFSETTO:-0800
TZNAME:PST
DTSTART:20231105T090000
END:STANDARD
END:VTIMEZONE
BEGIN:VEVENT
DTSTART;TZID=America/Los_Angeles:20221215T100000
DTEND;TZID=America/Los_Angeles:20221215T113000
DTSTAMP:20260425T062031
CREATED:20221026T171555Z
LAST-MODIFIED:20221026T171555Z
UID:10018842-1671098400-1671103800@workforce.sbcounty.gov
SUMMARY:Harassment Prevention Training for Employees
DESCRIPTION:This course is a 1-hour instructor-led session where employees will engage in discussions on all forms of sexual harassment (verbal\, visual\, and physical). Other types of prohibited harassment\, discrimination\, retaliation\, and abusive conduct will also be covered in an interactive format.\nRegistration Link
URL:https://workforce.sbcounty.gov/event/harassment-prevention-training-for-employees/
LOCATION:Via Zoom Conference Call
CATEGORIES:Employer Workshops
END:VEVENT
END:VCALENDAR