BEGIN:VCALENDAR
VERSION:2.0
PRODID:-//Workforce Development - ECPv6.15.14//NONSGML v1.0//EN
CALSCALE:GREGORIAN
METHOD:PUBLISH
X-ORIGINAL-URL:https://workforce.sbcounty.gov
X-WR-CALDESC:Events for Workforce Development
REFRESH-INTERVAL;VALUE=DURATION:PT1H
X-Robots-Tag:noindex
X-PUBLISHED-TTL:PT1H
BEGIN:VTIMEZONE
TZID:America/Denver
BEGIN:DAYLIGHT
TZOFFSETFROM:-0700
TZOFFSETTO:-0600
TZNAME:MDT
DTSTART:20190310T090000
END:DAYLIGHT
BEGIN:STANDARD
TZOFFSETFROM:-0600
TZOFFSETTO:-0700
TZNAME:MST
DTSTART:20191103T080000
END:STANDARD
BEGIN:DAYLIGHT
TZOFFSETFROM:-0700
TZOFFSETTO:-0600
TZNAME:MDT
DTSTART:20200308T090000
END:DAYLIGHT
BEGIN:STANDARD
TZOFFSETFROM:-0600
TZOFFSETTO:-0700
TZNAME:MST
DTSTART:20201101T080000
END:STANDARD
BEGIN:DAYLIGHT
TZOFFSETFROM:-0700
TZOFFSETTO:-0600
TZNAME:MDT
DTSTART:20210314T090000
END:DAYLIGHT
BEGIN:STANDARD
TZOFFSETFROM:-0600
TZOFFSETTO:-0700
TZNAME:MST
DTSTART:20211107T080000
END:STANDARD
END:VTIMEZONE
BEGIN:VEVENT
DTSTART;TZID=America/Denver:20200318T080000
DTEND;TZID=America/Denver:20200318T093000
DTSTAMP:20260421T140041
CREATED:20190517T203155Z
LAST-MODIFIED:20190517T203155Z
UID:10013208-1584518400-1584523800@workforce.sbcounty.gov
SUMMARY:WDB Executive Board Meeting
DESCRIPTION:*Meeting Dates/Times subject to change \nFor agendas: See the Board Agendas & Minutes Page – 72 hours before the meeting
URL:https://workforce.sbcounty.gov/event/wdb-executive-board-meeting-7-2019-07-10/2020-03-18/
LOCATION:WDD Administration Office\, 290 N D Street\, Suite 600\, San Bernardino\, CA\, 92415\, United States
CATEGORIES:WDB Meeting
GEO:34.104158;-117.2922462
X-APPLE-STRUCTURED-LOCATION;VALUE=URI;X-ADDRESS=WDD Administration Office 290 N D Street Suite 600 San Bernardino CA 92415 United States;X-APPLE-RADIUS=500;X-TITLE=290 N D Street\, Suite 600:geo:-117.2922462,34.104158
END:VEVENT
BEGIN:VEVENT
DTSTART;TZID=America/Denver:20200318T090000
DTEND;TZID=America/Denver:20200318T103000
DTSTAMP:20260421T140041
CREATED:20181109T213101Z
LAST-MODIFIED:20181109T213101Z
UID:10010958-1584522000-1584527400@workforce.sbcounty.gov
SUMMARY:WDB Special Populations Committee Meeting
DESCRIPTION:*Meeting Dates/Times subject to change \nFor agendas: See the Board Agendas & Minutes Page – 72 hours before the meeting
URL:https://workforce.sbcounty.gov/event/wdb-special-populations-committee-meeting-4-2019-05-22/2020-03-18/
LOCATION:WDD Administration Office\, 290 N D Street\, Suite 600\, San Bernardino\, CA\, 92415\, United States
CATEGORIES:WDB Meeting
GEO:34.104158;-117.2922462
X-APPLE-STRUCTURED-LOCATION;VALUE=URI;X-ADDRESS=WDD Administration Office 290 N D Street Suite 600 San Bernardino CA 92415 United States;X-APPLE-RADIUS=500;X-TITLE=290 N D Street\, Suite 600:geo:-117.2922462,34.104158
END:VEVENT
BEGIN:VEVENT
DTSTART;TZID=America/Denver:20200318T090000
DTEND;TZID=America/Denver:20200318T153000
DTSTAMP:20260421T140041
CREATED:20200227T192801Z
LAST-MODIFIED:20200227T192801Z
UID:10014036-1584522000-1584545400@workforce.sbcounty.gov
SUMMARY:Professional Edge
DESCRIPTION:See Reception to make an appointment. Please check in 15 minutes before the start of the workshop.
URL:https://workforce.sbcounty.gov/event/professional-edge-8/2020-03-18/
LOCATION:High Desert America’s Job Center\, 17310 Bear Valley Rd.\, Suite 109\, Victorville\, CA\, 92395\, United States
CATEGORIES:AJCC - High Desert,Job Seeker Workshops
GEO:34.4720748;-117.2842146
X-APPLE-STRUCTURED-LOCATION;VALUE=URI;X-ADDRESS=High Desert America’s Job Center 17310 Bear Valley Rd. Suite 109 Victorville CA 92395 United States;X-APPLE-RADIUS=500;X-TITLE=17310 Bear Valley Rd.\, Suite 109:geo:-117.2842146,34.4720748
END:VEVENT
BEGIN:VEVENT
DTSTART;TZID=America/Denver:20200318T103000
DTEND;TZID=America/Denver:20200318T120000
DTSTAMP:20260421T140041
CREATED:20181109T212006Z
LAST-MODIFIED:20181109T212006Z
UID:10010916-1584527400-1584532800@workforce.sbcounty.gov
SUMMARY:WDB Economic Development & Business Resource Committee Meeting
DESCRIPTION:*Meeting Dates/Times subject to change \nFor agendas: See the Board Agendas & Minutes Page – 72 hours before the meeting
URL:https://workforce.sbcounty.gov/event/wdb-youth-committee-meeting-3-2019-03-13-2019-07-10/2020-03-18/
LOCATION:WDD Administration Office\, 290 N D Street\, Suite 600\, San Bernardino\, CA\, 92415\, United States
CATEGORIES:WDB Meeting
GEO:34.104158;-117.2922462
X-APPLE-STRUCTURED-LOCATION;VALUE=URI;X-ADDRESS=WDD Administration Office 290 N D Street Suite 600 San Bernardino CA 92415 United States;X-APPLE-RADIUS=500;X-TITLE=290 N D Street\, Suite 600:geo:-117.2922462,34.104158
END:VEVENT
BEGIN:VEVENT
DTSTART;TZID=America/Denver:20200318T123000
DTEND;TZID=America/Denver:20200318T140000
DTSTAMP:20260421T140041
CREATED:20181109T212605Z
LAST-MODIFIED:20181109T212605Z
UID:10012188-1584534600-1584540000@workforce.sbcounty.gov
SUMMARY:WDB Youth Committee Meeting
DESCRIPTION:*Meeting Dates/Times subject to change \nFor agendas: See the Board Agendas & Minutes Page – 72 hours before the meeting
URL:https://workforce.sbcounty.gov/event/wdb-youth-committee-meeting-4-2019-05-22/2020-03-18/
LOCATION:WDD Administration Office\, 290 N D Street\, Suite 600\, San Bernardino\, CA\, 92415\, United States
CATEGORIES:WDB Meeting
GEO:34.104158;-117.2922462
X-APPLE-STRUCTURED-LOCATION;VALUE=URI;X-ADDRESS=WDD Administration Office 290 N D Street Suite 600 San Bernardino CA 92415 United States;X-APPLE-RADIUS=500;X-TITLE=290 N D Street\, Suite 600:geo:-117.2922462,34.104158
END:VEVENT
END:VCALENDAR