BEGIN:VCALENDAR
VERSION:2.0
PRODID:-//Workforce Development - ECPv6.15.14//NONSGML v1.0//EN
CALSCALE:GREGORIAN
METHOD:PUBLISH
X-WR-CALNAME:Workforce Development
X-ORIGINAL-URL:https://workforce.sbcounty.gov
X-WR-CALDESC:Events for Workforce Development
REFRESH-INTERVAL;VALUE=DURATION:PT1H
X-Robots-Tag:noindex
X-PUBLISHED-TTL:PT1H
BEGIN:VTIMEZONE
TZID:America/Denver
BEGIN:DAYLIGHT
TZOFFSETFROM:-0700
TZOFFSETTO:-0600
TZNAME:MDT
DTSTART:20230312T090000
END:DAYLIGHT
BEGIN:STANDARD
TZOFFSETFROM:-0600
TZOFFSETTO:-0700
TZNAME:MST
DTSTART:20231105T080000
END:STANDARD
BEGIN:DAYLIGHT
TZOFFSETFROM:-0700
TZOFFSETTO:-0600
TZNAME:MDT
DTSTART:20240310T090000
END:DAYLIGHT
BEGIN:STANDARD
TZOFFSETFROM:-0600
TZOFFSETTO:-0700
TZNAME:MST
DTSTART:20241103T080000
END:STANDARD
BEGIN:DAYLIGHT
TZOFFSETFROM:-0700
TZOFFSETTO:-0600
TZNAME:MDT
DTSTART:20250309T090000
END:DAYLIGHT
BEGIN:STANDARD
TZOFFSETFROM:-0600
TZOFFSETTO:-0700
TZNAME:MST
DTSTART:20251102T080000
END:STANDARD
END:VTIMEZONE
BEGIN:VEVENT
DTSTART;TZID=America/Denver:20241216T100000
DTEND;TZID=America/Denver:20241216T113000
DTSTAMP:20260420T161202
CREATED:20210126T170213Z
LAST-MODIFIED:20240730T232549Z
UID:41046-1734343200-1734348600@workforce.sbcounty.gov
SUMMARY:How to Get a Government Job
DESCRIPTION:This workshop will guide you on how to find government employment\, how to create accounts\, search for jobs and apply for jobs on various government websites.  This workshop is available every Monday. \nTo register:  How to Get a Government Job Webinar Link
URL:https://workforce.sbcounty.gov/event/how-to-get-a-government-job-2024-12-16/
LOCATION:Via Zoom Conference Call
CATEGORIES:AJCC - East Valley,AJCC - High Desert,AJCC - West Valley,Job Seeker Workshops
END:VEVENT
END:VCALENDAR