BEGIN:VCALENDAR
VERSION:2.0
PRODID:-//Workforce Development - ECPv6.15.14//NONSGML v1.0//EN
CALSCALE:GREGORIAN
METHOD:PUBLISH
X-WR-CALNAME:Workforce Development
X-ORIGINAL-URL:https://workforce.sbcounty.gov
X-WR-CALDESC:Events for Workforce Development
REFRESH-INTERVAL;VALUE=DURATION:PT1H
X-Robots-Tag:noindex
X-PUBLISHED-TTL:PT1H
BEGIN:VTIMEZONE
TZID:America/Los_Angeles
BEGIN:DAYLIGHT
TZOFFSETFROM:-0800
TZOFFSETTO:-0700
TZNAME:PDT
DTSTART:20210314T100000
END:DAYLIGHT
BEGIN:STANDARD
TZOFFSETFROM:-0700
TZOFFSETTO:-0800
TZNAME:PST
DTSTART:20211107T090000
END:STANDARD
BEGIN:DAYLIGHT
TZOFFSETFROM:-0800
TZOFFSETTO:-0700
TZNAME:PDT
DTSTART:20220313T100000
END:DAYLIGHT
BEGIN:STANDARD
TZOFFSETFROM:-0700
TZOFFSETTO:-0800
TZNAME:PST
DTSTART:20221106T090000
END:STANDARD
BEGIN:DAYLIGHT
TZOFFSETFROM:-0800
TZOFFSETTO:-0700
TZNAME:PDT
DTSTART:20230312T100000
END:DAYLIGHT
BEGIN:STANDARD
TZOFFSETFROM:-0700
TZOFFSETTO:-0800
TZNAME:PST
DTSTART:20231105T090000
END:STANDARD
END:VTIMEZONE
BEGIN:VEVENT
DTSTART;TZID=America/Los_Angeles:20220901T100000
DTEND;TZID=America/Los_Angeles:20220901T140000
DTSTAMP:20260419T231849
CREATED:20220819T211400Z
LAST-MODIFIED:20220819T211400Z
UID:32758-1662026400-1662040800@workforce.sbcounty.gov
SUMMARY:Annual Inland Center Mall Job Fair at Center Court
DESCRIPTION:Hiring event with a wide range of employers. \nRegister today and show ticket in upon arrival! \nEmployers\, please contact San Bernardino County’s East Valley office to register \nRegister here:  Registration Form
URL:https://workforce.sbcounty.gov/event/annual-inland-center-mall-job-fair-at-center-court/
LOCATION:East Valley America’s Job Center\, 500 Inland Center Drive\, Space 508\, San Bernardino\, CA\, 92408\, United States
CATEGORIES:AJCC - East Valley,Employer Workshops,Recruitments/Job Fairs
GEO:34.0729012;-117.2704045
X-APPLE-STRUCTURED-LOCATION;VALUE=URI;X-ADDRESS=East Valley America’s Job Center 500 Inland Center Drive Space 508 San Bernardino CA 92408 United States;X-APPLE-RADIUS=500;X-TITLE=500 Inland Center Drive\, Space 508:geo:-117.2704045,34.0729012
END:VEVENT
END:VCALENDAR