BEGIN:VCALENDAR
VERSION:2.0
PRODID:-//Workforce Development - ECPv6.15.14//NONSGML v1.0//EN
CALSCALE:GREGORIAN
METHOD:PUBLISH
X-WR-CALNAME:Workforce Development
X-ORIGINAL-URL:https://workforce.sbcounty.gov
X-WR-CALDESC:Events for Workforce Development
REFRESH-INTERVAL;VALUE=DURATION:PT1H
X-Robots-Tag:noindex
X-PUBLISHED-TTL:PT1H
BEGIN:VTIMEZONE
TZID:America/Los_Angeles
BEGIN:DAYLIGHT
TZOFFSETFROM:-0800
TZOFFSETTO:-0700
TZNAME:PDT
DTSTART:20240310T100000
END:DAYLIGHT
BEGIN:STANDARD
TZOFFSETFROM:-0700
TZOFFSETTO:-0800
TZNAME:PST
DTSTART:20241103T090000
END:STANDARD
BEGIN:DAYLIGHT
TZOFFSETFROM:-0800
TZOFFSETTO:-0700
TZNAME:PDT
DTSTART:20250309T100000
END:DAYLIGHT
BEGIN:STANDARD
TZOFFSETFROM:-0700
TZOFFSETTO:-0800
TZNAME:PST
DTSTART:20251102T090000
END:STANDARD
BEGIN:DAYLIGHT
TZOFFSETFROM:-0800
TZOFFSETTO:-0700
TZNAME:PDT
DTSTART:20260308T100000
END:DAYLIGHT
BEGIN:STANDARD
TZOFFSETFROM:-0700
TZOFFSETTO:-0800
TZNAME:PST
DTSTART:20261101T090000
END:STANDARD
END:VTIMEZONE
BEGIN:VEVENT
DTSTART;TZID=America/Los_Angeles:20250717T100000
DTEND;TZID=America/Los_Angeles:20250717T110000
DTSTAMP:20260423T164822
CREATED:20250522T211512Z
LAST-MODIFIED:20250611T165713Z
UID:99769-1752746400-1752750000@workforce.sbcounty.gov
SUMMARY:2025 Mid-Year Labor Law Update - Employer Workshop
DESCRIPTION:California employers continue to face new challenges in 2025. Join CEA’s HR experts for a brief\, interactive update covering key legal changes\, common HR issues\, and trending workplace topics. \nTopics include: \n\n\nNew employment laws \n\n\nTop HR Hotline concerns \n\n\nWorkplace trends \n\n\nRegister here: 2025 Mid-Year Labor Law Registration Link
URL:https://workforce.sbcounty.gov/event/2025-mid-year-labor-law-update-workshop/
LOCATION:Via Zoom Conference Call
CATEGORIES:Employer Workshops,Recruitments/Job Fairs
ATTACH;FMTTYPE=image/jpeg:https://workforce.sbcounty.gov/wp-content/uploads/sites/104/MidLaborLawUpdate-scaled.jpeg
END:VEVENT
END:VCALENDAR